{"text_format":"1","workbook":"xlsx","n_sheets":13,"sheets":["Introduction","Experimental Data","Criteria for LLLt<= 0,010","Criteria for LLLt 0,010-0,022","Criteria for LLLt 0,022-0,040","Criteria for LLLt 0,040-0,070","Criteria for LLLt 0,070-0,110","Criteria for LLLt 0,110-0,170","Criteria for LLLt 0,170-0,250","Criteria for LLLt 0,250-0,350","Criteria for LLLt 0,350-0,550","Criteria for LLLt >0,550","Calculos"],"not_rendered":{"charts":0,"images":1,"macros":1,"external_links":0,"defined_names":12,"comments":1,"pivot_tables":0},"unopened":[],"bounds":{"document_bytes":16777216,"sheet_cells":100000,"rows_first":2000,"rows_last":500,"rows_between":2000,"halvings":0,"cell_chars":16384,"cell_head_chars":4096},"cells_cut":0,"cells_raw":0,"read":"whole","date_system":"1900"}

{"sheet":"Introduction","index":0,"n_rows":15,"n_cols":6,"rows_kept":15,"cut":false,"hidden":false,"merged":[]}
[]
[]
[]
[]
[]
[]
[]
[]
[]
[]
[]
[]
[null,null,null,null,null,"METHOD TO CHECK THE COHERENCE BETWEEN"]
[null,null,null,null,null,"TRIACYLGLYCEROL COMPOSITION (1,3-R; 2-R)"]
[null,null,null,null,null,"AND FAMES COMPOSITION IN OLIVE OILS"]

{"sheet":"Experimental Data","index":1,"n_rows":39,"n_cols":14,"rows_kept":39,"cut":false,"hidden":false,"merged":[[21,4,22,5],[22,8,22,9],[22,10,22,11],[21,6,21,7],[21,8,21,9],[21,10,21,11],[22,6,22,7]]}
[]
[]
[]
[]
[]
[]
[]
[]
[]
[]
[]
[]
[null,null,null,null,"EXPERIMENTAL DATA"]
[]
[null,null,null,null,"Fill only yellow cells"]
[null,null,null,null,"Sample Code"]
[null,null,null,null,"Oil Category",null,{"$f":"IF(F17=\"\",\"\",IF(F17=\"EV\",\"Virgin Edible Olive Oil\",IF(F17=\"L\",\"Lampant Olive Oil\",IF(F17=\"R\",\"Refined Olive Oil\"))))","v":""},null,null,"LLL theor:",{"$f":"IF(N27=\"\",\"\",Calculos!D33)","v":""}]
[]
[null,null,null,null,"Area % (GLC)","C16:0","C18:0","C16:1","C18:1","C18:2","C18:3","C20:0","C20:1","Sum"]
[null,null,null,null,"FAMEs-Comp. Corr.",{"$f":"IF(F21=\"\",\"\",(100*F21)/N21)","v":""},{"$f":"IF(G21=\"\",\"\",(100*G21)/N21)","v":""},{"$f":"IF(H21=\"\",\"\",(100*H21)/N21)","v":""},{"$f":"IF(I21=\"\",\"\",(100*I21)/N21)","v":""},{"$f":"IF(J21=\"\",\"\",(100*J21)/N21)","v":""},{"$f":"IF(K21=\"\",\"\",(100*K21)/N21)","v":""},{"$f":"IF(L21=\"\",\"\",(100*L21)/N21)","v":""},{"$f":"IF(M21=\"\",\"\",(100*M21)/N21)","v":""},{"$f":"ROUND(SUM(F20:M20),0)","v":0}]
[null,null,null,null,"Introd. FAMEs-GC",null,null,null,null,null,null,null,null,{"$f":"SUM(F21:M21)","v":0}]
[null,null,null,null,{"$f":"IF(N20=0,\"\",IF(OR(N21<=98,N21>100),\"Warning! Check the Fatty acid composition\",\"\"))","v":""},null,{"$f":"IF(N20=0,\"\",IF(F21>20,\"C16:0 is too high\",\"\"))","v":""},null,{"$f":"IF(N20=0,\"\",IF(G21>5,\"C18:0 is too high\",\"\"))","v":""},null,{"$f":"IF(N20=0,\"\",IF(J21>21,\"C18:2 is too high\",\"\"))","v":""}]
[null,null,null,null,null,null,{"$f":"IF(N20=0,\"\",IF(H21>3.5,\"C16:1 is too high\",\"\"))","v":""},null,{"$f":"IF(N20=0,\"\",IF(I21<55,\"C18:1 is too low\",\"\"))","v":""},null,{"$f":"IF(N20=0,\"\",IF(K21>1,\"C18:3 is too high\",\"\"))","v":""}]
[null,null,null,null,"HPLC Experimental Data"]
[null,null,null,null,"ECN42",null,null,null,"ECN44",null,null,null,null,"ECN46"]
[null,null,null,null,"LLL","OLLn","PLnL",null,"OLL","OOLn","PLL","POLn",null,"OOL"]
[]
[]
[null,null,null,null,{"$f":"IF(F27=\"\",\"\",IF(Calculos!D33<=0.01,\"Press CTRL+a to see criteria for LLL theor. < 0,010\",\"\"))","v":""},null,null,null,{"$f":"IF(F27=\"\",\"\",IF(AND(Calculos!D33>0.11,Calculos!D33<=0.17),\"Press CTRL+l to see criteria for LLL theor. 0,110 - 0,170\",\"\"))","v":""}]
[null,null,null,null,{"$f":"IF(F27=\"\",\"\",IF(AND(Calculos!D33>0.01,Calculos!D33<=0.022),\"Press CTRL+b to see criteria for LLL theor. 0,010 - 0,022\",\"\"))","v":""},null,null,null,{"$f":"IF(F27=\"\",\"\",IF(AND(Calculos!D33>0.17,Calculos!D33<=0.25),\"Press CTRL+p to see criteria for LLL theor. 0,170 - 0,250\",\"\"))","v":""}]
[null,null,null,null,{"$f":"IF(F27=\"\",\"\",IF(AND(Calculos!D33>0.022,Calculos!D33<=0.04),\"Press CTRL+c to see criteria for LLL theor. 0,022 - 0,040\",\"\"))","v":""},null,null,null,{"$f":"IF(F27=\"\",\"\",IF(AND(Calculos!D33>0.25,Calculos!D33<=0.35),\"Press CTRL+r to see criteria for LLL theor. 0,250-0,350\",\"\"))","v":""}]
[null,null,null,null,{"$f":"IF(F27=\"\",\"\",IF(AND(Calculos!D33>0.04,Calculos!D33<=0.07),\"Press CTRL+d to see criteria for LLL theor. 0,040 - 0,070\",\"\"))","v":""},null,null,null,{"$f":"IF(F27=\"\",\"\",IF(AND(Calculos!D33>0.35,Calculos!D33<=0.55),\"Press CTRL+j to see criteria for LLL theor. 0,350-0,550\",\"\"))","v":""}]
[null,null,null,null,{"$f":"IF(F27=\"\",\"\",IF(AND(Calculos!D33>0.07,Calculos!D33<=0.11),\"Press CTRL+e to see criteria for LLL theor. 0,070 - 0,110\",\"\"))","v":""},null,null,null,{"$f":"IF(F27=\"\",\"\",IF(Calculos!D33>0.55,\"Press CTRL+k to see criteria for LLL theor. > 0,550\",\"\"))","v":""}]
[]
[]
[]
[null,null,null,null,"LLL","OLLn","PLnL",null,"OLL","OOLn","PLL","POLn",null,"OOL"]
[null,null,null,null,{"$f":"E27","v":0},{"$f":"F27","v":0},{"$f":"G27","v":0},null,{"$f":"I27","v":0},{"$f":"J27","v":0},{"$f":"K27","v":0},{"$f":"L27","v":0},null,{"$f":"N27","v":0}]
[null,null,null,null,{"$f":"IF(Calculos!D33>0.022,IF(G17=\"Virgin Edible Olive Oil\",E27+0.02,E27),E27)","v":{"$error":"#DIV/0!"}},{"$f":"IF(Calculos!D33>0.022,IF(G17=\"Virgin Edible Olive Oil\",F27,F27),F27)","v":{"$error":"#DIV/0!"}},{"$f":"IF(Calculos!D33>0.022,IF(G17=\"Virgin Edible Olive Oil\",G27,G27),G27)","v":{"$error":"#DIV/0!"}},null,{"$f":"IF(Calculos!D33>0.022,IF(G17=\"Virgin Edible Olive Oil\",I27+0.15,I27),I27)","v":{"$error":"#DIV/0!"}},{"$f":"IF(Calculos!D33>0.022,IF(G17=\"Virgin Edible Olive Oil\",J27,J27),J27)","v":{"$error":"#DIV/0!"}},{"$f":"IF(Calculos!D33>0.022,IF(G17=\"Virgin Edible Olive Oil\",K27,K27),K27)","v":{"$error":"#DIV/0!"}},{"$f":"IF(Calculos!D33>0.022,IF(G17=\"Virgin Edible Olive Oil\",L27,L27),L27)","v":{"$error":"#DIV/0!"}},null,{"$f":"IF(Calculos!D33>0.022,IF(G17=\"Virgin Edible Olive Oil\",N27+0.05,N27),N27)","v":{"$error":"#DIV/0!"}}]

{"sheet":"Criteria for LLLt<= 0,010","index":2,"n_rows":41,"n_cols":8,"rows_kept":41,"cut":false,"hidden":false,"merged":[[1,1,1,8]]}
[null,"Criteria for LLL theor. < 0,010"]
[null,"Calculation Parameters"]
[null,"Sample Code",{"$f":"IF(C6=\"\",\"\",IF('Experimental Data'!F16=\"\",\"\",'Experimental Data'!F16))","v":""},{"$f":"IF(C6=\"\",\"\",IF('Experimental Data'!G16=\"\",\"\",'Experimental Data'!G16))","v":""},{"$f":"IF(C6=\"\",\"\",IF('Experimental Data'!H16=\"\",\"\",'Experimental Data'!H16))","v":""},{"$f":"IF(C6=\"\",\"\",IF('Experimental Data'!I16=\"\",\"\",'Experimental Data'!I16))","v":""},{"$f":"IF(C6=\"\",\"\",IF('Experimental Data'!J16=\"\",\"\",'Experimental Data'!J16))","v":""},{"$f":"IF(C6=\"\",\"\",IF('Experimental Data'!K16=\"\",\"\",'Experimental Data'!K16))","v":""}]
[null,"Oil Category",{"$f":"IF(C3=\"\",\"\",IF('Experimental Data'!F17=\"\",\"\",'Experimental Data'!F17))","v":""},{"$f":"IF(C4=\"\",\"\",IF(C4=\"EV\",\"Virgin Edible Olive Oil\",IF(C4=\"L\",\"Lampant Olive Oil\",IF(C4=\"R\",\"Refined Olive Oil\"))))","v":""}]
[]
[null,"DECN42 =",{"$f":"IF('Experimental Data'!E27=\"\",\"\",IF(Calculos!D33<=0.01,Calculos!M58,\"\"))","v":""},{"$f":"IF('Experimental Data'!E27=\"\",\"\",IF(Calculos!D33<=0.01,IF(C4=\"EV\",0.2,IF(OR(C4=\"R\",C4=\"L\"),0.3,\"\")),\"\"))","v":""},{"$f":"IF(C6=\"\",\"\",IF(C6<=D6,\"Proceed to the Early Criterion\",\"Proceed to the Early Criterion\"))","v":""},null,{"$f":"IF(C6=\"\",\"\",IF(C6>D6,\"Warning, The DECN42 is too high\",\"\"))","v":""}]
[]
[null,"Early Criterion K1"]
[null,"Parameter","Value","Higher Limit","Lower Limit",{"$f":"IF(E10=\"\",\"\",IF(E6=\"Proceed to the Early Criterion\",IF(Calculos!D33<=0.01,IF(C10=\"\",\"\",IF(C10>D10,\"The oil is not coherent\",\"\")),\"\"),\"\"))","v":""}]
[null,"K1",{"$f":"IF('Experimental Data'!E27=\"\",\"\",IF(Calculos!D33<=0.01,Calculos!J24,\"\"))","v":""},{"$f":"IF(C10=\"\",\"\",IF(Calculos!D33<=0.01,IF(C10>1.35,1.5,\"\"),\"\"))","v":""},{"$f":"IF(C10=\"\",\"\",IF(Calculos!D33<=0.01,IF(C10>1.35,1.35,\"\"),\"\"))","v":""},{"$f":"IF(E10=\"\",\"\",IF(E6=\"Proceed to the Early Criterion\",IF(Calculos!D33<=0.01,IF(C10=\"\",\"\",IF(AND(C10<=D10,C10>E10),\"Proceed to the Criterion 1\",\"\")),\"\"),\"\"))","v":""}]
[null,null,null,{"$f":"IF(C10=\"\",\"\",IF(Calculos!D33<=0.01,IF(C10<=1.35,1.35,\"\"),\"\"))","v":""},{"$f":"IF(C10=\"\",\"\",IF(Calculos!D33<=0.01,IF(C10<=1.35,0.95,\"\"),\"\"))","v":""},{"$f":"IF(D11=\"\",\"\",IF(E6=\"Proceed to the Early Criterion\",IF(Calculos!D33<=0.01,IF(C10=\"\",\"\",IF(AND(C10<=1.35,C10>E11),\"Proceed to the Criterion 1\",\"\")),\"\"),\"\"))","v":""}]
[null,null,null,null,null,{"$f":"IF(D11=\"\",\"\",IF(E6=\"Proceed to the Early Criterion\",IF(Calculos!D33<=0.01,IF(C10=\"\",\"\",IF(C10<=E11,\"The oil is coherent\",\"\")),\"\"),\"\"))","v":""}]
[]
[null,"Criterion 1 DR3"]
[null,"Parameter","Value","Higher Limit","Lower Limit",{"$f":"IF(C16=\"\",\"\",IF(OR(F10=\"Proceed to the Criterion 1\",F11=\"Proceed to the Criterion 1\"),IF(Calculos!D33<=0.01,IF(E16=\"\",\"\",IF(C16>D16,\"The oil is not coherent\",\"\")),\"\"),\"\"))","v":""}]
[null,"DR3 =",{"$f":"IF('Experimental Data'!E27=\"\",\"\",IF(Calculos!D33<=0.01,Calculos!B43,\"\"))","v":""},{"$f":"IF(C16=\"\",\"\",IF(Calculos!D33<=0.01,IF(C10>1.35,0.4,\"\"),\"\"))","v":""},{"$f":"IF(C16=\"\",\"\",IF(Calculos!D33<=0.01,IF(C10>1.35,0.15,\"\"),\"\"))","v":""},{"$f":"IF(C16=\"\",\"\",IF(OR(F10=\"Proceed to the Criterion 1\",F11=\"Proceed to the Criterion 1\"),IF(Calculos!D33<=0.01,IF(E16=\"\",\"\",IF(AND(C16<=D16,C16>E16),\"Proceed to the Criterion 2\",\"\")),\"\"),\"\"))","v":""}]
[null,null,null,{"$f":"IF(C16=\"\",\"\",IF(Calculos!D33<=0.01,IF(C10<=1.35,0.4,\"\"),\"\"))","v":""},{"$f":"IF(C16=\"\",\"\",IF(Calculos!D33<=0.01,IF(C10<=1.35,0.15,\"\"),\"\"))","v":""},{"$f":"IF(C16=\"\",\"\",IF(OR(F10=\"Proceed to the Criterion 1\",F11=\"Proceed to the Criterion 1\"),IF(Calculos!D33<=0.01,IF(E16=\"\",\"\",IF(C16<=E16,\"The oil is coherent\",\"\")),\"\"),\"\"))","v":""}]
[null,null,null,null,null,{"$f":"IF(C16=\"\",\"\",IF(OR(F10=\"Proceed to the Criterion 1\",F11=\"Proceed to the Criterion 1\"),IF(Calculos!D33<=0.01,IF(E17=\"\",\"\",IF(C16>D17,\"The oil is not coherent\",\"\")),\"\"),\"\"))","v":""}]
[null,null,null,null,null,{"$f":"IF(C16=\"\",\"\",IF(OR(F10=\"Proceed to the Criterion 1\",F11=\"Proceed to the Criterion 1\"),IF(Calculos!D33<=0.01,IF(E17=\"\",\"\",IF(AND(C16<=D17,C16>E17),\"Proceed to the Criterion 2\",\"\")),\"\"),\"\"))","v":""}]
[null,null,null,null,null,{"$f":"IF(C16=\"\",\"\",IF(OR(F10=\"Proceed to the Criterion 1\",F11=\"Proceed to the Criterion 1\"),IF(Calculos!D33<=0.01,IF(E17=\"\",\"\",IF(C16<=E17,\"The oil is coherent\",\"\")),\"\"),\"\"))","v":""}]
[]
[null,"Criterion 2 R1 exp."]
[null,"Parameter","Value","Higher Limit","Lower Limit",{"$f":"IF(C24=\"\",\"\",IF(OR(F19=\"Proceed to the Criterion 2\",F16=\"Proceed to the Criterion 2\"),IF(Calculos!D33<=0.01,IF(E25=\"\",\"\",IF(C24>D25,\"The oil is not coherent\",\"\")),\"\"),\"\"))","v":""}]
[null,"R1 exp. =",{"$f":"IF('Experimental Data'!E27=\"\",\"\",IF(Calculos!D33<=0.01,Calculos!B19,\"\"))","v":""},{"$f":"IF(C24=\"\",\"\",IF(Calculos!D33<=0.01,IF(C10>1.35,0.75,\"\"),\"\"))","v":""},{"$f":"IF(C24=\"\",\"\",IF(Calculos!D33<=0.01,IF(C10>1.35,0.3,\"\"),\"\"))","v":""},{"$f":"IF(C24=\"\",\"\",IF(OR(F19=\"Proceed to the Criterion 2\",F16=\"Proceed to the Criterion 2\"),IF(Calculos!D33<=0.01,IF(E25=\"\",\"\",IF(AND(C24<=D25,C24>E25),\"Proceed to the Criterion 3\",\"\")),\"\"),\"\"))","v":""}]
[null,"DOOL =",{"$f":"IF(C24=\"\",\"\",IF('Experimental Data'!E27=\"\",\"\",IF(Calculos!D33<=0.01,ROUND(Calculos!B58,2),\"\")))","v":""},{"$f":"IF(C24=\"\",\"\",IF(Calculos!D33<=0.01,IF(C10<=1.35,IF(C25>0.5,0.75,\"\"),\"\"),\"\"))","v":""},{"$f":"IF(C24=\"\",\"\",IF(Calculos!D33<=0.01,IF(C10<=1.35,IF(C25>0.5,0.25,\"\"),\"\"),\"\"))","v":""},{"$f":"IF(C24=\"\",\"\",IF(OR(F19=\"Proceed to the Criterion 2\",F16=\"Proceed to the Criterion 2\"),IF(Calculos!D33<=0.01,IF(E25=\"\",\"\",IF(C24<=E25,\"The oil is coherent\",\"\")),\"\"),\"\"))","v":""}]
[null,null,null,{"$f":"IF(C24=\"\",\"\",IF(Calculos!D33<=0.01,IF(C10<=1.35,IF(C25<=0.5,0.7,\"\"),\"\"),\"\"))","v":""},{"$f":"IF(C24=\"\",\"\",IF(Calculos!D33<=0.01,IF(C10<=1.35,IF(C25<=0.5,0.25,\"\"),\"\"),\"\"))","v":""},{"$f":"IF(C24=\"\",\"\",IF(OR(F19=\"Proceed to the Criterion 2\",F16=\"Proceed to the Criterion 2\"),IF(Calculos!D33<=0.01,IF(E26=\"\",\"\",IF(C24>D26,\"The oil is not coherent\",\"\")),\"\"),\"\"))","v":""},null,{"$f":"IF(C24=\"\",\"\",IF(OR(F19=\"Proceed to the Criterion 2\",F16=\"Proceed to the Criterion 2\"),IF(Calculos!D33<=0.01,IF(E24=\"\",\"\",IF(C24>D24,\"The oil is not coherent\",\"\")),\"\"),\"\"))","v":""}]
[null,null,null,null,null,{"$f":"IF(C24=\"\",\"\",IF(OR(F19=\"Proceed to the Criterion 2\",F16=\"Proceed to the Criterion 2\"),IF(Calculos!D33<=0.01,IF(E26=\"\",\"\",IF(AND(C24<=D26,C24>E26),\"Proceed to the Criterion 3\",\"\")),\"\"),\"\"))","v":""},null,{"$f":"IF(C24=\"\",\"\",IF(OR(F19=\"Proceed to the Criterion 2\",F16=\"Proceed to the Criterion 2\"),IF(Calculos!D33<=0.01,IF(E24=\"\",\"\",IF(AND(C24<=D24,C24>E24),\"Proceed to the Criterion 3\",\"\")),\"\"),\"\"))","v":""}]
[null,null,null,null,null,{"$f":"IF(C24=\"\",\"\",IF(OR(F19=\"Proceed to the Criterion 2\",F16=\"Proceed to the Criterion 2\"),IF(Calculos!D33<=0.01,IF(E26=\"\",\"\",IF(C24<=E26,\"The oil is coherent\",\"\")),\"\"),\"\"))","v":""},null,{"$f":"IF(C24=\"\",\"\",IF(OR(F19=\"Proceed to the Criterion 2\",F16=\"Proceed to the Criterion 2\"),IF(Calculos!D33<=0.01,IF(E24=\"\",\"\",IF(C24<=E24,\"The oil is coherent\",\"\")),\"\"),\"\"))","v":""}]
[]
[null,"Criterion 3 L3"]
[null,"Parameter","Value","Higher Limit","Lower Limit",{"$f":"IF(C32=\"\",\"\",IF(OR(F27=\"Proceed to the Criterion 3\",F24=\"Proceed to the Criterion 3\",H27=\"Proceed to the Criterion 3\"),IF(Calculos!D33<=0.01,IF(E32=\"\",\"\",IF(C32>D32,\"The oil is not coherent\",\"\")),\"\"),\"\"))","v":""}]
[null,"L3 =",{"$f":"IF('Experimental Data'!E27=\"\",\"\",IF(Calculos!D33<=0.01,Calculos!J19,\"\"))","v":""},{"$f":"IF(C32=\"\",\"\",IF(Calculos!D33<=0.01,IF(C10>1.35,0.7,\"\"),\"\"))","v":""},{"$f":"IF(C32=\"\",\"\",IF(Calculos!D33<=0.01,IF(C10>1.35,0.25,\"\"),\"\"))","v":""},{"$f":"IF(C32=\"\",\"\",IF(OR(F27=\"Proceed to the Criterion 3\",F24=\"Proceed to the Criterion 3\",H27=\"Proceed to the Criterion 3\"),IF(Calculos!D33<=0.01,IF(E32=\"\",\"\",IF(AND(C32<=D32,C32>E32),\"Proceed to the Criterion 4\",\"\")),\"\"),\"\"))","v":""}]
[null,null,null,{"$f":"IF(C32=\"\",\"\",IF(Calculos!D33<=0.01,IF(C10<=1.35,0.7,\"\"),\"\"))","v":""},{"$f":"IF(C32=\"\",\"\",IF(Calculos!D33<=0.01,IF(C10<=1.35,0.2,\"\"),\"\"))","v":""},{"$f":"IF(C32=\"\",\"\",IF(OR(F27=\"Proceed to the Criterion 3\",F24=\"Proceed to the Criterion 3\",H27=\"Proceed to the Criterion 3\"),IF(Calculos!D33<=0.01,IF(E32=\"\",\"\",IF(C32<=E32,\"The oil is coherent\",\"\")),\"\"),\"\"))","v":""}]
[null,null,null,null,null,{"$f":"IF(C32=\"\",\"\",IF(OR(F27=\"Proceed to the Criterion 3\",F24=\"Proceed to the Criterion 3\",H27=\"Proceed to the Criterion 3\"),IF(Calculos!D33<=0.01,IF(E33=\"\",\"\",IF(C32>D33,\"The oil is not coherent\",\"\")),\"\"),\"\"))","v":""}]
[null,null,null,null,null,{"$f":"IF(C32=\"\",\"\",IF(OR(F24=\"Proceed to the Criterion 3\",F27=\"Proceed to the Criterion 3\",H27=\"Proceed to the Criterion 3\"),IF(Calculos!D33<=0.01,IF(E33=\"\",\"\",IF(AND(C32<=D33,C32>E33),\"Proceed to the Criterion 4\",\"\")),\"\"),\"\"))","v":""}]
[null,null,null,null,null,{"$f":"IF(C32=\"\",\"\",IF(OR(F27=\"Proceed to the Criterion 3\",F24=\"Proceed to the Criterion 3\",H27=\"Proceed to the Criterion 3\"),IF(Calculos!D33<=0.01,IF(E33=\"\",\"\",IF(C32<=E33,\"The oil is coherent\",\"\")),\"\"),\"\"))","v":""}]
[]
[null,"Criterion 4 DR1"]
[null,"Parameter","Value","Higher Limit",{"$f":"IF(C40=\"\",\"\",IF(OR(F35=\"Proceed to the Criterion 4\",F32=\"Proceed to the Criterion 4\"),IF(Calculos!D33<=0.01,IF(D40=\"\",\"\",IF(C40<=D40,\"The oil is coherent\",\"The oil is not coherent\")),\"\"),\"\"))","v":""}]
[null,"DR1 =",{"$f":"IF('Experimental Data'!E27=\"\",\"\",IF(Calculos!D33<=0.01,Calculos!B20,\"\"))","v":""},{"$f":"IF(C40=\"\",\"\",IF(Calculos!D33<=0.01,IF(C10>1.35,0.55,\"\"),\"\"))","v":""},{"$f":"IF(C40=\"\",\"\",IF(OR(F35=\"Proceed to the Criterion 4\",F32=\"Proceed to the Criterion 4\"),IF(Calculos!D33<=0.01,IF(D41=\"\",\"\",IF(C40<=D41,\"The oil is coherent\",\"The oil is not coherent\")),\"\"),\"\"))","v":""}]
[null,null,null,{"$f":"IF(C40=\"\",\"\",IF(Calculos!D33<=0.01,IF(C10<=1.35,0.55,\"\"),\"\"))","v":""}]

{"sheet":"Criteria for LLLt 0,010-0,022","index":3,"n_rows":47,"n_cols":8,"rows_kept":47,"cut":false,"hidden":false,"merged":[[1,1,1,8]]}
[null,"Criteria for LLL theor. 0,010 - 0,022"]
[null,"Calculation Parameters"]
[null,"Sample Code",{"$f":"IF(C6=\"\",\"\",IF('Experimental Data'!F16=\"\",\"\",'Experimental Data'!F16))","v":""},{"$f":"IF(C6=\"\",\"\",IF('Experimental Data'!G16=\"\",\"\",'Experimental Data'!G16))","v":""},{"$f":"IF(C6=\"\",\"\",IF('Experimental Data'!H16=\"\",\"\",'Experimental Data'!H16))","v":""},{"$f":"IF(C6=\"\",\"\",IF('Experimental Data'!I16=\"\",\"\",'Experimental Data'!I16))","v":""},{"$f":"IF(C6=\"\",\"\",IF('Experimental Data'!J16=\"\",\"\",'Experimental Data'!J16))","v":""},{"$f":"IF(C6=\"\",\"\",IF('Experimental Data'!K16=\"\",\"\",'Experimental Data'!K16))","v":""}]
[null,"Oil Category",{"$f":"IF(C3=\"\",\"\",IF('Experimental Data'!F17=\"\",\"\",'Experimental Data'!F17))","v":""},{"$f":"IF(C4=\"\",\"\",IF(C4=\"EV\",\"Virgin Edible Olive Oil\",IF(C4=\"L\",\"Lampant Olive Oil\",IF(C4=\"R\",\"Refined Olive Oil\"))))","v":""}]
[]
[null,"DECN42 =",{"$f":"IF('Experimental Data'!E27=\"\",\"\",IF(AND(Calculos!D33>0.01,Calculos!D33<=0.022),Calculos!M58,\"\"))","v":""},{"$f":"IF('Experimental Data'!E27=\"\",\"\",IF(AND(Calculos!D33>0.01,Calculos!D33<=0.022),IF(C4=\"EV\",0.2,IF(OR(C4=\"R\",C4=\"L\"),0.3,\"\")),\"\"))","v":""},{"$f":"IF(C6=\"\",\"\",IF(C6<=D6,\"Proceed to the Early Criterion\",\"Proceed to the Early Criterion\"))","v":""},null,{"$f":"IF(C6=\"\",\"\",IF(C6>D6,\"Warning, The DECN42 is too high\",\"\"))","v":""}]
[]
[null,"Early Criterion K1"]
[null,"Parameter","Value","Higher Limit","Lower Limit",{"$f":"IF(C10=\"\",\"\",IF(E6=\"Proceed to the Early Criterion\",IF(AND(Calculos!D33>0.01,Calculos!D33<=0.022),IF(E10=\"\",\"\",IF(C10>D10,\"The oil is not coherent\",\"\")),\"\"),\"\"))","v":""}]
[null,"K1 =",{"$f":"IF('Experimental Data'!E27=\"\",\"\",IF(AND(Calculos!D33>0.01,Calculos!D33<=0.022),Calculos!J24,\"\"))","v":""},{"$f":"IF(C10=\"\",\"\",IF(AND(Calculos!D33>0.01,Calculos!D33<=0.022),IF(C10>1.35,1.75,\"\"),\"\"))","v":""},{"$f":"IF(C10=\"\",\"\",IF(AND(Calculos!D33>0.01,Calculos!D33<=0.022),IF(C10>1.35,1.35,\"\"),\"\"))","v":""},{"$f":"IF(C10=\"\",\"\",IF(E6=\"Proceed to the Early Criterion\",IF(AND(Calculos!D33>0.01,Calculos!D33<=0.022),IF(E10=\"\",\"\",IF(AND(C10<=D10,C10>E10),\"Proceed to the Criterion 1\",\"\")),\"\"),\"\"))","v":""}]
[null,null,null,{"$f":"IF(C10=\"\",\"\",IF(AND(Calculos!D33>0.01,Calculos!D33<=0.022),IF(C10<=1.35,1.35,\"\"),\"\"))","v":""},{"$f":"IF(C10=\"\",\"\",IF(AND(Calculos!D33>0.01,Calculos!D33<=0.022),IF(C10<=1.35,0.95,\"\"),\"\"))","v":""},{"$f":"IF(C10=\"\",\"\",IF(E6=\"Proceed to the Early Criterion\",IF(AND(Calculos!D33>0.01,Calculos!D33<=0.022),IF(E11=\"\",\"\",IF(AND(C10<=D11,C10>E11),\"Proceed to the Criterion 1\",\"\")),\"\"),\"\"))","v":""}]
[null,null,null,null,null,{"$f":"IF(C10=\"\",\"\",IF(E6=\"Proceed to the Early Criterion\",IF(AND(Calculos!D33>0.01,Calculos!D33<=0.022),IF(E11=\"\",\"\",IF(C10<=E11,\"The oil is coherent\",\"\")),\"\"),\"\"))","v":""}]
[]
[null,"Criterion 1 DR3"]
[null,"Parameter","Value","Higher Limit","Lower Limit",{"$f":"IF(C16=\"\",\"\",IF(OR(F10=\"Proceed to the Criterion 1\",F11=\"Proceed to the Criterion 1\"),IF(AND(Calculos!D33>0.01,Calculos!D33<=0.022),IF(E17=\"\",\"\",IF(C16>D17,\"The oil is not coherent\",\"\"))),\"\"))","v":""}]
[null,"DR3 =",{"$f":"IF('Experimental Data'!E27=\"\",\"\",IF(AND(Calculos!D33>0.01,Calculos!D33<=0.022),Calculos!B43,\"\"))","v":""},{"$f":"IF(C10<=1.35,IF(C16=\"\",\"\",IF(AND(Calculos!D33>0.01,Calculos!D33<=0.022),IF(C10>1.3,IF(C17>2,ROUND(0.2389+(1.05173*C18)-(1.02511*C18^2)-(0.07523*C18^3),2),\"\"),\"\"),\"\")),\"\")","v":""},{"$f":"IF(C10<=1.35,IF(C16=\"\",\"\",IF(AND(Calculos!D33>0.01,Calculos!D33<=0.022),IF(C10>1.3,IF(C17>2,0.2,\"\"),\"\"),\"\")),\"\")","v":""},{"$f":"IF(C16=\"\",\"\",IF(OR(F10=\"Proceed to the Criterion 1\",F11=\"Proceed to the Criterion 1\"),IF(AND(Calculos!D33>0.01,Calculos!D33<=0.022),IF(E17=\"\",\"\",IF(AND(C16<=D17,C16>E17),\"Proceed to the Criterion 2\",\"\"))),\"\"))","v":""}]
[null,"DOOL =",{"$f":"IF(C16=\"\",\"\",IF('Experimental Data'!E27=\"\",\"\",IF(AND(Calculos!D33>0.01,Calculos!D33<=0.022),ROUND(Calculos!B58,2),\"\")))","v":""},{"$f":"IF(C10<=1.35,IF(C16=\"\",\"\",IF(AND(Calculos!D33>0.01,Calculos!D33<=0.022),IF(AND(C17>1,C17<=1.5),ROUND(0.29925+(0.8146*C18)-(0.72657*C18^2)-(0.19676*C18^3),2),\"\"),\"\")),IF(C16=\"\",\"\",IF(AND(Calculos!D33>0.01,Calculos!D33<=0.022),IF(C17>1.5,ROUND(0.19798+(0.9502*C18)-(0.71577*C18^2)-(0.08681*C18^3),2),\"\"),\"\")))","v":""},{"$f":"IF(C10<=1.35,IF(C16=\"\",\"\",IF(AND(Calculos!D33>0.01,Calculos!D33<=0.022),IF(AND(C17>1,C17<=1.5),0.15,\"\"),\"\")),IF(C16=\"\",\"\",IF(AND(Calculos!D33>0.01,Calculos!D33<=0.022),IF(C17>1.5,0.2,\"\"),\"\")))","v":""},{"$f":"IF(C16=\"\",\"\",IF(OR(F10=\"Proceed to the Criterion 1\",F11=\"Proceed to the Criterion 1\"),IF(AND(Calculos!D33>0.01,Calculos!D33<=0.022),IF(E17=\"\",\"\",IF(C16<=E17,\"The oil is coherent\",\"\"))),\"\"))","v":""}]
[null,"DECN44p =",{"$f":"IF(C16=\"\",\"\",IF('Experimental Data'!E27=\"\",\"\",IF(AND(Calculos!D33>0.01,Calculos!D33<=0.022),Calculos!B38,\"\")))","v":""},{"$f":"IF(C10<=1.35,IF(C16=\"\",\"\",IF(AND(Calculos!D33>0.01,Calculos!D33<=0.022),IF(C17<=1,ROUND(0.2421+(0.898*C18)-(0.95881*C18^2)+(0.01736*C18^3),2),\"\"),\"\")),IF(C16=\"\",\"\",IF(AND(Calculos!D33>0.01,Calculos!D33<=0.022),IF(C17<=1.5,ROUND(-0.000119+(1.52569*C18)-(0.94494*C18^2)-(0.38194*C18^3),2),\"\"),\"\")))","v":""},{"$f":"IF(C10<=1.35,IF(C16=\"\",\"\",IF(AND(Calculos!D33>0.01,Calculos!D33<=0.022),IF(C17<=1,0.1,\"\"),\"\")),IF(C16=\"\",\"\",IF(AND(Calculos!D33>0.01,Calculos!D33<=0.022),IF(C17<=1.5,0.15,\"\"),\"\")))","v":""},{"$f":"IF(C16=\"\",\"\",IF(OR(F10=\"Proceed to the Criterion 1\",F11=\"Proceed to the Criterion 1\"),IF(AND(Calculos!D33>0.01,Calculos!D33<=0.022),IF(E18=\"\",\"\",IF(C16>D18,\"The oil is not coherent\",\"\"))),\"\"))","v":""},null,{"$f":"IF(C16=\"\",\"\",IF(OR(F10=\"Proceed to the Criterion 1\",F11=\"Proceed to the Criterion 1\"),IF(AND(Calculos!D33>0.01,Calculos!D33<=0.022),IF(E16=\"\",\"\",IF(C16>D16,\"The oil is not coherent\",\"\"))),\"\"))","v":""}]
[null,null,null,null,null,{"$f":"IF(C16=\"\",\"\",IF(OR(F10=\"Proceed to the Criterion 1\",F11=\"Proceed to the Criterion 1\"),IF(AND(Calculos!D33>0.01,Calculos!D33<=0.022),IF(E18=\"\",\"\",IF(AND(C16<=D18,C16>E18),\"Proceed to the Criterion 2\",\"\"))),\"\"))","v":""},null,{"$f":"IF(C16=\"\",\"\",IF(OR(F10=\"Proceed to the Criterion 1\",F11=\"Proceed to the Criterion 1\"),IF(AND(Calculos!D33>0.01,Calculos!D33<=0.022),IF(E16=\"\",\"\",IF(AND(C16<=D16,C16>E16),\"Proceed to the Criterion 2\",\"\"))),\"\"))","v":""}]
[null,null,null,null,null,{"$f":"IF(C16=\"\",\"\",IF(OR(F10=\"Proceed to the Criterion 1\",F11=\"Proceed to the Criterion 1\"),IF(AND(Calculos!D33>0.01,Calculos!D33<=0.022),IF(E18=\"\",\"\",IF(C16<=E18,\"The oil is coherent\",\"\"))),\"\"))","v":""},null,{"$f":"IF(C16=\"\",\"\",IF(OR(F10=\"Proceed to the Criterion 1\",F11=\"Proceed to the Criterion 1\"),IF(AND(Calculos!D33>0.01,Calculos!D33<=0.022),IF(E16=\"\",\"\",IF(C16<=E16,\"The oil is coherent\",\"\"))),\"\"))","v":""}]
[]
[null,"Criterion 2 L3"]
[null,"Parameter","Value","Higher Limit","Lower Limit",{"$f":"IF(C24=\"\",\"\",IF(OR(F19=\"Proceed to the Criterion 2\",F16=\"Proceed to the Criterion 2\",H19=\"Proceed to the Criterion 2\"),IF(AND(Calculos!D33>0.01,Calculos!D33<=0.022),IF(E24=\"\",\"\",IF(C24>D24,\"The oil is not coherent\",\"\"))),\"\"))","v":""}]
[null,"L3 =",{"$f":"IF('Experimental Data'!E27=\"\",\"\",IF(AND(Calculos!D33>0.01,Calculos!D33<=0.022),Calculos!J19,\"\"))","v":""},{"$f":"IF(C10<=1.35,IF(C24=\"\",\"\",IF(AND(Calculos!D33>0.01,Calculos!D33<=0.022),IF(C10<=1.3,IF(C25>2,ROUND(0.40294+(1.31819*C26)-(0.95933*C26^2)-(0.71759*C26^3),2),\"\"),\"\"),\"\")),\"\")","v":""},{"$f":"IF(C10<=1.35,IF(C24=\"\",\"\",IF(AND(Calculos!D33>0.01,Calculos!D33<=0.022),IF(C10<=1.3,IF(C25>2,0.35,\"\"),\"\"),\"\")),\"\")","v":""},{"$f":"IF(C24=\"\",\"\",IF(OR(F19=\"Proceed to the Criterion 2\",F16=\"Proceed to the Criterion 2\",H19=\"Proceed to the Criterion 2\"),IF(AND(Calculos!D33>0.01,Calculos!D33<=0.022),IF(E24=\"\",\"\",IF(AND(C24<=D24,C24>E24),\"Proceed to the Criterion 3\",\"\"))),\"\"))","v":""}]
[null,"DOOL =",{"$f":"IF(C24=\"\",\"\",IF('Experimental Data'!E27=\"\",\"\",IF(AND(Calculos!D33>0.01,Calculos!D33<=0.022),ROUND(Calculos!B58,2),\"\")))","v":""},{"$f":"IF(C10<=1.35,IF(C24=\"\",\"\",IF(AND(Calculos!D33>0.01,Calculos!D33<=0.022),IF(AND(C25>1,C25<=2),ROUND(0.44996+(1.5314*C26)-(2.45377*C26^2)+(0.34264*C26^3),2),\"\"),\"\")),IF(C24=\"\",\"\",IF(AND(Calculos!D33>0.01,Calculos!D33<=0.022),IF(C25>1.5,ROUND(0.29898+(1.46414*C26)-(1.63487*C26^2)+(0.22484*C26^3),2),\"\"),\"\")))","v":""},{"$f":"IF(C10<=1.35,IF(C24=\"\",\"\",IF(AND(Calculos!D33>0.01,Calculos!D33<=0.022),IF(AND(C25>1,C25<=2),0.2,\"\"),\"\")),IF(C24=\"\",\"\",IF(AND(Calculos!D33>0.01,Calculos!D33<=0.022),IF(C25>1.5,0.25,\"\"),\"\")))","v":""},{"$f":"IF(C24=\"\",\"\",IF(OR(F19=\"Proceed to the Criterion 2\",F16=\"Proceed to the Criterion 2\",H19=\"Proceed to the Criterion 2\"),IF(AND(Calculos!D33>0.01,Calculos!D33<=0.022),IF(E24=\"\",\"\",IF(C24<=E24,\"The oil is coherent\",\"\"))),\"\"))","v":""}]
[null,"DECN44p =",{"$f":"IF(C24=\"\",\"\",IF('Experimental Data'!E27=\"\",\"\",IF(AND(Calculos!D33>0.01,Calculos!D33<=0.022),Calculos!B38,\"\")))","v":""},{"$f":"IF(C10<=1.35,IF(C24=\"\",\"\",IF(AND(Calculos!D33>0.01,Calculos!D33<=0.022),IF(C25<=1,ROUND(0.44996+(1.5314*C26)-(2.45377*C26^2)+(0.34264*C26^3),2),\"\"),\"\")),IF(C24=\"\",\"\",IF(AND(Calculos!D33>0.01,Calculos!D33<=0.022),IF(C25<=1.5,ROUND(0.29898+(1.46414*C26)-(1.63487*C26^2)+(0.22484*C26^3),2),\"\"),\"\")))","v":""},{"$f":"IF(C10<=1.35,IF(C24=\"\",\"\",IF(AND(Calculos!D33>0.01,Calculos!D33<=0.022),IF(C25<=1,0.1,\"\"),\"\")),IF(C24=\"\",\"\",IF(AND(Calculos!D33>0.01,Calculos!D33<=0.022),IF(C25<=1.5,0.2,\"\"),\"\")))","v":""},{"$f":"IF(C24=\"\",\"\",IF(OR(F19=\"Proceed to the Criterion 2\",F16=\"Proceed to the Criterion 2\",H19=\"Proceed to the Criterion 2\"),IF(AND(Calculos!D33>0.01,Calculos!D33<=0.022),IF(E25=\"\",\"\",IF(C24>D25,\"The oil is not coherent\",\"\"))),\"\"))","v":""}]
[null,null,null,null,null,{"$f":"IF(C24=\"\",\"\",IF(OR(F19=\"Proceed to the Criterion 2\",F16=\"Proceed to the Criterion 2\",H19=\"Proceed to the Criterion 2\"),IF(AND(Calculos!D33>0.01,Calculos!D33<=0.022),IF(E25=\"\",\"\",IF(AND(C24<=D25,C24>E25),\"Proceed to the Criterion 3\",\"\"))),\"\"))","v":""}]
[null,null,null,null,null,{"$f":"IF(C24=\"\",\"\",IF(OR(F19=\"Proceed to the Criterion 2\",F16=\"Proceed to the Criterion 2\",H19=\"Proceed to the Criterion 2\"),IF(AND(Calculos!D33>0.01,Calculos!D33<=0.022),IF(E25=\"\",\"\",IF(C24<=E25,\"The oil is coherent\",\"\"))),\"\"))","v":""}]
[null,null,null,null,null,{"$f":"IF(C24=\"\",\"\",IF(OR(F19=\"Proceed to the Criterion 2\",F16=\"Proceed to the Criterion 2\",H19=\"Proceed to the Criterion 2\"),IF(AND(Calculos!D33>0.01,Calculos!D33<=0.022),IF(E26=\"\",\"\",IF(C24>D26,\"The oil is not coherent\",\"\"))),\"\"))","v":""}]
[null,null,null,null,null,{"$f":"IF(C24=\"\",\"\",IF(OR(F19=\"Proceed to the Criterion 2\",F16=\"Proceed to the Criterion 2\",H19=\"Proceed to the Criterion 2\"),IF(AND(Calculos!D33>0.01,Calculos!D33<=0.022),IF(E26=\"\",\"\",IF(AND(C24<=D26,C24>E26),\"Proceed to the Criterion 3\",\"\"))),\"\"))","v":""}]
[null,null,null,null,null,{"$f":"IF(C24=\"\",\"\",IF(OR(F19=\"Proceed to the Criterion 2\",F16=\"Proceed to the Criterion 2\",H19=\"Proceed to the Criterion 2\"),IF(AND(Calculos!D33>0.01,Calculos!D33<=0.022),IF(E26=\"\",\"\",IF(C24<=E26,\"The oil is coherent\",\"\"))),\"\"))","v":""}]
[]
[null,"Criterion 3 R1 exp."]
[null,"Parameter","Value","Higher Limit","Lower Limit",{"$f":"IF(C35=\"\",\"\",IF(OR(F30=\"Proceed to the Criterion 3\",F27=\"Proceed to the Criterion 3\",F24=\"Proceed to the Criterion 3\"),IF(AND(Calculos!D33>0.01,Calculos!D33<=0.022),IF(E36=\"\",\"\",IF(C35>D36,\"The oil is not coherent\",\"\")),\"\"),\"\"))","v":""}]
[null,"R1 exp. =",{"$f":"IF('Experimental Data'!E27=\"\",\"\",IF(AND(Calculos!D33>0.01,Calculos!D33<=0.022),Calculos!B19,\"\"))","v":""},{"$f":"IF(C10<=1.35,IF(C35=\"\",\"\",IF(AND(Calculos!D33>0.01,Calculos!D33<=0.022),IF(AND(C10>1.3,C36>2),ROUND(0.44888+(1.10271*C37)-(1.46697*C37^2)+(0.48118*C37^3),2),\"\"),\"\")),\"\")","v":""},{"$f":"IF(C10<=1.35,IF(C35=\"\",\"\",IF(AND(Calculos!D33>0.01,Calculos!D33<=0.022),IF(AND(C10>1.3,C36>2),0.4,\"\"),\"\")),\"\")","v":""},{"$f":"IF(C35=\"\",\"\",IF(OR(F30=\"Proceed to the Criterion 3\",F27=\"Proceed to the Criterion 3\",F24=\"Proceed to the Criterion 3\"),IF(AND(Calculos!D33>0.01,Calculos!D33<=0.022),IF(E36=\"\",\"\",IF(AND(C35<=D36,C35>E36),\"Proceed to the Criterion 4\",\"\")),\"\"),\"\"))","v":""}]
[null,"DOOL =",{"$f":"IF(C35=\"\",\"\",IF('Experimental Data'!E27=\"\",\"\",IF(AND(Calculos!D33>0.01,Calculos!D33<=0.022),ROUND(Calculos!B58,2),\"\")))","v":""},{"$f":"IF(C10<=1.35,IF(C35=\"\",\"\",IF(AND(Calculos!D33>0.01,Calculos!D33<=0.022),IF(AND(C36<=2,C36>1),ROUND(0.45274+(1.50427*C37)-(2.26637*C37^2)+(0.86806*C37^3),2),\"\"),\"\")),IF(C35=\"\",\"\",IF(AND(Calculos!D33>0.01,Calculos!D33<=0.022),IF(C36>1.5,ROUND(0.25117+(1.7147*C37)-(2.07613*C37^2)+(0.67805*C37^3),2),\"\"),\"\")))","v":""},{"$f":"IF(C10<=1.35,IF(C35=\"\",\"\",IF(AND(Calculos!D33>0.01,Calculos!D33<=0.022),IF(AND(C36<=2,C36>1),0.25,\"\"),\"\")),IF(C35=\"\",\"\",IF(AND(Calculos!D33>0.01,Calculos!D33<=0.022),IF(C36>1.5,0.45,\"\"),\"\")))","v":""},{"$f":"IF(C35=\"\",\"\",IF(OR(F30=\"Proceed to the Criterion 3\",F27=\"Proceed to the Criterion 3\",F24=\"Proceed to the Criterion 3\"),IF(AND(Calculos!D33>0.01,Calculos!D33<=0.022),IF(E36=\"\",\"\",IF(C35<=E36,\"The oil is coherent\",\"\")),\"\"),\"\"))","v":""}]
[null,"DECN44p =",{"$f":"IF(C35=\"\",\"\",IF('Experimental Data'!E27=\"\",\"\",IF(AND(Calculos!D33>0.01,Calculos!D33<=0.022),Calculos!B38,\"\")))","v":""},{"$f":"IF(C10<=1.35,IF(C35=\"\",\"\",IF(AND(Calculos!D33>0.01,Calculos!D33<=0.022),IF(C36<=1,ROUND(0.45071+(1.30913*C37)-(1.99405*C37^2)+(0.69444*C37^3),2),\"\"),\"\")),IF(C35=\"\",\"\",IF(AND(Calculos!D33>0.01,Calculos!D33<=0.022),IF(C36<=1.5,ROUND(0.25224+(1.60248*C37)-(1.50961*C37^2)+(0.01634*C37^3),2),\"\"),\"\")))","v":""},{"$f":"IF(C10<=1.35,IF(C35=\"\",\"\",IF(AND(Calculos!D33>0.01,Calculos!D33<=0.022),IF(C36<=1,0.25,\"\"),\"\")),IF(C35=\"\",\"\",IF(AND(Calculos!D33>0.01,Calculos!D33<=0.022),IF(C36<=1.5,0.4,\"\"),\"\")))","v":""},{"$f":"IF(C35=\"\",\"\",IF(OR(F30=\"Proceed to the Criterion 3\",F27=\"Proceed to the Criterion 3\",F24=\"Proceed to the Criterion 3\"),IF(AND(Calculos!D33>0.01,Calculos!D33<=0.022),IF(E37=\"\",\"\",IF(C35>D37,\"The oil is not coherent\",\"\")),\"\"),\"\"))","v":""},null,{"$f":"IF(C35=\"\",\"\",IF(OR(F30=\"Proceed to the Criterion 3\",F27=\"Proceed to the Criterion 3\",F24=\"Proceed to the Criterion 3\"),IF(AND(Calculos!D33>0.01,Calculos!D33<=0.022),IF(E35=\"\",\"\",IF(C35>D35,\"The oil is not coherent\",\"\")),\"\"),\"\"))","v":""}]
[null,null,null,null,null,{"$f":"IF(C35=\"\",\"\",IF(OR(F30=\"Proceed to the Criterion 3\",F27=\"Proceed to the Criterion 3\",F24=\"Proceed to the Criterion 3\"),IF(AND(Calculos!D33>0.01,Calculos!D33<=0.022),IF(E37=\"\",\"\",IF(AND(C35<=D37,C35>E37),\"Proceed to the Criterion 4\",\"\")),\"\"),\"\"))","v":""},null,{"$f":"IF(C35=\"\",\"\",IF(OR(F30=\"Proceed to the Criterion 3\",F27=\"Proceed to the Criterion 3\",F24=\"Proceed to the Criterion 3\"),IF(AND(Calculos!D33>0.01,Calculos!D33<=0.022),IF(E35=\"\",\"\",IF(AND(C35<=D35,C35>E35),\"Proceed to the Criterion 4\",\"\")),\"\"),\"\"))","v":""}]
[null,null,null,null,null,{"$f":"IF(C35=\"\",\"\",IF(OR(F30=\"Proceed to the Criterion 3\",F27=\"Proceed to the Criterion 3\",F24=\"Proceed to the Criterion 3\"),IF(AND(Calculos!D33>0.01,Calculos!D33<=0.022),IF(E37=\"\",\"\",IF(C35<=E37,\"The oil is coherent\",\"\")),\"\"),\"\"))","v":""},null,{"$f":"IF(C35=\"\",\"\",IF(OR(F30=\"Proceed to the Criterion 3\",F27=\"Proceed to the Criterion 3\",F24=\"Proceed to the Criterion 3\"),IF(AND(Calculos!D33>0.01,Calculos!D33<=0.022),IF(E35=\"\",\"\",IF(C35<=E35,\"The oil is coherent\",\"\")),\"\"),\"\"))","v":""}]
[]
[null,"Criterion 4 DR1"]
[null,"Parameter","Value","Higher Limit",{"$f":"IF(C43=\"\",\"\",IF(OR(F38=\"Proceed to the Criterion 4\",F35=\"Proceed to the Criterion 4\",H38=\"Proceed to the Criterion 4\"),IF(AND(Calculos!D33>0.01,Calculos!D33<=0.022),IF(D43=\"\",\"\",IF(C43<=D43,\"The oil is coherent\",\"The oil is not coherent\"))),\"\"))","v":""}]
[null,"DR1 =",{"$f":"IF('Experimental Data'!E27=\"\",\"\",IF(AND(Calculos!D33>0.01,Calculos!D33<=0.022),Calculos!B20,\"\"))","v":""},{"$f":"IF(C43=\"\",\"\",IF(AND(Calculos!D33>0.01,Calculos!D33<=0.022),IF(C10>1.35,IF(C44>1.5,ROUND(0.30144+(1.23042*C45)-(1.58416*C45^2)+(0.48395*C45^3),2),\"\"),\"\"),\"\"))","v":""},{"$f":"IF(C43=\"\",\"\",IF(OR(F38=\"Proceed to the Criterion 4\",F35=\"Proceed to the Criterion 4\",H38=\"Proceed to the Criterion 4\"),IF(AND(Calculos!D33>0.01,Calculos!D33<=0.022),IF(D44=\"\",\"\",IF(C43<=D44,\"The oil is coherent\",\"The oil is not coherent\"))),\"\"))","v":""}]
[null,"DOOL =",{"$f":"IF(C43=\"\",\"\",IF('Experimental Data'!E27=\"\",\"\",IF(AND(Calculos!D33>0.01,Calculos!D33<=0.022),ROUND(Calculos!B58,2),\"\")))","v":""},{"$f":"IF(C43=\"\",\"\",IF(AND(Calculos!D33>0.01,Calculos!D33<=0.022),IF(C10>1.35,IF(C44<=1.5,ROUND(0.29901+(1.30036*C45)-(1.70743*C45^2)+(0.41148*C45^3),2),\"\"),\"\"),\"\"))","v":""},{"$f":"IF(C43=\"\",\"\",IF(OR(F38=\"Proceed to the Criterion 4\",F35=\"Proceed to the Criterion 4\",H38=\"Proceed to the Criterion 4\"),IF(AND(Calculos!D33>0.01,Calculos!D33<=0.022),IF(D45=\"\",\"\",IF(C43<=D45,\"The oil is coherent\",\"The oil is not coherent\"))),\"\"))","v":""}]
[null,"DECN44p =",{"$f":"IF(C43=\"\",\"\",IF('Experimental Data'!E27=\"\",\"\",IF(AND(Calculos!D33>0.01,Calculos!D33<=0.022),Calculos!B38,\"\")))","v":""},{"$f":"IF(C43=\"\",\"\",IF(AND(Calculos!D33>0.01,Calculos!D33<=0.022),IF(C10<=1.35,IF(C44>2,ROUND(0.34535+(1.34739*C45)-(1.83708*C45^2)+(0.45736*C45^3),2),\"\"),\"\"),\"\"))","v":""},{"$f":"IF(C43=\"\",\"\",IF(OR(F38=\"Proceed to the Criterion 4\",F35=\"Proceed to the Criterion 4\",H38=\"Proceed to the Criterion 4\"),IF(AND(Calculos!D33>0.01,Calculos!D33<=0.022),IF(D46=\"\",\"\",IF(C43<=D46,\"The oil is coherent\",\"The oil is not coherent\"))),\"\"))","v":""}]
[null,null,null,{"$f":"IF(C43=\"\",\"\",IF(AND(Calculos!D33>0.01,Calculos!D33<=0.022),IF(C10<=1.35,IF(AND(C44<=2,C44>1),ROUND(0.29901+(1.30036*C45)-(1.70743*C45^2)+(0.41148*C45^3),2),\"\"),\"\"),\"\"))","v":""},{"$f":"IF(C43=\"\",\"\",IF(OR(F38=\"Proceed to the Criterion 4\",F35=\"Proceed to the Criterion 4\",H38=\"Proceed to the Criterion 4\"),IF(AND(Calculos!D33>0.01,Calculos!D33<=0.022),IF(D47=\"\",\"\",IF(C43<=D47,\"The oil is coherent\",\"The oil is not coherent\"))),\"\"))","v":""}]
[null,null,null,{"$f":"IF(C43=\"\",\"\",IF(AND(Calculos!D33>0.01,Calculos!D33<=0.022),IF(C10<=1.35,IF(C44<=1,ROUND(0.55381+(0.48216*C45)-(0.82972*C45^2)+(0.10115*C45^3),2),\"\"),\"\"),\"\"))","v":""}]

{"sheet":"Criteria for LLLt 0,022-0,040","index":4,"n_rows":58,"n_cols":8,"rows_kept":58,"cut":false,"hidden":false,"merged":[[1,1,1,8]]}
[null,"Criteria for LLL theor. 0,022 - 0,040"]
[null,"Calculation Parameters"]
[null,"Sample Code",{"$f":"IF(C6=\"\",\"\",IF('Experimental Data'!F16=\"\",\"\",'Experimental Data'!F16))","v":""},{"$f":"IF(C6=\"\",\"\",IF('Experimental Data'!G16=\"\",\"\",'Experimental Data'!G16))","v":""},{"$f":"IF(C6=\"\",\"\",IF('Experimental Data'!H16=\"\",\"\",'Experimental Data'!H16))","v":""},{"$f":"IF(C6=\"\",\"\",IF('Experimental Data'!I16=\"\",\"\",'Experimental Data'!I16))","v":""},{"$f":"IF(C6=\"\",\"\",IF('Experimental Data'!J16=\"\",\"\",'Experimental Data'!J16))","v":""},{"$f":"IF(C6=\"\",\"\",IF('Experimental Data'!K16=\"\",\"\",'Experimental Data'!K16))","v":""}]
[null,"Oil Category",{"$f":"IF(C3=\"\",\"\",IF('Experimental Data'!F17=\"\",\"\",'Experimental Data'!F17))","v":""},{"$f":"IF(C4=\"\",\"\",IF(C4=\"EV\",\"Virgin Edible Olive Oil\",IF(C4=\"L\",\"Lampant Olive Oil\",IF(C4=\"R\",\"Refined Olive Oil\"))))","v":""}]
[]
[null,"DECN42 =",{"$f":"IF('Experimental Data'!E27=\"\",\"\",IF(AND(Calculos!D33>0.022,Calculos!D33<=0.04),Calculos!M58,\"\"))","v":""},{"$f":"IF('Experimental Data'!E27=\"\",\"\",IF(AND(Calculos!D33>0.022,Calculos!D33<=0.04),IF(C4=\"EV\",0.2,IF(OR(C4=\"R\",C4=\"L\"),0.3,\"\")),\"\"))","v":""},{"$f":"IF(C6=\"\",\"\",IF(C6<=D6,\"Proceed to the Early Criterion\",\"Proceed to the Early Criterion\"))","v":""},null,{"$f":"IF(C6=\"\",\"\",IF(C6>D6,\"Warning, The DECN42 is too high\",\"\"))","v":""}]
[]
[null,"Early Criterion K1"]
[null,"Parameter","Value","Higher Limit","Lower Limit",{"$f":"IF(C10=\"\",\"\",IF(E6=\"Proceed to the Early Criterion\",IF(AND(Calculos!D33>0.022,Calculos!D33<=0.04),IF(E10=\"\",\"\",IF(AND(C10<=D10,C10>E10),\"Proceed to the Criterion 1\",\"\")),\"\"),\"\"))","v":""}]
[null,"K1 =",{"$f":"IF('Experimental Data'!E27=\"\",\"\",IF(AND(Calculos!D33>0.022,Calculos!D33<=0.04),Calculos!J24,\"\"))","v":""},{"$f":"IF(C10=\"\",\"\",IF(AND(Calculos!D33>0.022,Calculos!D33<=0.04),IF(C10>1.4,1.7,\"\"),\"\"))","v":""},{"$f":"IF(C10=\"\",\"\",IF(AND(Calculos!D33>0.022,Calculos!D33<=0.04),IF(C10>1.4,1.4,\"\"),\"\"))","v":""},{"$f":"IF(C10=\"\",\"\",IF(E6=\"Proceed to the Early Criterion\",IF(AND(Calculos!D33>0.022,Calculos!D33<=0.04),IF(E11=\"\",\"\",IF(AND(C10<=D11,C10>E11),\"Proceed to the Criterion 1\",\"\")),\"\"),\"\"))","v":""}]
[null,null,null,{"$f":"IF(C10=\"\",\"\",IF(AND(Calculos!D33>0.022,Calculos!D33<=0.04),IF(AND(C10>1.2,C10<=1.4),1.4,\"\"),\"\"))","v":""},{"$f":"IF(C10=\"\",\"\",IF(AND(Calculos!D33>0.022,Calculos!D33<=0.04),IF(AND(C10>1.2,C10<=1.4),1.2,\"\"),\"\"))","v":""},{"$f":"IF(C10=\"\",\"\",IF(E6=\"Proceed to the Early Criterion\",IF(AND(Calculos!D33>0.022,Calculos!D33<=0.04),IF(E12=\"\",\"\",IF(AND(C10>E12,C10<=D12),\"Proceed to the Criterion 1\",\"\")),\"\"),\"\"))","v":""}]
[null,null,null,{"$f":"IF(C10=\"\",\"\",IF(AND(Calculos!D33>0.022,Calculos!D33<=0.04),IF(C10<=1.2,1.2,\"\"),\"\"))","v":""},{"$f":"IF(C10=\"\",\"\",IF(AND(Calculos!D33>0.022,Calculos!D33<=0.04),IF(C10<=1.2,0.95,\"\"),\"\"))","v":""},{"$f":"IF(C10=\"\",\"\",IF(E6=\"Proceed to the Early Criterion\",IF(AND(Calculos!D33>0.022,Calculos!D33<=0.04),IF(E12=\"\",\"\",IF(C10<=E12,\"The oil is coherent\",\"\")),\"\"),\"\"))","v":""},null,{"$f":"IF(C10=\"\",\"\",IF(E6=\"Proceed to the Early Criterion\",IF(AND(Calculos!D33>0.022,Calculos!D33<=0.04),IF(E10=\"\",\"\",IF(C10>D10,\"The oil is not coherent\",\"\")),\"\"),\"\"))","v":""}]
[]
[null,"Criterion 1 DR3"]
[null,"Parameter","Value","Higher Limit","Lower Limit",{"$f":"IF(C16=\"\",\"\",IF(OR(F11=\"Proceed to the Criterion 1\",F10=\"Proceed to the Criterion 1\",F9=\"Proceed to the Criterion 1\"),IF(AND(Calculos!D33>0.022,Calculos!D33<=0.04),IF(E19=\"\",\"\",IF(C16>D19,\"The oil is not coherent\",\"\"))),\"\"))","v":""},null,{"$f":"IF(C16=\"\",\"\",IF(OR(F11=\"Proceed to the Criterion 1\",F10=\"Proceed to the Criterion 1\",F9=\"Proceed to the Criterion 1\"),IF(AND(Calculos!D33>0.022,Calculos!D33<=0.04),IF(E16=\"\",\"\",IF(C16>D16,\"The oil is not coherent\",\"\"))),\"\"))","v":""}]
[null,"DR3 =",{"$f":"IF('Experimental Data'!E27=\"\",\"\",IF(AND(Calculos!D33>0.022,Calculos!D33<=0.04),Calculos!B43,\"\"))","v":""},{"$f":"IF(C16=\"\",\"\",IF(AND(Calculos!D33>0.022,Calculos!D33<=0.04),IF(C10>1.4,ROUND(0.29973+(0.59795*C18)-(0.73368*C18^2)+(0.19144*C18^3),2),\"\"),\"\"))","v":""},{"$f":"IF(C16=\"\",\"\",IF(AND(Calculos!D33>0.022,Calculos!D33<=0.04),IF(C10>1.4,ROUND(0.15+(0.04167*C18),2),\"\"),\"\"))","v":""},{"$f":"IF(C16=\"\",\"\",IF(OR(F11=\"Proceed to the Criterion 1\",F10=\"Proceed to the Criterion 1\",F9=\"Proceed to the Criterion 1\"),IF(AND(Calculos!D33>0.022,Calculos!D33<=0.04),IF(E19=\"\",\"\",IF(AND(C16<=D19,C16>E19),\"Proceed to the Criterion 2\",\"\"))),\"\"))","v":""},null,{"$f":"IF(C16=\"\",\"\",IF(OR(F11=\"Proceed to the Criterion 1\",F10=\"Proceed to the Criterion 1\",F9=\"Proceed to the Criterion 1\"),IF(AND(Calculos!D33>0.022,Calculos!D33<=0.04),IF(E16=\"\",\"\",IF(AND(C16<=D16,C16>E16),\"Proceed to the Criterion 2\",\"\"))),\"\"))","v":""}]
[null,"DOOL =",{"$f":"IF(C16=\"\",\"\",IF('Experimental Data'!E27=\"\",\"\",IF(AND(Calculos!D33>0.022,Calculos!D33<=0.04),ROUND(Calculos!B58,2),\"\")))","v":""},{"$f":"IF(C16=\"\",\"\",IF(AND(Calculos!D33>0.022,Calculos!D33<=0.04),IF(AND(C10<=1.4,C10>1.2),IF(C17>2,ROUND(0.29714+(0.74801*C18)-(0.12195*C18^2)-(0.38201*C18^3),2),\"\"),\"\"),\"\"))","v":""},{"$f":"IF(C16=\"\",\"\",IF(AND(Calculos!D33>0.022,Calculos!D33<=0.04),IF(AND(C10<=1.4,C10>1.2),IF(C17>2,ROUND(0.15+(0.04167*C18),2),\"\"),\"\"),\"\"))","v":""},{"$f":"IF(C16=\"\",\"\",IF(OR(F11=\"Proceed to the Criterion 1\",F10=\"Proceed to the Criterion 1\",F9=\"Proceed to the Criterion 1\"),IF(AND(Calculos!D33>0.022,Calculos!D33<=0.04),IF(E19=\"\",\"\",IF(C16<=E19,\"The oil is coherent\",\"\"))),\"\"))","v":""},null,{"$f":"IF(C16=\"\",\"\",IF(OR(F11=\"Proceed to the Criterion 1\",F10=\"Proceed to the Criterion 1\",F9=\"Proceed to the Criterion 1\"),IF(AND(Calculos!D33>0.022,Calculos!D33<=0.04),IF(E16=\"\",\"\",IF(C16<=E16,\"The oil is coherent\",\"\"))),\"\"))","v":""}]
[null,"DECN44p =",{"$f":"IF(C16=\"\",\"\",IF('Experimental Data'!E27=\"\",\"\",IF(AND(Calculos!D33>0.022,Calculos!D33<=0.04),Calculos!B38,\"\")))","v":""},{"$f":"IF(C16=\"\",\"\",IF(AND(Calculos!D33>0.022,Calculos!D33<=0.04),IF(AND(C10<=1.4,C10>1.2),IF(C17<=2,ROUND(0.4007+(0.42803*C18)+(0.29576*C18^2)-(0.61985*C18^3),2),\"\"),\"\"),\"\"))","v":""},{"$f":"IF(C16=\"\",\"\",IF(AND(Calculos!D33>0.022,Calculos!D33<=0.04),IF(AND(C10<=1.4,C10>1.2),IF(C17<=2,ROUND(0.15+(0.04167*C18),2),\"\"),\"\"),\"\"))","v":""},{"$f":"IF(C16=\"\",\"\",IF(OR(F11=\"Proceed to the Criterion 1\",F10=\"Proceed to the Criterion 1\",F9=\"Proceed to the Criterion 1\"),IF(AND(Calculos!D33>0.022,Calculos!D33<=0.04),IF(E20=\"\",\"\",IF(C16>D20,\"The oil is not coherent\",\"\"))),\"\"))","v":""},null,{"$f":"IF(C16=\"\",\"\",IF(OR(F11=\"Proceed to the Criterion 1\",F10=\"Proceed to the Criterion 1\",F9=\"Proceed to the Criterion 1\"),IF(AND(Calculos!D33>0.022,Calculos!D33<=0.04),IF(E17=\"\",\"\",IF(C16>D17,\"The oil is not coherent\",\"\"))),\"\"))","v":""}]
[null,null,null,{"$f":"IF(C16=\"\",\"\",IF(AND(Calculos!D33>0.022,Calculos!D33<=0.04),IF(C10<=1.2,IF(C17>2.5,ROUND(0.45131+(0.48839*C18)+(0.02976*C18^2)-(0.46875*C18^3),2),\"\"),\"\"),\"\"))","v":""},{"$f":"IF(C16=\"\",\"\",IF(AND(Calculos!D33>0.022,Calculos!D33<=0.04),IF(C10<=1.2,IF(C17>2.5,ROUND(0.1+(0.20833*C18),2),\"\"),\"\"),\"\"))","v":""},{"$f":"IF(C16=\"\",\"\",IF(OR(F11=\"Proceed to the Criterion 1\",F10=\"Proceed to the Criterion 1\",F9=\"Proceed to the Criterion 1\"),IF(AND(Calculos!D33>0.022,Calculos!D33<=0.04),IF(E20=\"\",\"\",IF(AND(C16<=D20,C16>E20),\"Proceed to the Criterion 2\",\"\"))),\"\"))","v":""},null,{"$f":"IF(C16=\"\",\"\",IF(OR(F11=\"Proceed to the Criterion 1\",F10=\"Proceed to the Criterion 1\",F9=\"Proceed to the Criterion 1\"),IF(AND(Calculos!D33>0.022,Calculos!D33<=0.04),IF(E17=\"\",\"\",IF(AND(C16<=D17,C16>E17),\"Proceed to the Criterion 2\",\"\"))),\"\"))","v":""}]
[null,null,null,{"$f":"IF(C16=\"\",\"\",IF(AND(Calculos!D33>0.022,Calculos!D33<=0.04),IF(C10<=1.2,IF(AND(C17<=2.5,C17>1.5),ROUND(0.45131+(0.48839*C18)+(0.02976*C18^2)-(0.46875*C18^3),2),\"\"),\"\"),\"\"))","v":""},{"$f":"IF(C16=\"\",\"\",IF(AND(Calculos!D33>0.022,Calculos!D33<=0.04),IF(C10<=1.2,IF(AND(C17<=2.5,C17>1.5),ROUND(0.1+(0.175*C18),2),\"\"),\"\"),\"\"))","v":""},{"$f":"IF(C16=\"\",\"\",IF(OR(F11=\"Proceed to the Criterion 1\",F10=\"Proceed to the Criterion 1\",F9=\"Proceed to the Criterion 1\"),IF(AND(Calculos!D33>0.022,Calculos!D33<=0.04),IF(E20=\"\",\"\",IF(C16<=E20,\"The oil is coherent\",\"\"))),\"\"))","v":""},null,{"$f":"IF(C16=\"\",\"\",IF(OR(F11=\"Proceed to the Criterion 1\",F10=\"Proceed to the Criterion 1\",F9=\"Proceed to the Criterion 1\"),IF(AND(Calculos!D33>0.022,Calculos!D33<=0.04),IF(E17=\"\",\"\",IF(C16<=E17,\"The oil is coherent\",\"\"))),\"\"))","v":""}]
[null,null,null,{"$f":"IF(C16=\"\",\"\",IF(AND(Calculos!D33>0.022,Calculos!D33<=0.04),IF(C10<=1.2,IF(C17<=1.5,ROUND(0.45119+(0.43419*C18)-(0.19649*C18^2)-(0.24115*C18^3),2),\"\"),\"\"),\"\"))","v":""},{"$f":"IF(C16=\"\",\"\",IF(AND(Calculos!D33>0.022,Calculos!D33<=0.04),IF(C10<=1.2,IF(C17<=1.5,ROUND(0.1+(0.15*C18),2),\"\"),\"\"),\"\"))","v":""},{"$f":"IF(C16=\"\",\"\",IF(OR(F11=\"Proceed to the Criterion 1\",F10=\"Proceed to the Criterion 1\",F9=\"Proceed to the Criterion 1\"),IF(AND(Calculos!D33>0.02,Calculos!D33<=0.05),IF(E21=\"\",\"\",IF(C16>D21,\"The oil is not coherent\",\"\"))),\"\"))","v":""},null,{"$f":"IF(C16=\"\",\"\",IF(OR(F11=\"Proceed to the Criterion 1\",F10=\"Proceed to the Criterion 1\",F9=\"Proceed to the Criterion 1\"),IF(AND(Calculos!D33>0.022,Calculos!D33<=0.04),IF(E18=\"\",\"\",IF(C16>D18,\"The oil is not coherent\",\"\"))),\"\"))","v":""}]
[null,null,null,null,null,{"$f":"IF(C16=\"\",\"\",IF(OR(F11=\"Proceed to the Criterion 1\",F10=\"Proceed to the Criterion 1\",F9=\"Proceed to the Criterion 1\"),IF(AND(Calculos!D33>0.022,Calculos!D33<=0.04),IF(E21=\"\",\"\",IF(AND(C16<=D21,C16>E21),\"Proceed to the Criterion 2\",\"\"))),\"\"))","v":""},null,{"$f":"IF(C16=\"\",\"\",IF(OR(F11=\"Proceed to the Criterion 1\",F10=\"Proceed to the Criterion 1\",F9=\"Proceed to the Criterion 1\"),IF(AND(Calculos!D33>0.022,Calculos!D33<=0.04),IF(E18=\"\",\"\",IF(AND(C16<=D18,C16>E18),\"Proceed to the Criterion 2\",\"\"))),\"\"))","v":""}]
[null,null,null,null,null,{"$f":"IF(C16=\"\",\"\",IF(OR(F11=\"Proceed to the Criterion 1\",F10=\"Proceed to the Criterion 1\",F9=\"Proceed to the Criterion 1\"),IF(AND(Calculos!D33>0.022,Calculos!D33<=0.04),IF(E21=\"\",\"\",IF(C16<=E21,\"The oil is coherent\",\"\"))),\"\"))","v":""},null,{"$f":"IF(C16=\"\",\"\",IF(OR(F11=\"Proceed to the Criterion 1\",F10=\"Proceed to the Criterion 1\",F9=\"Proceed to the Criterion 1\"),IF(AND(Calculos!D33>0.022,Calculos!D33<=0.04),IF(E18=\"\",\"\",IF(C16<=E18,\"The oil is coherent\",\"\"))),\"\"))","v":""}]
[]
[null,"Criterion 2 L3"]
[null,"Parameter","Value","Higher Limit","Lower Limit",{"$f":"IF(C27=\"\",\"\",IF(OR(F22=\"Proceed to the Criterion 2\",F19=\"Proceed to the Criterion 2\",F16=\"Proceed to the Criterion 2\",H22=\"Proceed to the Criterion 2\",H19=\"Proceed to the Criterion 2\",H16=\"Proceed to the Criterion 2\"),IF(AND(Calculos!D33>0.022,Calculos!D33<=0.04),IF(E30=\"\",\"\",IF(C27>D30,\"The oil is not coherent\",\"\"))),\"\"))","v":""},null,{"$f":"IF(C27=\"\",\"\",IF(OR(F22=\"Proceed to the Criterion 2\",F19=\"Proceed to the Criterion 2\",F16=\"Proceed to the Criterion 2\",H22=\"Proceed to the Criterion 2\",H19=\"Proceed to the Criterion 2\",H16=\"Proceed to the Criterion 2\"),IF(AND(Calculos!D33>0.022,Calculos!D33<=0.04),IF(E27=\"\",\"\",IF(C27>D27,\"The oil is not coherent\",\"\"))),\"\"))","v":""}]
[null,"L3 =",{"$f":"IF('Experimental Data'!E27=\"\",\"\",IF(AND(Calculos!D33>0.022,Calculos!D33<=0.04),Calculos!J19,\"\"))","v":""},{"$f":"IF(C27=\"\",\"\",IF(AND(Calculos!D33>0.022,Calculos!D33<=0.04),IF(C10>1.4,ROUND(0.39808+(0.50212*C29)-(0.09907*C29^2)-(0.17309*C29^3),2),\"\"),\"\"))","v":""},{"$f":"IF(C27=\"\",\"\",IF(AND(Calculos!D33>0.022,Calculos!D33<=0.04),IF(C10>1.4,0.2,\"\"),\"\"))","v":""},{"$f":"IF(C27=\"\",\"\",IF(OR(F22=\"Proceed to the Criterion 2\",F19=\"Proceed to the Criterion 2\",F16=\"Proceed to the Criterion 2\",H22=\"Proceed to the Criterion 2\",H19=\"Proceed to the Criterion 2\",H16=\"Proceed to the Criterion 2\"),IF(AND(Calculos!D33>0.022,Calculos!D33<=0.04),IF(E30=\"\",\"\",IF(AND(C27<=D30,C27>E30),\"Proceed to the Criterion 3\",\"\"))),\"\"))","v":""},null,{"$f":"IF(C27=\"\",\"\",IF(OR(F22=\"Proceed to the Criterion 2\",F19=\"Proceed to the Criterion 2\",F16=\"Proceed to the Criterion 2\",H22=\"Proceed to the Criterion 2\",H19=\"Proceed to the Criterion 2\",H16=\"Proceed to the Criterion 2\"),IF(AND(Calculos!D33>0.022,Calculos!D33<=0.04),IF(E27=\"\",\"\",IF(AND(C27<=D27,C27>E27),\"Proceed to the Criterion 3\",\"\"))),\"\"))","v":""}]
[null,"DOOL =",{"$f":"IF(C27=\"\",\"\",IF('Experimental Data'!E27=\"\",\"\",IF(AND(Calculos!D33>0.022,Calculos!D33<=0.04),ROUND(Calculos!B58,2),\"\")))","v":""},{"$f":"IF(C27=\"\",\"\",IF(AND(Calculos!D33>0.022,Calculos!D33<=0.04),IF(AND(C10>1.2,C10<=1.4),IF(C28>2,ROUND(0.445+(1.05139*C29)-(1.02232*C29^2)+(0.12153*C29^3),2),\"\"),\"\"),\"\"))","v":""},{"$f":"IF(C27=\"\",\"\",IF(AND(Calculos!D33>0.022,Calculos!D33<=0.04),IF(AND(C10>1.2,C10<=1.4),IF(C28>2,0.3,\"\"),\"\"),\"\"))","v":""},{"$f":"IF(C27=\"\",\"\",IF(OR(F22=\"Proceed to the Criterion 2\",F19=\"Proceed to the Criterion 2\",F16=\"Proceed to the Criterion 2\",H22=\"Proceed to the Criterion 2\",H19=\"Proceed to the Criterion 2\",H16=\"Proceed to the Criterion 2\"),IF(AND(Calculos!D33>0.022,Calculos!D33<=0.04),IF(E30=\"\",\"\",IF(C27<=E30,\"The oil is coherent\",\"\"))),\"\"))","v":""},null,{"$f":"IF(C27=\"\",\"\",IF(OR(F22=\"Proceed to the Criterion 2\",F19=\"Proceed to the Criterion 2\",F16=\"Proceed to the Criterion 2\",H22=\"Proceed to the Criterion 2\",H19=\"Proceed to the Criterion 2\",H16=\"Proceed to the Criterion 2\"),IF(AND(Calculos!D33>0.022,Calculos!D33<=0.04),IF(E27=\"\",\"\",IF(C27<=E27,\"The oil is coherent\",\"\"))),\"\"))","v":""}]
[null,"DECN44p =",{"$f":"IF(C27=\"\",\"\",IF('Experimental Data'!E27=\"\",\"\",IF(AND(Calculos!D33>0.022,Calculos!D33<=0.04),Calculos!B38,\"\")))","v":""},{"$f":"IF(C27=\"\",\"\",IF(AND(Calculos!D33>0.022,Calculos!D33<=0.04),IF(AND(C10>1.2,C10<=1.4),IF(C28<=2,ROUND(0.65053+(0.46987*C29)-(0.34143*C29^2)-(0.25011*C29^3),2),\"\"),\"\"),\"\"))","v":""},{"$f":"IF(C27=\"\",\"\",IF(AND(Calculos!D33>0.022,Calculos!D33<=0.04),IF(AND(C10>1.2,C10<=1.4),IF(C28<=2,0.25,\"\"),\"\"),\"\"))","v":""},{"$f":"IF(C27=\"\",\"\",IF(OR(F22=\"Proceed to the Criterion 2\",F19=\"Proceed to the Criterion 2\",F16=\"Proceed to the Criterion 2\",H22=\"Proceed to the Criterion 2\",H19=\"Proceed to the Criterion 2\",H16=\"Proceed to the Criterion 2\"),IF(AND(Calculos!D33>0.022,Calculos!D33<=0.04),IF(E31=\"\",\"\",IF(C27>D31,\"The oil is not coherent\",\"\"))),\"\"))","v":""},null,{"$f":"IF(C27=\"\",\"\",IF(OR(F22=\"Proceed to the Criterion 2\",F19=\"Proceed to the Criterion 2\",F16=\"Proceed to the Criterion 2\",H22=\"Proceed to the Criterion 2\",H19=\"Proceed to the Criterion 2\",H16=\"Proceed to the Criterion 2\"),IF(AND(Calculos!D33>0.022,Calculos!D33<=0.04),IF(E28=\"\",\"\",IF(C27>D28,\"The oil is not coherent\",\"\"))),\"\"))","v":""}]
[null,null,null,{"$f":"IF(C27=\"\",\"\",IF(AND(Calculos!D33>0.022,Calculos!D33<=0.04),IF(C10<=1.2,IF(C28>2.5,ROUND(0.415+(1.05139*C29)-(1.02232*C29^2)+(0.12153*C29^3),2),\"\"),\"\"),\"\"))","v":""},{"$f":"IF(C27=\"\",\"\",IF(AND(Calculos!D33>0.022,Calculos!D33<=0.04),IF(C10<=1.2,IF(C28>2.5,0.3,\"\"),\"\"),\"\"))","v":""},{"$f":"IF(C27=\"\",\"\",IF(OR(F22=\"Proceed to the Criterion 2\",F19=\"Proceed to the Criterion 2\",F16=\"Proceed to the Criterion 2\",H22=\"Proceed to the Criterion 2\",H19=\"Proceed to the Criterion 2\",H16=\"Proceed to the Criterion 2\"),IF(AND(Calculos!D33>0.022,Calculos!D33<=0.04),IF(E31=\"\",\"\",IF(AND(C27<=D31,C27>E31),\"Proceed to the Criterion 3\",\"\"))),\"\"))","v":""},null,{"$f":"IF(C27=\"\",\"\",IF(OR(F22=\"Proceed to the Criterion 2\",F19=\"Proceed to the Criterion 2\",F16=\"Proceed to the Criterion 2\",H22=\"Proceed to the Criterion 2\",H19=\"Proceed to the Criterion 2\",H16=\"Proceed to the Criterion 2\"),IF(AND(Calculos!D33>0.022,Calculos!D33<=0.04),IF(E28=\"\",\"\",IF(AND(C27<=D28,C27>E28),\"Proceed to the Criterion 3\",\"\"))),\"\"))","v":""}]
[null,null,null,{"$f":"IF(C27=\"\",\"\",IF(AND(Calculos!D33>0.022,Calculos!D33<=0.04),IF(C10<=1.2,IF(AND(C28>1.5,C28<=2.5),ROUND(0.62718+(0.54936*C29)-(0.47487*C29^2)-(0.11832*C29^3),2),\"\"),\"\"),\"\"))","v":""},{"$f":"IF(C27=\"\",\"\",IF(AND(Calculos!D33>0.022,Calculos!D33<=0.04),IF(C10<=1.2,IF(AND(C28>1.5,C28<=2.5),0.25,\"\"),\"\"),\"\"))","v":""},{"$f":"IF(C27=\"\",\"\",IF(OR(F22=\"Proceed to the Criterion 2\",F19=\"Proceed to the Criterion 2\",F16=\"Proceed to the Criterion 2\",H22=\"Proceed to the Criterion 2\",H19=\"Proceed to the Criterion 2\",H16=\"Proceed to the Criterion 2\"),IF(AND(Calculos!D33>0.022,Calculos!D33<=0.04),IF(E31=\"\",\"\",IF(C27<=E31,\"The oil is coherent\",\"\"))),\"\"))","v":""},null,{"$f":"IF(C27=\"\",\"\",IF(OR(F22=\"Proceed to the Criterion 2\",F19=\"Proceed to the Criterion 2\",F16=\"Proceed to the Criterion 2\",H22=\"Proceed to the Criterion 2\",H19=\"Proceed to the Criterion 2\",H16=\"Proceed to the Criterion 2\"),IF(AND(Calculos!D33>0.022,Calculos!D33<=0.04),IF(E28=\"\",\"\",IF(C27<=E28,\"The oil is coherent\",\"\"))),\"\"))","v":""}]
[null,null,null,{"$f":"IF(C27=\"\",\"\",IF(AND(Calculos!D33>0.022,Calculos!D33<=0.04),IF(C10<=1.2,IF(C28<=1.5,ROUND(0.65053+(0.46987*C29)-(0.34143*C29^2)-(0.25011*C29^3),2),\"\"),\"\"),\"\"))","v":""},{"$f":"IF(C27=\"\",\"\",IF(AND(Calculos!D33>0.022,Calculos!D33<=0.04),IF(C10<=1.2,IF(C28<=1.5,0.25,\"\"),\"\"),\"\"))","v":""},{"$f":"IF(C27=\"\",\"\",IF(OR(F22=\"Proceed to the Criterion 2\",F19=\"Proceed to the Criterion 2\",F16=\"Proceed to the Criterion 2\",H22=\"Proceed to the Criterion 2\",H19=\"Proceed to the Criterion 2\",H16=\"Proceed to the Criterion 2\"),IF(AND(Calculos!D33>0.022,Calculos!D33<=0.04),IF(E32=\"\",\"\",IF(C27>D32,\"The oil is not coherent\",\"\"))),\"\"))","v":""},null,{"$f":"IF(C27=\"\",\"\",IF(OR(F22=\"Proceed to the Criterion 2\",F19=\"Proceed to the Criterion 2\",F16=\"Proceed to the Criterion 2\",H22=\"Proceed to the Criterion 2\",H19=\"Proceed to the Criterion 2\",H16=\"Proceed to the Criterion 2\"),IF(AND(Calculos!D33>0.022,Calculos!D33<=0.04),IF(E29=\"\",\"\",IF(C27>D29,\"The oil is not coherent\",\"\"))),\"\"))","v":""}]
[null,null,null,null,null,{"$f":"IF(C27=\"\",\"\",IF(OR(F22=\"Proceed to the Criterion 2\",F19=\"Proceed to the Criterion 2\",F16=\"Proceed to the Criterion 2\",H22=\"Proceed to the Criterion 2\",H19=\"Proceed to the Criterion 2\",H16=\"Proceed to the Criterion 2\"),IF(AND(Calculos!D33>0.022,Calculos!D33<=0.04),IF(E32=\"\",\"\",IF(AND(C27<=D32,C27>E32),\"Proceed to the Criterion 3\",\"\"))),\"\"))","v":""},null,{"$f":"IF(C27=\"\",\"\",IF(OR(F22=\"Proceed to the Criterion 2\",F19=\"Proceed to the Criterion 2\",F16=\"Proceed to the Criterion 2\",H22=\"Proceed to the Criterion 2\",H19=\"Proceed to the Criterion 2\",H16=\"Proceed to the Criterion 2\"),IF(AND(Calculos!D33>0.022,Calculos!D33<=0.04),IF(E29=\"\",\"\",IF(AND(C27<=D29,C27>E29),\"Proceed to the Criterion 3\",\"\"))),\"\"))","v":""}]
[null,null,null,null,null,{"$f":"IF(C27=\"\",\"\",IF(OR(F22=\"Proceed to the Criterion 2\",F19=\"Proceed to the Criterion 2\",F16=\"Proceed to the Criterion 2\",H22=\"Proceed to the Criterion 2\",H19=\"Proceed to the Criterion 2\",H16=\"Proceed to the Criterion 2\"),IF(AND(Calculos!D33>0.022,Calculos!D33<=0.04),IF(E32=\"\",\"\",IF(C27<=E32,\"The oil is coherent\",\"\"))),\"\"))","v":""},null,{"$f":"IF(C27=\"\",\"\",IF(OR(F22=\"Proceed to the Criterion 2\",F19=\"Proceed to the Criterion 2\",F16=\"Proceed to the Criterion 2\",H22=\"Proceed to the Criterion 2\",H19=\"Proceed to the Criterion 2\",H16=\"Proceed to the Criterion 2\"),IF(AND(Calculos!D33>0.022,Calculos!D33<=0.04),IF(E29=\"\",\"\",IF(C27<=E29,\"The oil is coherent\",\"\"))),\"\"))","v":""}]
[]
[null,"Criterion 3 R1 exp."]
[null,"Parameter","Value","Higher Limit","Lower Limit",{"$f":"IF(C10=\"\",\"\",IF(OR(F33=\"Proceed to the Criterion 3\",F30=\"Proceed to the Criterion 3\",F27=\"Proceed to the Criterion 3\",H33=\"Proceed to the Criterion 3\",H30=\"Proceed to the Criterion 3\",H27=\"Proceed to the Criterion 3\"),IF(AND(Calculos!D33>0.022,Calculos!D33<=0.04),IF(E41=\"\",\"\",IF(C38>D41,\"The oil is not coherent\",\"\")),\"\"),\"\"))","v":""}]
[null,"R1 exp. =",{"$f":"IF('Experimental Data'!E27=\"\",\"\",IF(AND(Calculos!D33>0.022,Calculos!D33<=0.04),ROUND(Calculos!B19,2),\"\"))","v":""},{"$f":"IF(C38=\"\",\"\",IF(AND(Calculos!D33>0.022,Calculos!D33<=0.04),IF(C10>1.4,IF(C39>2.5,ROUND(-0.21009+(2.38197*C40)-(1.79346*C40^2)+(0.35301*C40^3),2),\"\"),\"\"),\"\"))","v":""},{"$f":"IF(C38=\"\",\"\",IF(AND(Calculos!D33>0.022,Calculos!D33<=0.04),IF(C10>1.4,IF(C39>2.5,0.5,\"\"),\"\"),\"\"))","v":""},{"$f":"IF(C10=\"\",\"\",IF(OR(F33=\"Proceed to the Criterion 3\",F30=\"Proceed to the Criterion 3\",F27=\"Proceed to the Criterion 3\",H33=\"Proceed to the Criterion 3\",H30=\"Proceed to the Criterion 3\",H27=\"Proceed to the Criterion 3\"),IF(AND(Calculos!D33>0.022,Calculos!D33<=0.04),IF(E41=\"\",\"\",IF(AND(C38<=D41,C38>E41),\"Proceed to the Criterion 4\",\"\")),\"\"),\"\"))","v":""}]
[null,"DOOL =",{"$f":"IF(C38=\"\",\"\",IF('Experimental Data'!E27=\"\",\"\",IF(AND(Calculos!D33>0.022,Calculos!D33<=0.04),ROUND(Calculos!B58,2),\"\")))","v":""},{"$f":"IF(C38=\"\",\"\",IF(AND(Calculos!D33>0.022,Calculos!D33<=0.04),IF(C10>1.4,IF(C39<=2.5,ROUND(0.47032+(0.94418*C40)-(1.06944*C40^2)+(0.25463*C40^3),2),\"\"),\"\"),\"\"))","v":""},{"$f":"IF(C38=\"\",\"\",IF(AND(Calculos!D33>0.022,Calculos!D33<=0.04),IF(C10>1.4,IF(C39<=2.5,0.4,\"\"),\"\"),\"\"))","v":""},{"$f":"IF(C10=\"\",\"\",IF(OR(F33=\"Proceed to the Criterion 3\",F30=\"Proceed to the Criterion 3\",F27=\"Proceed to the Criterion 3\",H33=\"Proceed to the Criterion 3\",H30=\"Proceed to the Criterion 3\",H27=\"Proceed to the Criterion 3\"),IF(AND(Calculos!D33>0.022,Calculos!D33<=0.04),IF(E41=\"\",\"\",IF(C38<=E41,\"The oil is coherent\",\"\")),\"\"),\"\"))","v":""}]
[null,"DECN44p =",{"$f":"IF(C38=\"\",\"\",IF('Experimental Data'!E27=\"\",\"\",IF(AND(Calculos!D33>0.022,Calculos!D33<=0.04),Calculos!B38,\"\")))","v":""},{"$f":"IF(C38=\"\",\"\",IF(AND(Calculos!D33>0.022,Calculos!D33<=0.04),IF(AND(C10<=1.4,C10>1.2),IF(C39>2,ROUND(0.49702+(1.03383*C40)-(0.79911*C40^2)-(0.03472*C40^3),2),\"\"),\"\"),\"\"))","v":""},{"$f":"IF(C38=\"\",\"\",IF(AND(Calculos!D33>0.022,Calculos!D33<=0.04),IF(AND(C10<=1.4,C10>1.2),IF(C39>2,0.45,\"\"),\"\"),\"\"))","v":""},{"$f":"IF(C10=\"\",\"\",IF(OR(F33=\"Proceed to the Criterion 3\",F30=\"Proceed to the Criterion 3\",F27=\"Proceed to the Criterion 3\",H33=\"Proceed to the Criterion 3\",H30=\"Proceed to the Criterion 3\",H27=\"Proceed to the Criterion 3\"),IF(AND(Calculos!D33>0.022,Calculos!D33<=0.04),IF(E42=\"\",\"\",IF(C38>D42,\"The oil is not coherent\",\"\")),\"\"),\"\"))","v":""},null,{"$f":"IF(C10=\"\",\"\",IF(OR(F33=\"Proceed to the Criterion 3\",F30=\"Proceed to the Criterion 3\",F27=\"Proceed to the Criterion 3\",H33=\"Proceed to the Criterion 3\",H30=\"Proceed to the Criterion 3\",H27=\"Proceed to the Criterion 3\"),IF(AND(Calculos!D33>0.022,Calculos!D33<=0.04),IF(E38=\"\",\"\",IF(C38>D38,\"The oil is not coherent\",\"\")),\"\"),\"\"))","v":""}]
[null,null,null,{"$f":"IF(C38=\"\",\"\",IF(AND(Calculos!D33>0.022,Calculos!D33<=0.04),IF(AND(C10<=1.4,C10>1.2),IF(C39<=2,ROUND(0.66993+(0.71681*C40)-(0.54*C40^2)-(0.17527*C40^3),2),\"\"),\"\"),\"\"))","v":""},{"$f":"IF(C38=\"\",\"\",IF(AND(Calculos!D33>0.022,Calculos!D33<=0.04),IF(AND(C10<=1.4,C10>1.2),IF(C39<=2,0.4,\"\"),\"\"),\"\"))","v":""},{"$f":"IF(C10=\"\",\"\",IF(OR(F33=\"Proceed to the Criterion 3\",F30=\"Proceed to the Criterion 3\",F27=\"Proceed to the Criterion 3\",H33=\"Proceed to the Criterion 3\",H30=\"Proceed to the Criterion 3\",H27=\"Proceed to the Criterion 3\"),IF(AND(Calculos!D33>0.022,Calculos!D33<=0.04),IF(E42=\"\",\"\",IF(AND(C38<=D42,C38>E42),\"Proceed to the Criterion 4\",\"\")),\"\"),\"\"))","v":""},null,{"$f":"IF(C10=\"\",\"\",IF(OR(F33=\"Proceed to the Criterion 3\",F30=\"Proceed to the Criterion 3\",F27=\"Proceed to the Criterion 3\",H33=\"Proceed to the Criterion 3\",H30=\"Proceed to the Criterion 3\",H27=\"Proceed to the Criterion 3\"),IF(AND(Calculos!D33>0.022,Calculos!D33<=0.04),IF(E38=\"\",\"\",IF(AND(C38<=D38,C38>E38),\"Proceed to the Criterion 4\",\"\")),\"\"),\"\"))","v":""}]
[null,null,null,{"$f":"IF(C38=\"\",\"\",IF(AND(Calculos!D33>0.022,Calculos!D33<=0.04),IF(C10<=1.2,IF(C39>2.5,ROUND(0.50131+(0.85317*C40)-(0.25*C40^2)-(0.45139*C40^3),2),\"\"),\"\"),\"\"))","v":""},{"$f":"IF(C38=\"\",\"\",IF(AND(Calculos!D33>0.022,Calculos!D33<=0.04),IF(C10<=1.2,IF(C39>2.5,0.45,\"\"),\"\"),\"\"))","v":""},{"$f":"IF(C10=\"\",\"\",IF(OR(F33=\"Proceed to the Criterion 3\",F30=\"Proceed to the Criterion 3\",F27=\"Proceed to the Criterion 3\",H33=\"Proceed to the Criterion 3\",H30=\"Proceed to the Criterion 3\",H27=\"Proceed to the Criterion 3\"),IF(AND(Calculos!D33>0.022,Calculos!D33<=0.04),IF(E42=\"\",\"\",IF(C38<=E42,\"The oil is coherent\",\"\")),\"\"),\"\"))","v":""},null,{"$f":"IF(C10=\"\",\"\",IF(OR(F33=\"Proceed to the Criterion 3\",F30=\"Proceed to the Criterion 3\",F27=\"Proceed to the Criterion 3\",H33=\"Proceed to the Criterion 3\",H30=\"Proceed to the Criterion 3\",H27=\"Proceed to the Criterion 3\"),IF(AND(Calculos!D33>0.022,Calculos!D33<=0.04),IF(E38=\"\",\"\",IF(C38<=E38,\"The oil is coherent\",\"\")),\"\"),\"\"))","v":""}]
[null,null,null,{"$f":"IF(C38=\"\",\"\",IF(AND(Calculos!D33>0.022,Calculos!D33<=0.04),IF(C10<=1.2,IF(AND(C39<=2.5,C39>1.5),ROUND(0.61993+(0.71681*C40)-(0.54*C40^2)-(0.17527*C40^3),2),\"\"),\"\"),\"\"))","v":""},{"$f":"IF(C38=\"\",\"\",IF(AND(Calculos!D33>0.022,Calculos!D33<=0.04),IF(C10<=1.2,IF(AND(C39<=2.5,C39>1.5),0.35,\"\"),\"\"),\"\"))","v":""},{"$f":"IF(C10=\"\",\"\",IF(OR(F33=\"Proceed to the Criterion 3\",F30=\"Proceed to the Criterion 3\",F27=\"Proceed to the Criterion 3\",H33=\"Proceed to the Criterion 3\",H30=\"Proceed to the Criterion 3\",H27=\"Proceed to the Criterion 3\"),IF(AND(Calculos!D33>0.022,Calculos!D33<=0.04),IF(E43=\"\",\"\",IF(C38>D43,\"The oil is not coherent\",\"\")),\"\"),\"\"))","v":""},null,{"$f":"IF(C10=\"\",\"\",IF(OR(F33=\"Proceed to the Criterion 3\",F30=\"Proceed to the Criterion 3\",F27=\"Proceed to the Criterion 3\",H33=\"Proceed to the Criterion 3\",H30=\"Proceed to the Criterion 3\",H27=\"Proceed to the Criterion 3\"),IF(AND(Calculos!D33>0.022,Calculos!D33<=0.04),IF(E39=\"\",\"\",IF(C38>D39,\"The oil is not coherent\",\"\")),\"\"),\"\"))","v":""}]
[null,null,null,{"$f":"IF(C38=\"\",\"\",IF(AND(Calculos!D33>0.022,Calculos!D33<=0.04),IF(C10<=1.2,IF(C39<=1.5,ROUND(0.65131+(0.64653*C40)-(0.5119*C40^2)-(0.43403*C40^3),2),\"\"),\"\"),\"\"))","v":""},{"$f":"IF(C38=\"\",\"\",IF(AND(Calculos!D33>0.022,Calculos!D33<=0.04),IF(C10<=1.2,IF(C39<=1.5,0.3,\"\"),\"\"),\"\"))","v":""},{"$f":"IF(C10=\"\",\"\",IF(OR(F33=\"Proceed to the Criterion 3\",F30=\"Proceed to the Criterion 3\",F27=\"Proceed to the Criterion 3\",H33=\"Proceed to the Criterion 3\",H30=\"Proceed to the Criterion 3\",H27=\"Proceed to the Criterion 3\"),IF(AND(Calculos!D33>0.022,Calculos!D33<=0.04),IF(E43=\"\",\"\",IF(AND(C38<=D43,C38>E43),\"Proceed to the Criterion 4\",\"\")),\"\"),\"\"))","v":""},null,{"$f":"IF(C10=\"\",\"\",IF(OR(F33=\"Proceed to the Criterion 3\",F30=\"Proceed to the Criterion 3\",F27=\"Proceed to the Criterion 3\",H33=\"Proceed to the Criterion 3\",H30=\"Proceed to the Criterion 3\",H27=\"Proceed to the Criterion 3\"),IF(AND(Calculos!D33>0.022,Calculos!D33<=0.04),IF(E39=\"\",\"\",IF(AND(C38<=D39,C38>E39),\"Proceed to the Criterion 4\",\"\")),\"\"),\"\"))","v":""}]
[null,null,null,null,null,{"$f":"IF(C10=\"\",\"\",IF(OR(F33=\"Proceed to the Criterion 3\",F30=\"Proceed to the Criterion 3\",F27=\"Proceed to the Criterion 3\",H33=\"Proceed to the Criterion 3\",H30=\"Proceed to the Criterion 3\",H27=\"Proceed to the Criterion 3\"),IF(AND(Calculos!D33>0.022,Calculos!D33<=0.04),IF(E43=\"\",\"\",IF(C38<=E43,\"The oil is coherent\",\"\")),\"\"),\"\"))","v":""},null,{"$f":"IF(C10=\"\",\"\",IF(OR(F33=\"Proceed to the Criterion 3\",F30=\"Proceed to the Criterion 3\",F27=\"Proceed to the Criterion 3\",H33=\"Proceed to the Criterion 3\",H30=\"Proceed to the Criterion 3\",H27=\"Proceed to the Criterion 3\"),IF(AND(Calculos!D33>0.022,Calculos!D33<=0.04),IF(E39=\"\",\"\",IF(C38<=E39,\"The oil is coherent\",\"\")),\"\"),\"\"))","v":""}]
[null,null,null,null,null,{"$f":"IF(C10=\"\",\"\",IF(OR(F33=\"Proceed to the Criterion 3\",F30=\"Proceed to the Criterion 3\",F27=\"Proceed to the Criterion 3\",H33=\"Proceed to the Criterion 3\",H30=\"Proceed to the Criterion 3\",H27=\"Proceed to the Criterion 3\"),IF(AND(Calculos!D33>0.022,Calculos!D33<=0.04),IF(E44=\"\",\"\",IF(C38>D44,\"The oil is not coherent\",\"\")),\"\"),\"\"))","v":""},null,{"$f":"IF(C10=\"\",\"\",IF(OR(F33=\"Proceed to the Criterion 3\",F30=\"Proceed to the Criterion 3\",F27=\"Proceed to the Criterion 3\",H33=\"Proceed to the Criterion 3\",H30=\"Proceed to the Criterion 3\",H27=\"Proceed to the Criterion 3\"),IF(AND(Calculos!D33>0.022,Calculos!D33<=0.04),IF(E40=\"\",\"\",IF(C38>D40,\"The oil is not coherent\",\"\")),\"\"),\"\"))","v":""}]
[null,null,null,null,null,{"$f":"IF(C10=\"\",\"\",IF(OR(F33=\"Proceed to the Criterion 3\",F30=\"Proceed to the Criterion 3\",F27=\"Proceed to the Criterion 3\",H33=\"Proceed to the Criterion 3\",H30=\"Proceed to the Criterion 3\",H27=\"Proceed to the Criterion 3\"),IF(AND(Calculos!D33>0.022,Calculos!D33<=0.04),IF(E44=\"\",\"\",IF(AND(C38<=D44,C38>E44),\"Proceed to the Criterion 4\",\"\")),\"\"),\"\"))","v":""},null,{"$f":"IF(C10=\"\",\"\",IF(OR(F33=\"Proceed to the Criterion 3\",F30=\"Proceed to the Criterion 3\",F27=\"Proceed to the Criterion 3\",H33=\"Proceed to the Criterion 3\",H30=\"Proceed to the Criterion 3\",H27=\"Proceed to the Criterion 3\"),IF(AND(Calculos!D33>0.022,Calculos!D33<=0.04),IF(E40=\"\",\"\",IF(AND(C38<=D40,C38>E40),\"Proceed to the Criterion 4\",\"\")),\"\"),\"\"))","v":""}]
[null,null,null,null,null,{"$f":"IF(C10=\"\",\"\",IF(OR(F33=\"Proceed to the Criterion 3\",F30=\"Proceed to the Criterion 3\",F27=\"Proceed to the Criterion 3\",H33=\"Proceed to the Criterion 3\",H30=\"Proceed to the Criterion 3\",H27=\"Proceed to the Criterion 3\"),IF(AND(Calculos!D33>0.022,Calculos!D33<=0.04),IF(E44=\"\",\"\",IF(C38<=E44,\"The oil is coherent\",\"\")),\"\"),\"\"))","v":""},null,{"$f":"IF(C10=\"\",\"\",IF(OR(F33=\"Proceed to the Criterion 3\",F30=\"Proceed to the Criterion 3\",F27=\"Proceed to the Criterion 3\",H33=\"Proceed to the Criterion 3\",H30=\"Proceed to the Criterion 3\",H27=\"Proceed to the Criterion 3\"),IF(AND(Calculos!D33>0.022,Calculos!D33<=0.04),IF(E40=\"\",\"\",IF(C38<=E40,\"The oil is coherent\",\"\")),\"\"),\"\"))","v":""}]
[]
[null,"Criterion 4 DR1"]
[null,"Parameter","Value","Higher Limit",{"$f":"IF(C52=\"\",\"\",IF(OR(F47=\"Proceed to the Criterion 4\",F44=\"Proceed to the Criterion 4\",F41=\"Proceed to the Criterion 4\",F38=\"Proceed to the Criterion 4\",H47=\"Proceed to the Criterion 4\",H44=\"Proceed to the Criterion 4\",H41=\"Proceed to the Criterion 4\"),IF(AND(Calculos!D33>0.022,Calculos!D33<=0.04),IF(D52=\"\",\"\",IF(C52<=D52,\"The oil is coherent\",\"The oil is not coherent\"))),\"\"))","v":""}]
[null,"DR1 =",{"$f":"IF('Experimental Data'!E27=\"\",\"\",IF(AND(Calculos!D33>0.022,Calculos!D33<=0.04),Calculos!B20,\"\"))","v":""},{"$f":"IF(C52=\"\",\"\",IF(AND(Calculos!D33>0.022,Calculos!D33<=0.04),IF(C10>1.4,IF(C53>2.5,ROUND(0.27831+(0.62855*C54)-(0.31179*C54^2)-(0.01916*C54^3),2),\"\"),\"\"),\"\"))","v":""},{"$f":"IF(C52=\"\",\"\",IF(OR(F47=\"Proceed to the Criterion 4\",F44=\"Proceed to the Criterion 4\",F41=\"Proceed to the Criterion 4\",F38=\"Proceed to the Criterion 4\",H47=\"Proceed to the Criterion 4\",H44=\"Proceed to the Criterion 4\",H41=\"Proceed to the Criterion 4\"),IF(AND(Calculos!D33>0.022,Calculos!D33<=0.04),IF(D53=\"\",\"\",IF(C52<=D53,\"The oil is coherent\",\"The oil is not coherent\"))),\"\"))","v":""}]
[null,"DOOL =",{"$f":"IF(C52=\"\",\"\",IF('Experimental Data'!E27=\"\",\"\",IF(AND(Calculos!D33>0.022,Calculos!D33<=0.04),ROUND(Calculos!B58,2),\"\")))","v":""},{"$f":"IF(C52=\"\",\"\",IF(AND(Calculos!D33>0.022,Calculos!D33<=0.04),IF(C10>1.4,IF(C53<=2.5,ROUND(0.349+(0.56358*C54)-(0.39046*C54^2)+(0.01682*C54^3),2),\"\"),\"\"),\"\"))","v":""},{"$f":"IF(C52=\"\",\"\",IF(OR(F47=\"Proceed to the Criterion 4\",F44=\"Proceed to the Criterion 4\",F41=\"Proceed to the Criterion 4\",F38=\"Proceed to the Criterion 4\",H47=\"Proceed to the Criterion 4\",H44=\"Proceed to the Criterion 4\",H41=\"Proceed to the Criterion 4\"),IF(AND(Calculos!D33>0.022,Calculos!D33<=0.04),IF(D54=\"\",\"\",IF(C52<=D54,\"The oil is coherent\",\"The oil is not coherent\"))),\"\"))","v":""}]
[null,"DECN44p =",{"$f":"IF(C52=\"\",\"\",IF('Experimental Data'!E27=\"\",\"\",IF(AND(Calculos!D33>0.022,Calculos!D33<=0.04),Calculos!B38,\"\")))","v":""},{"$f":"IF(C52=\"\",\"\",IF(AND(Calculos!D33>0.022,Calculos!D33<=0.04),IF(AND(C10>1.2,C10<=1.4),IF(C53>2,ROUND(0.39576+(0.97583*C54)-(0.96618*C54^2)+(0.18939*C54^3),2),\"\"),\"\"),\"\"))","v":""},{"$f":"IF(C52=\"\",\"\",IF(OR(F47=\"Proceed to the Criterion 4\",F44=\"Proceed to the Criterion 4\",F41=\"Proceed to the Criterion 4\",F38=\"Proceed to the Criterion 4\",H47=\"Proceed to the Criterion 4\",H44=\"Proceed to the Criterion 4\",H41=\"Proceed to the Criterion 4\"),IF(AND(Calculos!D33>0.022,Calculos!D33<=0.04),IF(D55=\"\",\"\",IF(C52<=D55,\"The oil is coherent\",\"The oil is not coherent\"))),\"\"))","v":""}]
[null,null,null,{"$f":"IF(C52=\"\",\"\",IF(AND(Calculos!D33>0.022,Calculos!D33<=0.04),IF(AND(C10>1.2,C10<=1.4),IF(C53<=2,ROUND(0.59855+(0.67253*C54)-(0.78342*C54^2)+(0.08709*C54^3),2),\"\"),\"\"),\"\"))","v":""},{"$f":"IF(C52=\"\",\"\",IF(OR(F47=\"Proceed to the Criterion 4\",F44=\"Proceed to the Criterion 4\",F41=\"Proceed to the Criterion 4\",F38=\"Proceed to the Criterion 4\",H47=\"Proceed to the Criterion 4\",H44=\"Proceed to the Criterion 4\",H41=\"Proceed to the Criterion 4\"),IF(AND(Calculos!D33>0.022,Calculos!D33<=0.04),IF(D56=\"\",\"\",IF(C52<=D56,\"The oil is coherent\",\"The oil is not coherent\"))),\"\"))","v":""}]
[null,null,null,{"$f":"IF(C52=\"\",\"\",IF(AND(Calculos!D33>0.022,Calculos!D33<=0.04),IF(C10<=1.2,IF(C28>2.5,ROUND(0.39576+(0.94583*C54)-(0.96618*C54^2)+(0.18939*C54^3),2),\"\"),\"\"),\"\"))","v":""},{"$f":"IF(C52=\"\",\"\",IF(OR(F47=\"Proceed to the Criterion 4\",F44=\"Proceed to the Criterion 4\",F41=\"Proceed to the Criterion 4\",F38=\"Proceed to the Criterion 4\",H47=\"Proceed to the Criterion 4\",H44=\"Proceed to the Criterion 4\",H41=\"Proceed to the Criterion 4\"),IF(AND(Calculos!D33>0.022,Calculos!D33<=0.04),IF(D57=\"\",\"\",IF(C52<=D57,\"The oil is coherent\",\"The oil is not coherent\"))),\"\"))","v":""}]
[null,null,null,{"$f":"IF(C52=\"\",\"\",IF(AND(Calculos!D33>0.022,Calculos!D33<=0.04),IF(C10<=1.2,IF(AND(C53<=2.5,C53>1.5),ROUND(0.54855+(0.67253*C54)-(0.78342*C54^2)+(0.08709*C54^3),2),\"\"),\"\"),\"\"))","v":""},{"$f":"IF(C52=\"\",\"\",IF(OR(F47=\"Proceed to the Criterion 4\",F44=\"Proceed to the Criterion 4\",F41=\"Proceed to the Criterion 4\",F38=\"Proceed to the Criterion 4\",H47=\"Proceed to the Criterion 4\",H44=\"Proceed to the Criterion 4\",H41=\"Proceed to the Criterion 4\"),IF(AND(Calculos!D33>0.022,Calculos!D33<=0.04),IF(D58=\"\",\"\",IF(C52<=D58,\"The oil is coherent\",\"The oil is not coherent\"))),\"\"))","v":""}]
[null,null,null,{"$f":"IF(C52=\"\",\"\",IF(AND(Calculos!D33>0.022,Calculos!D33<=0.04),IF(C10<=1.2,IF(C53<=1.5,ROUND(0.57889+(0.56561*C54)-(0.73909*C54^2)-(0.05787*C54^3),2),\"\"),\"\"),\"\"))","v":""}]

{"sheet":"Criteria for LLLt 0,040-0,070","index":5,"n_rows":83,"n_cols":8,"rows_kept":83,"cut":false,"hidden":false,"merged":[[1,1,1,8]]}
[null,"Criteria for LLL theor. 0,040 - 0,070"]
[null,"Calculation Parameters"]
[null,"Sample Code",{"$f":"IF(C6=\"\",\"\",IF('Experimental Data'!F16=\"\",\"\",'Experimental Data'!F16))","v":""},{"$f":"IF(C6=\"\",\"\",IF('Experimental Data'!G16=\"\",\"\",'Experimental Data'!G16))","v":""},{"$f":"IF(C6=\"\",\"\",IF('Experimental Data'!H16=\"\",\"\",'Experimental Data'!H16))","v":""},{"$f":"IF(C6=\"\",\"\",IF('Experimental Data'!I16=\"\",\"\",'Experimental Data'!I16))","v":""},{"$f":"IF(C6=\"\",\"\",IF('Experimental Data'!J16=\"\",\"\",'Experimental Data'!J16))","v":""},{"$f":"IF(C6=\"\",\"\",IF('Experimental Data'!K16=\"\",\"\",'Experimental Data'!K16))","v":""}]
[null,"Oil Category",{"$f":"IF(C3=\"\",\"\",IF('Experimental Data'!F17=\"\",\"\",'Experimental Data'!F17))","v":""},{"$f":"IF(C4=\"\",\"\",IF(C4=\"EV\",\"Virgin Edible Olive Oil\",IF(C4=\"L\",\"Lampant Olive Oil\",IF(C4=\"R\",\"Refined Olive Oil\"))))","v":""}]
[]
[null,"DECN42 =",{"$f":"IF('Experimental Data'!E27=\"\",\"\",IF(AND(Calculos!D33>0.04,Calculos!D33<=0.07),Calculos!M58,\"\"))","v":""},{"$f":"IF('Experimental Data'!E27=\"\",\"\",IF(AND(Calculos!D33>0.04,Calculos!D33<=0.07),IF(C4=\"EV\",0.2,IF(OR(C4=\"R\",C4=\"L\"),0.3,\"\")),\"\"))","v":""},{"$f":"IF(C6=\"\",\"\",IF(C6<=D6,\"Proceed to the Early Criterion\",\"Proceed to the Early Criterion\"))","v":""},null,{"$f":"IF(C6=\"\",\"\",IF(C6>D6,\"Warning, The DECN42 is too high\",\"\"))","v":""}]
[]
[null,"Early Criterion K1"]
[null,"Parameter","Value","Higher Limit","Lower Limit",{"$f":"IF(C10=\"\",\"\",IF(E6=\"Proceed to the Early Criterion\",IF(AND(Calculos!D33>0.04,Calculos!D33<=0.07),IF(E10=\"\",\"\",IF(C10>D10,\"The oil is not coherent\",\"\")),\"\"),\"\"))","v":""}]
[null,"K1 =",{"$f":"IF('Experimental Data'!E27=\"\",\"\",IF(AND(Calculos!D33>0.04,Calculos!D33<=0.07),Calculos!J24,\"\"))","v":""},{"$f":"IF(C11<=0.75,IF(C10=\"\",\"\",IF(AND(Calculos!D33>0.04,Calculos!D33<=0.07),IF(C10>1.355,1.75,\"\"),\"\")),IF(C10=\"\",\"\",IF(AND(Calculos!D33>0.04,Calculos!D33<=0.07),IF(C10>1.35,1.5,\"\"),\"\")))","v":""},{"$f":"IF(C10=\"\",\"\",IF(AND(Calculos!D33>0.04,Calculos!D33<=0.07),IF(C10>1.355,1.35,\"\"),\"\"))","v":""},{"$f":"IF(C10=\"\",\"\",IF(E6=\"Proceed to the Early Criterion\",IF(AND(Calculos!D33>0.04,Calculos!D33<=0.07),IF(E10=\"\",\"\",IF(AND(C10<=D10,C10>E10),\"Proceed to the Criterion 1\",\"\")),\"\"),\"\"))","v":""}]
[null,"Ln =",{"$f":"IF('Experimental Data'!E27=\"\",\"\",IF(AND(Calculos!D33>0.04,Calculos!D33<=0.07),Calculos!G7,\"\"))","v":""},{"$f":"IF(C10=\"\",\"\",IF(AND(Calculos!D33>0.04,Calculos!D33<=0.07),IF(AND(C10<=1.355,C10>1.155),1.35,\"\"),\"\"))","v":""},{"$f":"IF(C10=\"\",\"\",IF(AND(Calculos!D33>0.04,Calculos!D33<=0.07),IF(AND(C10<=1.355,C10>1.155),1.15,\"\"),\"\"))","v":""},{"$f":"IF(C10=\"\",\"\",IF(E6=\"Proceed to the Early Criterion\",IF(AND(Calculos!D33>0.04,Calculos!D33<=0.07),IF(E11=\"\",\"\",IF(AND(C10<=D11,C10>E11),\"Proceed to the Criterion 1\",\"\")),\"\"),\"\"))","v":""}]
[null,null,null,{"$f":"IF(C10=\"\",\"\",IF(AND(Calculos!D33>0.04,Calculos!D33<=0.07),IF(C10<=1.155,1.15,\"\"),\"\"))","v":""},{"$f":"IF(C10=\"\",\"\",IF(AND(Calculos!D33>0.04,Calculos!D33<=0.07),IF(C10<=1.155,0.9,\"\"),\"\"))","v":""},{"$f":"IF(C10=\"\",\"\",IF(E6=\"Proceed to the Early Criterion\",IF(AND(Calculos!D33>0.04,Calculos!D33<=0.07),IF(E12=\"\",\"\",IF(AND(C10<=D12,C10>E12),\"Proceed to the Criterion 1\",\"\")),\"\"),\"\"))","v":""}]
[null,null,null,null,null,{"$f":"IF(C10=\"\",\"\",IF(E6=\"Proceed to the Early Criterion\",IF(AND(Calculos!D33>0.04,Calculos!D33<=0.07),IF(E12=\"\",\"\",IF(C10<=E12,\"The oil is coherent\",\"\")),\"\"),\"\"))","v":""}]
[]
[null,"Criterion 1 DR3"]
[null,"Parameter","Value","Higher Limit","Lower Limit",{"$f":"IF(C17=\"\",\"\",IF(OR(F12=\"Proceed to the Criterion 1\",F11=\"Proceed to the Criterion 1\",F10=\"Proceed to the Criterion 1\"),IF(AND(Calculos!D33>0.04,Calculos!D33<=0.07),IF(E20=\"\",\"\",IF(C17>D20,\"The oil is not coherent\",\"\"))),\"\"))","v":""}]
[null,"DR3 =",{"$f":"IF('Experimental Data'!E27=\"\",\"\",IF(AND(Calculos!D33>0.04,Calculos!D33<=0.07),ROUND(Calculos!B43,2),\"\"))","v":""},{"$f":"IF(C20<=0.75,IF(C17=\"\",\"\",IF(AND(Calculos!D33>0.04,Calculos!D33<=0.07),IF(C10>1.355,IF(C18>3,ROUND(0.01492+(0.70927*C19)-(0.38357*C19^2)+(0.02315*C19^3),2),\"\"),\"\"),\"\")),\"\")","v":""},{"$f":"IF(C20<=0.75,IF(C17=\"\",\"\",IF(AND(Calculos!D33>0.04,Calculos!D33<=0.07),IF(C10>1.355,IF(C18>3,0.1,\"\"),\"\"),\"\")),\"\")","v":""},{"$f":"IF(C17=\"\",\"\",IF(OR(F12=\"Proceed to the Criterion 1\",F11=\"Proceed to the Criterion 1\",F10=\"Proceed to the Criterion 1\"),IF(AND(Calculos!D33>0.04,Calculos!D33<=0.07),IF(E20=\"\",\"\",IF(AND(C17<=D20,C17>E20),\"Proceed to the Criterion 2\",\"\"))),\"\"))","v":""}]
[null,"DOOL =",{"$f":"IF(C17=\"\",\"\",IF('Experimental Data'!E27=\"\",\"\",IF(AND(Calculos!D33>0.04,Calculos!D33<=0.07),ROUND(Calculos!B58,2),\"\")))","v":""},{"$f":"IF(C20<=0.75,IF(C17=\"\",\"\",IF(AND(Calculos!D33>0.04,Calculos!D33<=0.07),IF(C10>1.355,IF(C18<=3,ROUND(0.30727+(0.33725*C19)+(0.4006*C19^2)-(0.536621*C19^3),2),\"\"),\"\"),\"\")),IF(C17=\"\",\"\",IF(AND(Calculos!D33>0.04,Calculos!D33<=0.07),IF(C10>1.355,ROUND(0.4-(0.12632*C19),2),\"\"),\"\")))","v":""},{"$f":"IF(C20<=0.75,IF(C17=\"\",\"\",IF(AND(Calculos!D33>0.04,Calculos!D33<=0.07),IF(C10>1.355,IF(C18<=3,0.1,\"\"),\"\"),\"\")),IF(C17=\"\",\"\",IF(AND(Calculos!D33>0.04,Calculos!D33<=0.07),IF(C10>1.355,ROUND(0.3-(0.2*C19),2),\"\"),\"\")))","v":""},{"$f":"IF(C17=\"\",\"\",IF(OR(F12=\"Proceed to the Criterion 1\",F11=\"Proceed to the Criterion 1\",F10=\"Proceed to the Criterion 1\"),IF(AND(Calculos!D33>0.04,Calculos!D33<=0.07),IF(E20=\"\",\"\",IF(C17<=E20,\"The oil is coherent\",\"\"))),\"\"))","v":""}]
[null,"DECN44p =",{"$f":"IF(C17=\"\",\"\",IF('Experimental Data'!E27=\"\",\"\",IF(AND(Calculos!D33>0.04,Calculos!D33<=0.07),Calculos!B38,\"\")))","v":""},{"$f":"IF(C20<=0.75,IF(C17=\"\",\"\",IF(AND(Calculos!D33>0.04,Calculos!D33<=0.07),IF(AND(C10<=1.355,C10>1.155),IF(C18>2.5,ROUND(0.40253+(0.4343*C19)+(0.25771*C19^2)-(0.470481*C19^3),2),\"\"),\"\"),\"\")),IF(C17=\"\",\"\",IF(AND(Calculos!D33>0.04,Calculos!D33<=0.07),IF(AND(C10<=1.355,C10>1.155),IF(C18>2,ROUND(0.46173+(0.41939*C19)-(0.63278*C19^2)+(0.13017*C19^3),2),\"\"),\"\"),\"\")))","v":""},{"$f":"IF(C20<=0.75,IF(C17=\"\",\"\",IF(AND(Calculos!D33>0.04,Calculos!D33<=0.07),IF(AND(C10<=1.355,C10>1.155),IF(C18>2.5,ROUND(-0.1+(0.16667*C19),2),\"\"),\"\"),\"\")),IF(C17=\"\",\"\",IF(AND(Calculos!D33>0.04,Calculos!D33<=0.07),IF(AND(C10<=1.355,C10>1.155),IF(C18>2,0.15,\"\"),\"\"),\"\")))","v":""},{"$f":"IF(C17=\"\",\"\",IF(OR(F12=\"Proceed to the Criterion 1\",F11=\"Proceed to the Criterion 1\",F10=\"Proceed to the Criterion 1\"),IF(AND(Calculos!D33>0.04,Calculos!D33<=0.07),IF(E21=\"\",\"\",IF(C17>D21,\"The oil is not coherent\",\"\"))),\"\"))","v":""},null,{"$f":"IF(C17=\"\",\"\",IF(OR(F12=\"Proceed to the Criterion 1\",F11=\"Proceed to the Criterion 1\",F10=\"Proceed to the Criterion 1\"),IF(AND(Calculos!D33>0.04,Calculos!D33<=0.07),IF(E17=\"\",\"\",IF(C17>D17,\"The oil is not coherent\",\"\"))),\"\"))","v":""}]
[null,"Ln =",{"$f":"IF('Experimental Data'!E27=\"\",\"\",IF(AND(Calculos!D33>0.04,Calculos!D33<=0.07),Calculos!G7,\"\"))","v":""},{"$f":"IF(C20<=0.75,IF(C17=\"\",\"\",IF(AND(Calculos!D33>0.04,Calculos!D33<=0.07),IF(AND(C10<=1.355,C10>1.155),IF(C18<=2.5,ROUND(0.40253+(0.4343*C19)+(0.25771*C19^2)-(0.470481*C19^3),2),\"\"),\"\"),\"\")),IF(C17=\"\",\"\",IF(AND(Calculos!D33>0.04,Calculos!D33<=0.07),IF(AND(C10<=1.355,C10>1.155),IF(C18<=2,ROUND(0.46173+(0.41939*C19)-(0.63278*C19^2)+(0.13017*C19^3),2),\"\"),\"\"),\"\")))","v":""},{"$f":"IF(C20<=0.75,IF(C17=\"\",\"\",IF(AND(Calculos!D33>0.04,Calculos!D33<=0.07),IF(AND(C10<=1.355,C10>1.155),IF(C18<=2.5,ROUND(0.3675-(0.47*C19),2),\"\"),\"\"),\"\")),IF(C17=\"\",\"\",IF(AND(Calculos!D33>0.04,Calculos!D33<=0.07),IF(AND(C10<=1.355,C10>1.155),IF(C18<=2,ROUND(-0.1+(0.4*C19),2),\"\"),\"\"),\"\")))","v":""},{"$f":"IF(C17=\"\",\"\",IF(OR(F12=\"Proceed to the Criterion 1\",F11=\"Proceed to the Criterion 1\",F10=\"Proceed to the Criterion 1\"),IF(AND(Calculos!D33>0.04,Calculos!D33<=0.07),IF(E21=\"\",\"\",IF(AND(C17<=D21,C17>E21),\"Proceed to the Criterion 2\",\"\"))),\"\"))","v":""},null,{"$f":"IF(C17=\"\",\"\",IF(OR(F12=\"Proceed to the Criterion 1\",F11=\"Proceed to the Criterion 1\",F10=\"Proceed to the Criterion 1\"),IF(AND(Calculos!D33>0.04,Calculos!D33<=0.07),IF(E17=\"\",\"\",IF(AND(C17<=D17,C17>E17),\"Proceed to the Criterion 2\",\"\"))),\"\"))","v":""}]
[null,null,null,{"$f":"IF(C20<=0.75,IF(C17=\"\",\"\",IF(AND(Calculos!D33>0.04,Calculos!D33<=0.07),IF(C10<=1.155,IF(C18>2.5,ROUND(0.40253+(0.4343*C19)+(0.25771*C19^2)-(0.470481*C19^3),2),\"\"),\"\"),\"\")),IF(C17=\"\",\"\",IF(AND(Calculos!D33>0.04,Calculos!D33<=0.07),IF(C10<=1.155,IF(C18>2.5,ROUND(0.46436+(0.44306*C19)-(0.65444*C19^2)+(0.07003*C19^3),2),\"\"),\"\"),\"\")))","v":""},{"$f":"IF(C20<=0.75,IF(C17=\"\",\"\",IF(AND(Calculos!D33>0.04,Calculos!D33<=0.07),IF(C10<=1.155,IF(C18>2.5,ROUND(-0.1+(0.29167*C19),2),\"\"),\"\"),\"\")),IF(C17=\"\",\"\",IF(AND(Calculos!D33>0.04,Calculos!D33<=0.07),IF(C10<=1.155,IF(C18>2.5,ROUND(0+(0.2*C19),2),\"\"),\"\"),\"\")))","v":""},{"$f":"IF(C17=\"\",\"\",IF(OR(F12=\"Proceed to the Criterion 1\",F11=\"Proceed to the Criterion 1\",F10=\"Proceed to the Criterion 1\"),IF(AND(Calculos!D33>0.04,Calculos!D33<=0.07),IF(E21=\"\",\"\",IF(C17<=E21,\"The oil is coherent\",\"\"))),\"\"))","v":""},null,{"$f":"IF(C17=\"\",\"\",IF(OR(F12=\"Proceed to the Criterion 1\",F11=\"Proceed to the Criterion 1\",F10=\"Proceed to the Criterion 1\"),IF(AND(Calculos!D33>0.04,Calculos!D33<=0.07),IF(E17=\"\",\"\",IF(C17<=E17,\"The oil is coherent\",\"\"))),\"\"))","v":""}]
[null,null,null,{"$f":"IF(C20<=0.75,IF(C17=\"\",\"\",IF(AND(Calculos!D33>0.04,Calculos!D33<=0.07),IF(C10<=1.155,IF(AND(C18<=2.5,C18>1.5),ROUND(0.40689+(0.27567*C19)+(0.32336*C19^2)-(0.48643*C19^3),2),\"\"),\"\"),\"\")),IF(C17=\"\",\"\",IF(AND(Calculos!D33>0.04,Calculos!D33<=0.07),IF(C10<=1.155,IF(AND(C18<=2.5,C18>1.5),ROUND(0.46436+(0.44306*C19)-(0.65444*C19^2)+(0.07003*C19^3),2),\"\"),\"\"),\"\")))","v":""},{"$f":"IF(C20<=0.75,IF(C17=\"\",\"\",IF(AND(Calculos!D33>0.04,Calculos!D33<=0.07),IF(C10<=1.155,IF(AND(C18<=2.5,C18>1.5),ROUND(0.1+(0.25*C19),2),\"\"),\"\"),\"\")),IF(C17=\"\",\"\",IF(AND(Calculos!D33>0.04,Calculos!D33<=0.07),IF(C10<=1.155,IF(AND(C18<=2.5,C18>1.5),ROUND(0.1+(0.2*C19),2),\"\"),\"\"),\"\")))","v":""},{"$f":"IF(C17=\"\",\"\",IF(OR(F12=\"Proceed to the Criterion 1\",F11=\"Proceed to the Criterion 1\",F10=\"Proceed to the Criterion 1\"),IF(AND(Calculos!D33>0.04,Calculos!D33<=0.07),IF(E22=\"\",\"\",IF(C17>D22,\"The oil is not coherent\",\"\"))),\"\"))","v":""},null,{"$f":"IF(C17=\"\",\"\",IF(OR(F12=\"Proceed to the Criterion 1\",F11=\"Proceed to the Criterion 1\",F10=\"Proceed to the Criterion 1\"),IF(AND(Calculos!D33>0.04,Calculos!D33<=0.07),IF(E18=\"\",\"\",IF(C17>D18,\"The oil is not coherent\",\"\"))),\"\"))","v":""}]
[null,null,null,{"$f":"IF(C20<=0.75,IF(C17=\"\",\"\",IF(AND(Calculos!D33>0.04,Calculos!D33<=0.07),IF(C10<=1.155,IF(C18<=1.5,ROUND(0.40689+(0.27567*C19)+(0.32336*C19^2)-(0.48643*C19^3),2),\"\"),\"\"),\"\")),IF(C17=\"\",\"\",IF(AND(Calculos!D33>0.04,Calculos!D33<=0.07),IF(C10<=1.155,IF(C18<=1.5,ROUND(0.46436+(0.44306*C19)-(0.65444*C19^2)+(0.07003*C19^3),2),\"\"),\"\"),\"\")))","v":""},{"$f":"IF(C20<=0.75,IF(C17=\"\",\"\",IF(AND(Calculos!D33>0.04,Calculos!D33<=0.07),IF(C10<=1.155,IF(C18<=1.5,ROUND(0.12+(0.1333*C19),2),\"\"),\"\"),\"\")),IF(C17=\"\",\"\",IF(AND(Calculos!D33>0.04,Calculos!D33<=0.07),IF(C10<=1.155,IF(C18<=1.5,0.1,\"\"),\"\"),\"\")))","v":""},{"$f":"IF(C17=\"\",\"\",IF(OR(F12=\"Proceed to the Criterion 1\",F11=\"Proceed to the Criterion 1\",F10=\"Proceed to the Criterion 1\"),IF(AND(Calculos!D33>0.04,Calculos!D33<=0.07),IF(E22=\"\",\"\",IF(AND(C17<=D22,C17>E22),\"Proceed to the Criterion 2\",\"\"))),\"\"))","v":""},null,{"$f":"IF(C17=\"\",\"\",IF(OR(F12=\"Proceed to the Criterion 1\",F11=\"Proceed to the Criterion 1\",F10=\"Proceed to the Criterion 1\"),IF(AND(Calculos!D33>0.04,Calculos!D33<=0.07),IF(E18=\"\",\"\",IF(AND(C17<=D18,C17>E18),\"Proceed to the Criterion 2\",\"\"))),\"\"))","v":""}]
[null,null,null,null,null,{"$f":"IF(C17=\"\",\"\",IF(OR(F12=\"Proceed to the Criterion 1\",F11=\"Proceed to the Criterion 1\",F10=\"Proceed to the Criterion 1\"),IF(AND(Calculos!D33>0.04,Calculos!D33<=0.07),IF(E22=\"\",\"\",IF(C17<=E22,\"The oil is coherent\",\"\"))),\"\"))","v":""},null,{"$f":"IF(C17=\"\",\"\",IF(OR(F12=\"Proceed to the Criterion 1\",F11=\"Proceed to the Criterion 1\",F10=\"Proceed to the Criterion 1\"),IF(AND(Calculos!D33>0.04,Calculos!D33<=0.07),IF(E18=\"\",\"\",IF(C17<=E18,\"The oil is coherent\",\"\"))),\"\"))","v":""}]
[null,null,null,null,null,{"$f":"IF(C17=\"\",\"\",IF(OR(F12=\"Proceed to the Criterion 1\",F11=\"Proceed to the Criterion 1\",F10=\"Proceed to the Criterion 1\"),IF(AND(Calculos!D33>0.04,Calculos!D33<=0.07),IF(E23=\"\",\"\",IF(C17>D23,\"The oil is not coherent\",\"\"))),\"\"))","v":""},null,{"$f":"IF(C17=\"\",\"\",IF(OR(F12=\"Proceed to the Criterion 1\",F11=\"Proceed to the Criterion 1\",F10=\"Proceed to the Criterion 1\"),IF(AND(Calculos!D33>0.04,Calculos!D33<=0.07),IF(E19=\"\",\"\",IF(C17>D19,\"The oil is not coherent\",\"\"))),\"\"))","v":""}]
[null,null,null,null,null,{"$f":"IF(C17=\"\",\"\",IF(OR(F12=\"Proceed to the Criterion 1\",F11=\"Proceed to the Criterion 1\",F10=\"Proceed to the Criterion 1\"),IF(AND(Calculos!D33>0.04,Calculos!D33<=0.07),IF(E23=\"\",\"\",IF(AND(C17<=D23,C17>E23),\"Proceed to the Criterion 2\",\"\"))),\"\"))","v":""},null,{"$f":"IF(C17=\"\",\"\",IF(OR(F12=\"Proceed to the Criterion 1\",F11=\"Proceed to the Criterion 1\",F10=\"Proceed to the Criterion 1\"),IF(AND(Calculos!D33>0.04,Calculos!D33<=0.07),IF(E19=\"\",\"\",IF(AND(C17<=D19,C17>E19),\"Proceed to the Criterion 2\",\"\"))),\"\"))","v":""}]
[null,null,null,null,null,{"$f":"IF(C17=\"\",\"\",IF(OR(F12=\"Proceed to the Criterion 1\",F11=\"Proceed to the Criterion 1\",F10=\"Proceed to the Criterion 1\"),IF(AND(Calculos!D33>0.04,Calculos!D33<=0.07),IF(E23=\"\",\"\",IF(C17<=E23,\"The oil is coherent\",\"\"))),\"\"))","v":""},null,{"$f":"IF(C17=\"\",\"\",IF(OR(F12=\"Proceed to the Criterion 1\",F11=\"Proceed to the Criterion 1\",F10=\"Proceed to the Criterion 1\"),IF(AND(Calculos!D33>0.04,Calculos!D33<=0.07),IF(E19=\"\",\"\",IF(C17<=E19,\"The oil is coherent\",\"\"))),\"\"))","v":""}]
[]
[null,"Criterion 2 L3"]
[null,"Parameter","Value","Higher Limit","Lower Limit",{"$f":"IF(C31=\"\",\"\",IF(OR(F26=\"Proceed to the Criterion 2\",F23=\"Proceed to the Criterion 2\",F20=\"Proceed to the Criterion 2\",F17=\"Proceed to the Criterion 2\",H26=\"Proceed to the Criterion 2\",H23=\"Proceed to the Criterion 2\",H20=\"Proceed to the Criterion 2\"),IF(AND(Calculos!D33>0.04,Calculos!D33<=0.07),IF(E34=\"\",\"\",IF(C31>D34,\"The oil is not coherent\",\"\"))),\"\"))","v":""}]
[null,"L3=",{"$f":"IF('Experimental Data'!E27=\"\",\"\",IF(AND(Calculos!D33>0.04,Calculos!D33<=0.07),Calculos!J19,\"\"))","v":""},{"$f":"IF(C34<=0.75,IF(C31=\"\",\"\",IF(AND(Calculos!D33>0.04,Calculos!D33<=0.07),IF(C10>1.35,IF(C33>3.5,ROUND(-1.27275+(2.90355*C32)-(1.36105*C32^2)+(0.11574*C32^3),2),\"\"),\"\"),\"\")),\"\")","v":""},{"$f":"IF(C34<=0.75,IF(C31=\"\",\"\",IF(AND(Calculos!D33>0.04,Calculos!D33<=0.07),IF(C10>1.35,IF(C33>3.5,0.25,\"\"),\"\"),\"\")),\"\")","v":""},{"$f":"IF(C31=\"\",\"\",IF(OR(F26=\"Proceed to the Criterion 2\",F23=\"Proceed to the Criterion 2\",F20=\"Proceed to the Criterion 2\",F17=\"Proceed to the Criterion 2\",H26=\"Proceed to the Criterion 2\",H23=\"Proceed to the Criterion 2\",H20=\"Proceed to the Criterion 2\"),IF(AND(Calculos!D33>0.04,Calculos!D33<=0.07),IF(E34=\"\",\"\",IF(AND(C31>E34,C31<=D34),\"Proceed to the Criterion 3\",\"\"))),\"\"))","v":""}]
[null,"DECN44p =",{"$f":"IF(C31=\"\",\"\",IF('Experimental Data'!E27=\"\",\"\",IF(AND(Calculos!D33>0.04,Calculos!D33<=0.07),Calculos!B38,\"\")))","v":""},{"$f":"IF(C34<=0.75,IF(C31=\"\",\"\",IF(AND(Calculos!D33>0.04,Calculos!D33<=0.07),IF(C10>1.35,IF(C33<=3.5,ROUND(0.34966+(0.57415*C32)-(0.3546*C32^2)-(0.00194*C32^3),2),\"\"),\"\"),\"\")),IF(C31=\"\",\"\",IF(AND(Calculos!D33>0.04,Calculos!D33<=0.07),IF(C10>1.35,ROUND(0.38+(0.07619*C32),2),\"\"),\"\")))","v":""},{"$f":"IF(C34<=0.75,IF(C31=\"\",\"\",IF(AND(Calculos!D33>0.04,Calculos!D33<=0.07),IF(C10>1.35,IF(C33<=3.5,0.25,\"\"),\"\"),\"\")),IF(C31=\"\",\"\",IF(AND(Calculos!D33>0.04,Calculos!D33<=0.07),IF(C10>1.35,0.35,\"\"),\"\")))","v":""},{"$f":"IF(C31=\"\",\"\",IF(OR(F26=\"Proceed to the Criterion 2\",F23=\"Proceed to the Criterion 2\",F20=\"Proceed to the Criterion 2\",F17=\"Proceed to the Criterion 2\",H26=\"Proceed to the Criterion 2\",H23=\"Proceed to the Criterion 2\",H20=\"Proceed to the Criterion 2\"),IF(AND(Calculos!D33>0.04,Calculos!D33<=0.07),IF(E34=\"\",\"\",IF(C31<=E34,\"The oil is coherent\",\"\"))),\"\"))","v":""}]
[null,"DOOL =",{"$f":"IF(C31=\"\",\"\",IF('Experimental Data'!E27=\"\",\"\",IF(AND(Calculos!D33>0.04,Calculos!D33<=0.07),ROUND(Calculos!B58,2),\"\")))","v":""},{"$f":"IF(C34<=0.75,IF(C31=\"\",\"\",IF(AND(Calculos!D33>0.04,Calculos!D33<=0.07),IF(AND(C10<=1.35,C10>1.15),IF(C33>2.5,ROUND(0.44727+(0.86436*C32)-(0.87419*C32^2)+(0.1673*C32^3),2),\"\"),\"\"),\"\")),IF(C31=\"\",\"\",IF(AND(Calculos!D33>0.04,Calculos!D33<=0.07),IF(AND(C10<=1.35,C10>1.15),IF(C33>2,ROUND(0.43036+(0.37272*C32)-(0.05571*C32^2)-(0.17209*C32^3),2),\"\"),\"\"),\"\")))","v":""},{"$f":"IF(C34<=0.75,IF(C31=\"\",\"\",IF(AND(Calculos!D33>0.04,Calculos!D33<=0.07),IF(AND(C10<=1.35,C10>1.15),IF(C33>2.5,0.3,\"\"),\"\"),\"\")),IF(C31=\"\",\"\",IF(AND(Calculos!D33>0.04,Calculos!D33<=0.07),IF(AND(C10<=1.35,C10>1.15),IF(C33>2,0.35,\"\"),\"\"),\"\")))","v":""},{"$f":"IF(C31=\"\",\"\",IF(OR(F26=\"Proceed to the Criterion 2\",F23=\"Proceed to the Criterion 2\",F20=\"Proceed to the Criterion 2\",F17=\"Proceed to the Criterion 2\",H26=\"Proceed to the Criterion 2\",H23=\"Proceed to the Criterion 2\",H20=\"Proceed to the Criterion 2\"),IF(AND(Calculos!D33>0.04,Calculos!D33<=0.07),IF(E35=\"\",\"\",IF(C31>D35,\"The oil is not coherent\",\"\"))),\"\"))","v":""},null,{"$f":"IF(C31=\"\",\"\",IF(OR(F26=\"Proceed to the Criterion 2\",F23=\"Proceed to the Criterion 2\",F20=\"Proceed to the Criterion 2\",F17=\"Proceed to the Criterion 2\",H26=\"Proceed to the Criterion 2\",H23=\"Proceed to the Criterion 2\",H20=\"Proceed to the Criterion 2\"),IF(AND(Calculos!D33>0.04,Calculos!D33<=0.07),IF(E31=\"\",\"\",IF(C31>D31,\"The oil is not coherent\",\"\"))),\"\"))","v":""}]
[null,"Ln =",{"$f":"IF('Experimental Data'!E27=\"\",\"\",IF(AND(Calculos!D33>0.04,Calculos!D33<=0.07),Calculos!G7,\"\"))","v":""},{"$f":"IF(C34<=0.75,IF(C31=\"\",\"\",IF(AND(Calculos!D33>0.04,Calculos!D33<=0.07),IF(AND(C10<=1.35,C10>1.15),IF(C33<=2.5,ROUND(0.62687+(0.36126*C32)-(0.56525*C32^2)-(0.09207*C32^3),2),\"\"),\"\"),\"\")),IF(C31=\"\",\"\",IF(AND(Calculos!D33>0.04,Calculos!D33<=0.07),IF(AND(C10<=1.35,C10>1.15),IF(C33<=2,ROUND(0.54952+(0.50298*C32)-(0.7381*C32^2)+(0.10417*C32^3),2),\"\"),\"\"),\"\")))","v":""},{"$f":"IF(C34<=0.75,IF(C31=\"\",\"\",IF(AND(Calculos!D33>0.04,Calculos!D33<=0.07),IF(AND(C10<=1.35,C10>1.15),IF(C33<=2.5,0.3,\"\"),\"\"),\"\")),IF(C31=\"\",\"\",IF(AND(Calculos!D33>0.04,Calculos!D33<=0.07),IF(AND(C10<=1.35,C10>1.15),IF(C33<=2,0.3,\"\"),\"\"),\"\")))","v":""},{"$f":"IF(C31=\"\",\"\",IF(OR(F26=\"Proceed to the Criterion 2\",F23=\"Proceed to the Criterion 2\",F20=\"Proceed to the Criterion 2\",F17=\"Proceed to the Criterion 2\",H26=\"Proceed to the Criterion 2\",H23=\"Proceed to the Criterion 2\",H20=\"Proceed to the Criterion 2\"),IF(AND(Calculos!D33>0.04,Calculos!D33<=0.07),IF(E35=\"\",\"\",IF(AND(C31>E35,C31<=D35),\"Proceed to the Criterion 3\",\"\"))),\"\"))","v":""},null,{"$f":"IF(C31=\"\",\"\",IF(OR(F26=\"Proceed to the Criterion 2\",F23=\"Proceed to the Criterion 2\",F20=\"Proceed to the Criterion 2\",F17=\"Proceed to the Criterion 2\",H26=\"Proceed to the Criterion 2\",H23=\"Proceed to the Criterion 2\",H20=\"Proceed to the Criterion 2\"),IF(AND(Calculos!D33>0.04,Calculos!D33<=0.07),IF(E31=\"\",\"\",IF(AND(C31>E31,C31<=D31),\"Proceed to the Criterion 3\",\"\"))),\"\"))","v":""}]
[null,null,null,{"$f":"IF(C34<=0.75,IF(C31=\"\",\"\",IF(AND(Calculos!D33>0.04,Calculos!D33<=0.07),IF(C10<=1.15,IF(C33>2.5,ROUND(0.54717+(0.52747*C32)-(0.52318*C32^2)+(0.05419*C32^3),2),\"\"),\"\"),\"\")),IF(C31=\"\",\"\",IF(AND(Calculos!D33>0.04,Calculos!D33<=0.07),IF(C10<=1.15,IF(C33>2.5,ROUND(0.43036+(0.37272*C32)-(0.05571*C32^2)-(0.17209*C32^3),2),\"\"),\"\"),\"\")))","v":""},{"$f":"IF(C34<=0.75,IF(C31=\"\",\"\",IF(AND(Calculos!D33>0.04,Calculos!D33<=0.07),IF(C10<=1.15,IF(C33>2.5,0.4,\"\"),\"\"),\"\")),IF(C31=\"\",\"\",IF(AND(Calculos!D33>0.04,Calculos!D33<=0.07),IF(C10<=1.15,IF(C33>2.5,0.4,\"\"),\"\"),\"\")))","v":""},{"$f":"IF(C31=\"\",\"\",IF(OR(F26=\"Proceed to the Criterion 2\",F23=\"Proceed to the Criterion 2\",F20=\"Proceed to the Criterion 2\",F17=\"Proceed to the Criterion 2\",H26=\"Proceed to the Criterion 2\",H23=\"Proceed to the Criterion 2\",H20=\"Proceed to the Criterion 2\"),IF(AND(Calculos!D33>0.04,Calculos!D33<=0.07),IF(E35=\"\",\"\",IF(C31<=E35,\"The oil is coherent\",\"\"))),\"\"))","v":""},null,{"$f":"IF(C31=\"\",\"\",IF(OR(F26=\"Proceed to the Criterion 2\",F23=\"Proceed to the Criterion 2\",F20=\"Proceed to the Criterion 2\",F17=\"Proceed to the Criterion 2\",H26=\"Proceed to the Criterion 2\",H23=\"Proceed to the Criterion 2\",H20=\"Proceed to the Criterion 2\"),IF(AND(Calculos!D33>0.04,Calculos!D33<=0.07),IF(E31=\"\",\"\",IF(C31<=E31,\"The oil is coherent\",\"\"))),\"\"))","v":""}]
[null,null,null,{"$f":"IF(C34<=0.75,IF(C31=\"\",\"\",IF(AND(Calculos!D33>0.04,Calculos!D33<=0.07),IF(C10<=1.15,IF(AND(C33<=2.5,C33>1.5),ROUND(0.62687+(0.36126*C32)-(0.56525*C32^2)-(0.09207*C32^3),2),\"\"),\"\"),\"\")),IF(C31=\"\",\"\",IF(AND(Calculos!D33>0.04,Calculos!D33<=0.07),IF(C10<=1.15,IF(AND(C33<=2.5,C33>1.5),ROUND(0.57952+(0.52298*C32)-(0.7181*C32^2)+(0.12417*C32^3),2),\"\"),\"\"),\"\")))","v":""},{"$f":"IF(C34<=0.75,IF(C31=\"\",\"\",IF(AND(Calculos!D33>0.04,Calculos!D33<=0.07),IF(C10<=1.15,IF(AND(C33<=2.5,C33>1.5),0.35,\"\"),\"\"),\"\")),IF(C31=\"\",\"\",IF(AND(Calculos!D33>0.04,Calculos!D33<=0.07),IF(C10<=1.15,IF(AND(C33<=2.5,C33>1.5),0.35,\"\"),\"\"),\"\")))","v":""},{"$f":"IF(C31=\"\",\"\",IF(OR(F26=\"Proceed to the Criterion 2\",F23=\"Proceed to the Criterion 2\",F20=\"Proceed to the Criterion 2\",F17=\"Proceed to the Criterion 2\",H26=\"Proceed to the Criterion 2\",H23=\"Proceed to the Criterion 2\",H20=\"Proceed to the Criterion 2\"),IF(AND(Calculos!D33>0.04,Calculos!D33<=0.07),IF(E36=\"\",\"\",IF(C31>D36,\"The oil is not coherent\",\"\"))),\"\"))","v":""},null,{"$f":"IF(C31=\"\",\"\",IF(OR(F26=\"Proceed to the Criterion 2\",F23=\"Proceed to the Criterion 2\",F20=\"Proceed to the Criterion 2\",F17=\"Proceed to the Criterion 2\",H26=\"Proceed to the Criterion 2\",H23=\"Proceed to the Criterion 2\",H20=\"Proceed to the Criterion 2\"),IF(AND(Calculos!D33>0.04,Calculos!D33<=0.07),IF(E32=\"\",\"\",IF(C31>D32,\"The oil is not coherent\",\"\"))),\"\"))","v":""}]
[null,null,null,{"$f":"IF(C34<=0.75,IF(C31=\"\",\"\",IF(AND(Calculos!D33>0.04,Calculos!D33<=0.07),IF(C10<=1.15,IF(C33<=1.5,ROUND(0.64687+(0.36126*C32)-(0.56525*C32^2)-(0.09207*C32^3),2),\"\"),\"\"),\"\")),IF(C31=\"\",\"\",IF(AND(Calculos!D33>0.04,Calculos!D33<=0.07),IF(C10<=1.15,IF(C33<=1.5,0.65,\"\"),\"\"),\"\")))","v":""},{"$f":"IF(C34<=0.75,IF(C31=\"\",\"\",IF(AND(Calculos!D33>0.04,Calculos!D33<=0.07),IF(C10<=1.15,IF(C33<=1.5,0.3,\"\"),\"\"),\"\")),IF(C31=\"\",\"\",IF(AND(Calculos!D33>0.04,Calculos!D33<=0.07),IF(C10<=1.15,IF(C33<=1.5,0.25,\"\"),\"\"),\"\")))","v":""},{"$f":"IF(C31=\"\",\"\",IF(OR(F26=\"Proceed to the Criterion 2\",F23=\"Proceed to the Criterion 2\",F20=\"Proceed to the Criterion 2\",F17=\"Proceed to the Criterion 2\",H26=\"Proceed to the Criterion 2\",H23=\"Proceed to the Criterion 2\",H20=\"Proceed to the Criterion 2\"),IF(AND(Calculos!D33>0.04,Calculos!D33<=0.07),IF(E36=\"\",\"\",IF(AND(C31>E36,C31<=D36),\"Proceed to the Criterion 3\",\"\"))),\"\"))","v":""},null,{"$f":"IF(C31=\"\",\"\",IF(OR(F26=\"Proceed to the Criterion 2\",F23=\"Proceed to the Criterion 2\",F20=\"Proceed to the Criterion 2\",F17=\"Proceed to the Criterion 2\",H26=\"Proceed to the Criterion 2\",H23=\"Proceed to the Criterion 2\",H20=\"Proceed to the Criterion 2\"),IF(AND(Calculos!D33>0.04,Calculos!D33<=0.07),IF(E32=\"\",\"\",IF(AND(C31>E32,C31<=D32),\"Proceed to the Criterion 3\",\"\"))),\"\"))","v":""}]
[null,null,null,null,null,{"$f":"IF(C31=\"\",\"\",IF(OR(F26=\"Proceed to the Criterion 2\",F23=\"Proceed to the Criterion 2\",F20=\"Proceed to the Criterion 2\",F17=\"Proceed to the Criterion 2\",H26=\"Proceed to the Criterion 2\",H23=\"Proceed to the Criterion 2\",H20=\"Proceed to the Criterion 2\"),IF(AND(Calculos!D33>0.04,Calculos!D33<=0.07),IF(E36=\"\",\"\",IF(C31<=E36,\"The oil is coherent\",\"\"))),\"\"))","v":""},null,{"$f":"IF(C31=\"\",\"\",IF(OR(F26=\"Proceed to the Criterion 2\",F23=\"Proceed to the Criterion 2\",F20=\"Proceed to the Criterion 2\",F17=\"Proceed to the Criterion 2\",H26=\"Proceed to the Criterion 2\",H23=\"Proceed to the Criterion 2\",H20=\"Proceed to the Criterion 2\"),IF(AND(Calculos!D33>0.04,Calculos!D33<=0.07),IF(E32=\"\",\"\",IF(C31<=E32,\"The oil is coherent\",\"\"))),\"\"))","v":""}]
[null,null,null,null,null,{"$f":"IF(C31=\"\",\"\",IF(OR(F26=\"Proceed to the Criterion 2\",F23=\"Proceed to the Criterion 2\",F20=\"Proceed to the Criterion 2\",F17=\"Proceed to the Criterion 2\",H26=\"Proceed to the Criterion 2\",H23=\"Proceed to the Criterion 2\",H20=\"Proceed to the Criterion 2\"),IF(AND(Calculos!D33>0.04,Calculos!D33<=0.07),IF(E37=\"\",\"\",IF(C31>D37,\"The oil is not coherent\",\"\"))),\"\"))","v":""},null,{"$f":"IF(C31=\"\",\"\",IF(OR(F26=\"Proceed to the Criterion 2\",F23=\"Proceed to the Criterion 2\",F20=\"Proceed to the Criterion 2\",F17=\"Proceed to the Criterion 2\",H26=\"Proceed to the Criterion 2\",H23=\"Proceed to the Criterion 2\",H20=\"Proceed to the Criterion 2\"),IF(AND(Calculos!D33>0.04,Calculos!D33<=0.07),IF(E33=\"\",\"\",IF(C31>D33,\"The oil is not coherent\",\"\"))),\"\"))","v":""}]
[null,null,null,null,null,{"$f":"IF(C31=\"\",\"\",IF(OR(F26=\"Proceed to the Criterion 2\",F23=\"Proceed to the Criterion 2\",F20=\"Proceed to the Criterion 2\",F17=\"Proceed to the Criterion 2\",H26=\"Proceed to the Criterion 2\",H23=\"Proceed to the Criterion 2\",H20=\"Proceed to the Criterion 2\"),IF(AND(Calculos!D33>0.04,Calculos!D33<=0.07),IF(E37=\"\",\"\",IF(AND(C31>E37,C31<=D37),\"Proceed to the Criterion 3\",\"\"))),\"\"))","v":""},null,{"$f":"IF(C31=\"\",\"\",IF(OR(F26=\"Proceed to the Criterion 2\",F23=\"Proceed to the Criterion 2\",F20=\"Proceed to the Criterion 2\",F17=\"Proceed to the Criterion 2\",H26=\"Proceed to the Criterion 2\",H23=\"Proceed to the Criterion 2\",H20=\"Proceed to the Criterion 2\"),IF(AND(Calculos!D33>0.04,Calculos!D33<=0.07),IF(E33=\"\",\"\",IF(AND(C31>E33,C31<=D33),\"Proceed to the Criterion 3\",\"\"))),\"\"))","v":""}]
[null,null,null,null,null,{"$f":"IF(C31=\"\",\"\",IF(OR(F26=\"Proceed to the Criterion 2\",F23=\"Proceed to the Criterion 2\",F20=\"Proceed to the Criterion 2\",F17=\"Proceed to the Criterion 2\",H26=\"Proceed to the Criterion 2\",H23=\"Proceed to the Criterion 2\",H20=\"Proceed to the Criterion 2\"),IF(AND(Calculos!D33>0.04,Calculos!D33<=0.07),IF(E37=\"\",\"\",IF(C31<=E37,\"The oil is coherent\",\"\"))),\"\"))","v":""},null,{"$f":"IF(C31=\"\",\"\",IF(OR(F26=\"Proceed to the Criterion 2\",F23=\"Proceed to the Criterion 2\",F20=\"Proceed to the Criterion 2\",F17=\"Proceed to the Criterion 2\",H26=\"Proceed to the Criterion 2\",H23=\"Proceed to the Criterion 2\",H20=\"Proceed to the Criterion 2\"),IF(AND(Calculos!D33>0.04,Calculos!D33<=0.07),IF(E33=\"\",\"\",IF(C31<=E33,\"The oil is coherent\",\"\"))),\"\"))","v":""}]
[]
[null,"Criterion 3 R1 exp."]
[null,"Parameter","Value","Higher Limit","Lower Limit",{"$f":"IF(C45=\"\",\"\",IF(OR(F40=\"Proceed to the Criterion 3\",F37=\"Proceed to the Criterion 3\",F34=\"Proceed to the Criterion 3\",F31=\"Proceed to the Criterion 3\",H40=\"Proceed to the Criterion 3\",H37=\"Proceed to the Criterion 3\",H34=\"Proceed to the Criterion 3\"),IF(AND(Calculos!D33>0.04,Calculos!D33<=0.07),IF(E48=\"\",\"\",IF(C45>D48,\"The oil is not coherent\",\"\")),\"\"),\"\"))","v":""}]
[null,"R1 exp. =",{"$f":"IF('Experimental Data'!E27=\"\",\"\",IF(AND(Calculos!D33>0.04,Calculos!D33<=0.07),ROUND(Calculos!B19,2),\"\"))","v":""},{"$f":"IF(C48<=0.75,IF(C45=\"\",\"\",IF(AND(Calculos!D33>0.04,Calculos!D33<=0.07),IF(C10>1.35,IF(C46>3.5,0.74,\"\"),\"\"),\"\")),\"\")","v":""},{"$f":"IF(C48<=0.75,IF(C45=\"\",\"\",IF(AND(Calculos!D33>0.04,Calculos!D33<=0.07),IF(C10>1.35,IF(C46>3.5,0.6,\"\"),\"\"),\"\")),\"\")","v":""},{"$f":"IF(C45=\"\",\"\",IF(OR(F40=\"Proceed to the Criterion 3\",F37=\"Proceed to the Criterion 3\",F34=\"Proceed to the Criterion 3\",F31=\"Proceed to the Criterion 3\",H40=\"Proceed to the Criterion 3\",H37=\"Proceed to the Criterion 3\",H34=\"Proceed to the Criterion 3\"),IF(AND(Calculos!D33>0.04,Calculos!D33<=0.07),IF(E48=\"\",\"\",IF(AND(C45<=D48,C45>E48),\"Proceed to the Criterion 4\",\"\")),\"\"),\"\"))","v":""}]
[null,"DOOL =",{"$f":"IF(C45=\"\",\"\",IF('Experimental Data'!E27=\"\",\"\",IF(AND(Calculos!D33>0.04,Calculos!D33<=0.07),ROUND(Calculos!B58,2),\"\")))","v":""},{"$f":"IF(C48<=0.75,IF(C45=\"\",\"\",IF(AND(Calculos!D33>0.04,Calculos!D33<=0.07),IF(C10>1.35,IF(C46<=3.5,ROUND(0.57594+(0.86711*C47)-(0.63928*C47^2)+(0.03545*C47^3),2),\"\"),\"\"),\"\")),IF(C45=\"\",\"\",IF(AND(Calculos!D33>0.04,Calculos!D33<=0.07),IF(C10>1.35,ROUND(0.54+(0.07619*C47),2),\"\"),\"\")))","v":""},{"$f":"IF(C48<=0.75,IF(C45=\"\",\"\",IF(AND(Calculos!D33>0.04,Calculos!D33<=0.07),IF(C10>1.35,IF(C46<=3.5,0.5,\"\"),\"\"),\"\")),IF(C45=\"\",\"\",IF(AND(Calculos!D33>0.04,Calculos!D33<=0.07),IF(C10>1.35,0.5,\"\"),\"\")))","v":""},{"$f":"IF(C45=\"\",\"\",IF(OR(F40=\"Proceed to the Criterion 3\",F37=\"Proceed to the Criterion 3\",F34=\"Proceed to the Criterion 3\",F31=\"Proceed to the Criterion 3\",H40=\"Proceed to the Criterion 3\",H37=\"Proceed to the Criterion 3\",H34=\"Proceed to the Criterion 3\"),IF(AND(Calculos!D33>0.04,Calculos!D33<=0.07),IF(E48=\"\",\"\",IF(C45<=E48,\"The oil is coherent\",\"\")),\"\"),\"\"))","v":""}]
[null,"DECN44p =",{"$f":"IF(C45=\"\",\"\",IF('Experimental Data'!E27=\"\",\"\",IF(AND(Calculos!D33>0.04,Calculos!D33<=0.07),Calculos!B38,\"\")))","v":""},{"$f":"IF(C48<=0.75,IF(C45=\"\",\"\",IF(AND(Calculos!D33>0.04,Calculos!D33<=0.07),IF(AND(C10<=1.35,C10>1.15),IF(C46>2.5,ROUND(0.57594+(0.86711*C47)-(0.63928*C47^2)+(0.03545*C47^3),2),\"\"),\"\"),\"\")),IF(C45=\"\",\"\",IF(AND(Calculos!D33>0.04,Calculos!D33<=0.07),IF(AND(C10<=1.35,C10>1.15),IF(C46>2,ROUND(0.49848+(0.83016*C47)-(0.4977*C47^2)-(0.08365*C47^3),2),\"\"),\"\"),\"\")))","v":""},{"$f":"IF(C48<=0.75,IF(C45=\"\",\"\",IF(AND(Calculos!D33>0.04,Calculos!D33<=0.07),IF(AND(C10<=1.35,C10>1.15),IF(C46>2.5,0.55,\"\"),\"\"),\"\")),IF(C45=\"\",\"\",IF(AND(Calculos!D33>0.04,Calculos!D33<=0.07),IF(AND(C10<=1.35,C10>1.15),IF(C46>2,0.45,\"\"),\"\"),\"\")))","v":""},{"$f":"IF(C45=\"\",\"\",IF(OR(F40=\"Proceed to the Criterion 3\",F37=\"Proceed to the Criterion 3\",F34=\"Proceed to the Criterion 3\",F31=\"Proceed to the Criterion 3\",H40=\"Proceed to the Criterion 3\",H37=\"Proceed to the Criterion 3\",H34=\"Proceed to the Criterion 3\"),IF(AND(Calculos!D33>0.04,Calculos!D33<=0.07),IF(E49=\"\",\"\",IF(C45>D49,\"The oil is not coherent\",\"\")),\"\"),\"\"))","v":""},null,{"$f":"IF(C45=\"\",\"\",IF(OR(F40=\"Proceed to the Criterion 3\",F37=\"Proceed to the Criterion 3\",F34=\"Proceed to the Criterion 3\",F31=\"Proceed to the Criterion 3\",H40=\"Proceed to the Criterion 3\",H37=\"Proceed to the Criterion 3\",H34=\"Proceed to the Criterion 3\"),IF(AND(Calculos!D33>0.04,Calculos!D33<=0.07),IF(E45=\"\",\"\",IF(C45>D45,\"The oil is not coherent\",\"\")),\"\"),\"\"))","v":""}]
[null,"Ln =",{"$f":"IF('Experimental Data'!E27=\"\",\"\",IF(AND(Calculos!D33>0.04,Calculos!D33<=0.07),Calculos!G7,\"\"))","v":""},{"$f":"IF(C48<=0.75,IF(C45=\"\",\"\",IF(AND(Calculos!D33>0.04,Calculos!D33<=0.07),IF(AND(C10<=1.35,C10>1.15),IF(C46<=2.5,ROUND(0.77257+(0.19652*C47)-(0.08648*C47^2)-(0.09726*C47^3),2),\"\"),\"\"),\"\")),IF(C45=\"\",\"\",IF(AND(Calculos!D33>0.04,Calculos!D33<=0.07),IF(AND(C10<=1.35,C10>1.15),IF(C46<=2,ROUND(0.49848+(0.83016*C47)-(0.49771*C47^2)-(0.08365*C47^3),2),\"\"),\"\"),\"\")))","v":""},{"$f":"IF(C48<=0.75,IF(C45=\"\",\"\",IF(AND(Calculos!D33>0.04,Calculos!D33<=0.07),IF(AND(C10<=1.35,C10>1.15),IF(C46<=2.5,0.5,\"\"),\"\"),\"\")),IF(C45=\"\",\"\",IF(AND(Calculos!D33>0.04,Calculos!D33<=0.07),IF(AND(C10<=1.35,C10>1.15),IF(C46<=2,0.45,\"\"),\"\"),\"\")))","v":""},{"$f":"IF(C45=\"\",\"\",IF(OR(F40=\"Proceed to the Criterion 3\",F37=\"Proceed to the Criterion 3\",F34=\"Proceed to the Criterion 3\",F31=\"Proceed to the Criterion 3\",H40=\"Proceed to the Criterion 3\",H37=\"Proceed to the Criterion 3\",H34=\"Proceed to the Criterion 3\"),IF(AND(Calculos!D33>0.04,Calculos!D33<=0.07),IF(E49=\"\",\"\",IF(AND(C45<=D49,C45>E49),\"Proceed to the Criterion 4\",\"\")),\"\"),\"\"))","v":""},null,{"$f":"IF(C45=\"\",\"\",IF(OR(F40=\"Proceed to the Criterion 3\",F37=\"Proceed to the Criterion 3\",F34=\"Proceed to the Criterion 3\",F31=\"Proceed to the Criterion 3\",H40=\"Proceed to the Criterion 3\",H37=\"Proceed to the Criterion 3\",H34=\"Proceed to the Criterion 3\"),IF(AND(Calculos!D33>0.04,Calculos!D33<=0.07),IF(E45=\"\",\"\",IF(AND(C45<=D45,C45>E45),\"Proceed to the Criterion 4\",\"\")),\"\"),\"\"))","v":""}]
[null,null,null,{"$f":"IF(C48<=0.75,IF(C45=\"\",\"\",IF(AND(Calculos!D33>0.04,Calculos!D33<=0.07),IF(C10<=1.15,IF(C46>2.5,ROUND(0.57594+(0.86711*C47)-(0.63928*C47^2)+(0.03545*C47^3),2),\"\"),\"\"),\"\")),IF(C45=\"\",\"\",IF(AND(Calculos!D33>0.04,Calculos!D33<=0.07),IF(C10<=1.15,IF(C46>2.5,ROUND(0.43036+(0.37272*C47)-(0.05571*C47^2)-(0.17209*C47^3),2),\"\"),\"\"),\"\")))","v":""},{"$f":"IF(C48<=0.75,IF(C45=\"\",\"\",IF(AND(Calculos!D33>0.04,Calculos!D33<=0.07),IF(C10<=1.15,IF(C46>2.5,0.45,\"\"),\"\"),\"\")),IF(C45=\"\",\"\",IF(AND(Calculos!D33>0.04,Calculos!D33<=0.07),IF(C10<=1.15,IF(C46>2.5,0.45,\"\"),\"\"),\"\")))","v":""},{"$f":"IF(C45=\"\",\"\",IF(OR(F40=\"Proceed to the Criterion 3\",F37=\"Proceed to the Criterion 3\",F34=\"Proceed to the Criterion 3\",F31=\"Proceed to the Criterion 3\",H40=\"Proceed to the Criterion 3\",H37=\"Proceed to the Criterion 3\",H34=\"Proceed to the Criterion 3\"),IF(AND(Calculos!D33>0.04,Calculos!D33<=0.07),IF(E49=\"\",\"\",IF(C45<=E49,\"The oil is coherent\",\"\")),\"\"),\"\"))","v":""},null,{"$f":"IF(C45=\"\",\"\",IF(OR(F40=\"Proceed to the Criterion 3\",F37=\"Proceed to the Criterion 3\",F34=\"Proceed to the Criterion 3\",F31=\"Proceed to the Criterion 3\",H40=\"Proceed to the Criterion 3\",H37=\"Proceed to the Criterion 3\",H34=\"Proceed to the Criterion 3\"),IF(AND(Calculos!D33>0.04,Calculos!D33<=0.07),IF(E45=\"\",\"\",IF(C45<=E45,\"The oil is coherent\",\"\")),\"\"),\"\"))","v":""}]
[null,null,null,{"$f":"IF(C48<=0.75,IF(C45=\"\",\"\",IF(AND(Calculos!D33>0.04,Calculos!D33<=0.07),IF(C10<=1.15,IF(AND(C46<=2.5,C46>1.5),ROUND(0.77016+(0.24565*C47)-(0.17125*C47^2)-(0.10834*C47^3),2),\"\"),\"\"),\"\")),IF(C45=\"\",\"\",IF(AND(Calculos!D33>0.04,Calculos!D33<=0.07),IF(C10<=1.15,IF(AND(C46<=2.5,C46>1.5),ROUND(0.51833+(1.3102*C47)-(1.95131*C47^2)+(0.69444*C47^3),2),\"\"),\"\"),\"\")))","v":""},{"$f":"IF(C48<=0.75,IF(C45=\"\",\"\",IF(AND(Calculos!D33>0.04,Calculos!D33<=0.07),IF(C10<=1.15,IF(AND(C46<=2.5,C46>1.5),0.5,\"\"),\"\"),\"\")),IF(C45=\"\",\"\",IF(AND(Calculos!D33>0.04,Calculos!D33<=0.07),IF(C10<=1.15,IF(AND(C46<=2.5,C46>1.5),0.4,\"\"),\"\"),\"\")))","v":""},{"$f":"IF(C45=\"\",\"\",IF(OR(F40=\"Proceed to the Criterion 3\",F37=\"Proceed to the Criterion 3\",F34=\"Proceed to the Criterion 3\",F31=\"Proceed to the Criterion 3\",H40=\"Proceed to the Criterion 3\",H37=\"Proceed to the Criterion 3\",H34=\"Proceed to the Criterion 3\"),IF(AND(Calculos!D33>0.04,Calculos!D33<=0.07),IF(E50=\"\",\"\",IF(C45>D50,\"The oil is not coherent\",\"\")),\"\"),\"\"))","v":""},null,{"$f":"IF(C45=\"\",\"\",IF(OR(F40=\"Proceed to the Criterion 3\",F37=\"Proceed to the Criterion 3\",F34=\"Proceed to the Criterion 3\",F31=\"Proceed to the Criterion 3\",H40=\"Proceed to the Criterion 3\",H37=\"Proceed to the Criterion 3\",H34=\"Proceed to the Criterion 3\"),IF(AND(Calculos!D33>0.04,Calculos!D33<=0.07),IF(E46=\"\",\"\",IF(C45>D46,\"The oil is not coherent\",\"\")),\"\"),\"\"))","v":""}]
[null,null,null,{"$f":"IF(C48<=0.75,IF(C45=\"\",\"\",IF(AND(Calculos!D33>0.04,Calculos!D33<=0.07),IF(C10<=1.15,IF(C46<=1.5,ROUND(0.77286+(0.21351*C47)-(0.13885*C47^2)-(0.23509*C47^3),2),\"\"),\"\"),\"\")),IF(C45=\"\",\"\",IF(AND(Calculos!D33>0.04,Calculos!D33<=0.07),IF(C10<=1.15,IF(C46<=1.5,ROUND(0.49754+(1.5457*C47)-(2.69841*C47^2)+(0.8912*C47^3),2),\"\"),\"\"),\"\")))","v":""},{"$f":"IF(C48<=0.75,IF(C45=\"\",\"\",IF(AND(Calculos!D33>0.04,Calculos!D33<=0.07),IF(C10<=1.15,IF(C46<=1.5,0.55,\"\"),\"\"),\"\")),IF(C45=\"\",\"\",IF(AND(Calculos!D33>0.04,Calculos!D33<=0.07),IF(C10<=1.15,IF(C46<=1.5,0.35,\"\"),\"\"),\"\")))","v":""},{"$f":"IF(C45=\"\",\"\",IF(OR(F40=\"Proceed to the Criterion 3\",F37=\"Proceed to the Criterion 3\",F34=\"Proceed to the Criterion 3\",F31=\"Proceed to the Criterion 3\",H40=\"Proceed to the Criterion 3\",H37=\"Proceed to the Criterion 3\",H34=\"Proceed to the Criterion 3\"),IF(AND(Calculos!D33>0.04,Calculos!D33<=0.07),IF(E50=\"\",\"\",IF(AND(C45<=D50,C45>E50),\"Proceed to the Criterion 4\",\"\")),\"\"),\"\"))","v":""},null,{"$f":"IF(C45=\"\",\"\",IF(OR(F40=\"Proceed to the Criterion 3\",F37=\"Proceed to the Criterion 3\",F34=\"Proceed to the Criterion 3\",F31=\"Proceed to the Criterion 3\",H40=\"Proceed to the Criterion 3\",H37=\"Proceed to the Criterion 3\",H34=\"Proceed to the Criterion 3\"),IF(AND(Calculos!D33>0.04,Calculos!D33<=0.07),IF(E46=\"\",\"\",IF(AND(C45<=D46,C45>E46),\"Proceed to the Criterion 4\",\"\")),\"\"),\"\"))","v":""}]
[null,null,null,null,null,{"$f":"IF(C45=\"\",\"\",IF(OR(F40=\"Proceed to the Criterion 3\",F37=\"Proceed to the Criterion 3\",F34=\"Proceed to the Criterion 3\",F31=\"Proceed to the Criterion 3\",H40=\"Proceed to the Criterion 3\",H37=\"Proceed to the Criterion 3\",H34=\"Proceed to the Criterion 3\"),IF(AND(Calculos!D33>0.04,Calculos!D33<=0.07),IF(E50=\"\",\"\",IF(C45<=E50,\"The oil is coherent\",\"\")),\"\"),\"\"))","v":""},null,{"$f":"IF(C45=\"\",\"\",IF(OR(F40=\"Proceed to the Criterion 3\",F37=\"Proceed to the Criterion 3\",F34=\"Proceed to the Criterion 3\",F31=\"Proceed to the Criterion 3\",H40=\"Proceed to the Criterion 3\",H37=\"Proceed to the Criterion 3\",H34=\"Proceed to the Criterion 3\"),IF(AND(Calculos!D33>0.04,Calculos!D33<=0.07),IF(E46=\"\",\"\",IF(C45<=E46,\"The oil is coherent\",\"\")),\"\"),\"\"))","v":""}]
[null,null,null,null,null,{"$f":"IF(C45=\"\",\"\",IF(OR(F40=\"Proceed to the Criterion 3\",F37=\"Proceed to the Criterion 3\",F34=\"Proceed to the Criterion 3\",F31=\"Proceed to the Criterion 3\",H40=\"Proceed to the Criterion 3\",H37=\"Proceed to the Criterion 3\",H34=\"Proceed to the Criterion 3\"),IF(AND(Calculos!D33>0.04,Calculos!D33<=0.07),IF(E51=\"\",\"\",IF(C45>D51,\"The oil is not coherent\",\"\")),\"\"),\"\"))","v":""},null,{"$f":"IF(C45=\"\",\"\",IF(OR(F40=\"Proceed to the Criterion 3\",F37=\"Proceed to the Criterion 3\",F34=\"Proceed to the Criterion 3\",F31=\"Proceed to the Criterion 3\",H40=\"Proceed to the Criterion 3\",H37=\"Proceed to the Criterion 3\",H34=\"Proceed to the Criterion 3\"),IF(AND(Calculos!D33>0.04,Calculos!D33<=0.07),IF(E47=\"\",\"\",IF(C45>D47,\"The oil is not coherent\",\"\")),\"\"),\"\"))","v":""}]
[null,null,null,null,null,{"$f":"IF(C45=\"\",\"\",IF(OR(F40=\"Proceed to the Criterion 3\",F37=\"Proceed to the Criterion 3\",F34=\"Proceed to the Criterion 3\",F31=\"Proceed to the Criterion 3\",H40=\"Proceed to the Criterion 3\",H37=\"Proceed to the Criterion 3\",H34=\"Proceed to the Criterion 3\"),IF(AND(Calculos!D33>0.04,Calculos!D33<=0.07),IF(E51=\"\",\"\",IF(AND(C45<=D51,C45>E51),\"Proceed to the Criterion 4\",\"\")),\"\"),\"\"))","v":""},null,{"$f":"IF(C45=\"\",\"\",IF(OR(F40=\"Proceed to the Criterion 3\",F37=\"Proceed to the Criterion 3\",F34=\"Proceed to the Criterion 3\",F31=\"Proceed to the Criterion 3\",H40=\"Proceed to the Criterion 3\",H37=\"Proceed to the Criterion 3\",H34=\"Proceed to the Criterion 3\"),IF(AND(Calculos!D33>0.04,Calculos!D33<=0.07),IF(E47=\"\",\"\",IF(AND(C45<=D47,C45>E47),\"Proceed to the Criterion 4\",\"\")),\"\"),\"\"))","v":""}]
[null,null,null,null,null,{"$f":"IF(C45=\"\",\"\",IF(OR(F40=\"Proceed to the Criterion 3\",F37=\"Proceed to the Criterion 3\",F34=\"Proceed to the Criterion 3\",F31=\"Proceed to the Criterion 3\",H40=\"Proceed to the Criterion 3\",H37=\"Proceed to the Criterion 3\",H34=\"Proceed to the Criterion 3\"),IF(AND(Calculos!D33>0.04,Calculos!D33<=0.07),IF(E51=\"\",\"\",IF(C45<=E51,\"The oil is coherent\",\"\")),\"\"),\"\"))","v":""},null,{"$f":"IF(C45=\"\",\"\",IF(OR(F40=\"Proceed to the Criterion 3\",F37=\"Proceed to the Criterion 3\",F34=\"Proceed to the Criterion 3\",F31=\"Proceed to the Criterion 3\",H40=\"Proceed to the Criterion 3\",H37=\"Proceed to the Criterion 3\",H34=\"Proceed to the Criterion 3\"),IF(AND(Calculos!D33>0.04,Calculos!D33<=0.07),IF(E47=\"\",\"\",IF(C45<=E47,\"The oil is coherent\",\"\")),\"\"),\"\"))","v":""}]
[]
[]
[null,"Criterion 4 DR1"]
[null,"Parameter","Value","Higher Limit","Lower Limit",{"$f":"IF(C60=\"\",\"\",IF(OR(F54=\"Proceed to the Criterion 4\",F51=\"Proceed to the Criterion 4\",F48=\"Proceed to the Criterion 4\",F45=\"Proceed to the Criterion 4\",H54=\"Proceed to the Criterion 4\",H51=\"Proceed to the Criterion 4\",H48=\"Proceed to the Criterion 4\"),IF(AND(Calculos!D33>0.04,Calculos!D33<=0.07),IF(E63=\"\",\"\",IF(C60>D63,\"The oil is not coherent\",\"\"))),\"\"))","v":""},null,{"$f":"IF(C60=\"\",\"\",IF(OR(F54=\"Proceed to the Criterion 4\",F51=\"Proceed to the Criterion 4\",F48=\"Proceed to the Criterion 4\",F45=\"Proceed to the Criterion 4\",H54=\"Proceed to the Criterion 4\",H51=\"Proceed to the Criterion 4\",H48=\"Proceed to the Criterion 4\"),IF(AND(Calculos!D33>0.04,Calculos!D33<=0.07),IF(E60=\"\",\"\",IF(C60>D60,\"The oil is not coherent\",\"\"))),\"\"))","v":""}]
[null,"DR1 =",{"$f":"IF('Experimental Data'!E27=\"\",\"\",IF(AND(Calculos!D33>0.04,Calculos!D33<=0.07),Calculos!B20,\"\"))","v":""},{"$f":"IF(C63<=0.75,IF(C60=\"\",\"\",IF(AND(Calculos!D33>0.04,Calculos!D33<=0.07),IF(C10>1.35,ROUND(0.34948+(0.49422*C62)-(0.2685*C62^2)+(0.005345*C62^3),2),\"\"),\"\")),IF(C60=\"\",\"\",IF(AND(Calculos!D33>0.04,Calculos!D33<=0.07),IF(C10>1.35,ROUND(0.35+(0.06364*C62),2),\"\"),\"\")))","v":""},{"$f":"IF(C63<=0.75,IF(C60=\"\",\"\",IF(AND(Calculos!D33>0.04,Calculos!D33<=0.07),IF(C10>1.35,0.35,\"\"),\"\")),IF(C60=\"\",\"\",IF(AND(Calculos!D33>0.04,Calculos!D33<=0.07),IF(C10>1.35,0.3,\"\"),\"\")))","v":""},{"$f":"IF(C60=\"\",\"\",IF(OR(F54=\"Proceed to the Criterion 4\",F51=\"Proceed to the Criterion 4\",F48=\"Proceed to the Criterion 4\",F45=\"Proceed to the Criterion 4\",H54=\"Proceed to the Criterion 4\",H51=\"Proceed to the Criterion 4\",H48=\"Proceed to the Criterion 4\"),IF(AND(Calculos!D33>0.04,Calculos!D33<=0.07),IF(E63=\"\",\"\",IF(AND(C60<=D63,C60>E63),\"Proceed to the Criterion 5\",\"\"))),\"\"))","v":""},null,{"$f":"IF(C60=\"\",\"\",IF(OR(F54=\"Proceed to the Criterion 4\",F51=\"Proceed to the Criterion 4\",F48=\"Proceed to the Criterion 4\",F45=\"Proceed to the Criterion 4\",H54=\"Proceed to the Criterion 4\",H51=\"Proceed to the Criterion 4\",H48=\"Proceed to the Criterion 4\"),IF(AND(Calculos!D33>0.04,Calculos!D33<=0.07),IF(E60=\"\",\"\",IF(AND(C60<=D60,C60>E60),\"Proceed to the Criterion 5\",\"\"))),\"\"))","v":""}]
[null,"DOOL =",{"$f":"IF(C60=\"\",\"\",IF('Experimental Data'!E27=\"\",\"\",IF(AND(Calculos!D33>0.04,Calculos!D33<=0.07),ROUND(Calculos!B58,2),\"\")))","v":""},{"$f":"IF(C63<=0.75,IF(C60=\"\",\"\",IF(AND(Calculos!D33>0.04,Calculos!D33<=0.07),IF(AND(C10<=1.35,C10>1.15),IF(C61>2.5,ROUND(0.40182+(0.7033*C62)-(0.41139*C62^2)-(0.08365*C62^3),2),\"\"),\"\"),\"\")),IF(C60=\"\",\"\",IF(AND(Calculos!D33>0.04,Calculos!D33<=0.07),IF(AND(C10<=1.35,C10>1.15),IF(C61>2,ROUND(0.39858+(0.36879*C62)-(0.26567*C62^2)-(0.02211*C62^3),2),\"\"),\"\"),\"\")))","v":""},{"$f":"IF(C63<=0.75,IF(C60=\"\",\"\",IF(AND(Calculos!D33>0.04,Calculos!D33<=0.07),IF(AND(C10<=1.35,C10>1.15),IF(C61>2.5,0.35,\"\"),\"\"),\"\")),IF(C60=\"\",\"\",IF(AND(Calculos!D33>0.04,Calculos!D33<=0.07),IF(AND(C10<=1.35,C10>1.15),IF(C61>2,0.3,\"\"),\"\"),\"\")))","v":""},{"$f":"IF(C60=\"\",\"\",IF(OR(F54=\"Proceed to the Criterion 4\",F51=\"Proceed to the Criterion 4\",F48=\"Proceed to the Criterion 4\",F45=\"Proceed to the Criterion 4\",H54=\"Proceed to the Criterion 4\",H51=\"Proceed to the Criterion 4\",H48=\"Proceed to the Criterion 4\"),IF(AND(Calculos!D33>0.04,Calculos!D33<=0.07),IF(E63=\"\",\"\",IF(C60<=E63,\"The oil is coherent\",\"\"))),\"\"))","v":""},null,{"$f":"IF(C60=\"\",\"\",IF(OR(F54=\"Proceed to the Criterion 4\",F51=\"Proceed to the Criterion 4\",F48=\"Proceed to the Criterion 4\",F45=\"Proceed to the Criterion 4\",H54=\"Proceed to the Criterion 4\",H51=\"Proceed to the Criterion 4\",H48=\"Proceed to the Criterion 4\"),IF(AND(Calculos!D33>0.04,Calculos!D33<=0.07),IF(E60=\"\",\"\",IF(C60<=E60,\"The oil is coherent\",\"\"))),\"\"))","v":""}]
[null,"DECN44p =",{"$f":"IF(C60=\"\",\"\",IF('Experimental Data'!E27=\"\",\"\",IF(AND(Calculos!D33>0.04,Calculos!D33<=0.07),Calculos!B38,\"\")))","v":""},{"$f":"IF(C63<=0.75,IF(C60=\"\",\"\",IF(AND(Calculos!D33>0.04,Calculos!D33<=0.07),IF(AND(C10<=1.35,C10>1.15),IF(C61<=2.5,ROUND(0.60056+(0.18159*C62)-(0.03769*C62^2)-(0.1895*C62^3),2),\"\"),\"\"),\"\")),IF(C60=\"\",\"\",IF(AND(Calculos!D33>0.04,Calculos!D33<=0.07),IF(AND(C10<=1.35,C10>1.15),IF(C61<=2,ROUND(0.50053+(0.39014*C62)-(0.49371*C62^2)+(0.03076*C62^3),2),\"\"),\"\"),\"\")))","v":""},{"$f":"IF(C63<=0.75,IF(C60=\"\",\"\",IF(AND(Calculos!D33>0.04,Calculos!D33<=0.07),IF(AND(C10<=1.35,C10>1.15),IF(C61<=2.5,0.35,\"\"),\"\"),\"\")),IF(C60=\"\",\"\",IF(AND(Calculos!D33>0.04,Calculos!D33<=0.07),IF(AND(C10<=1.35,C10>1.15),IF(C61<=2,0.3,\"\"),\"\"),\"\")))","v":""},{"$f":"IF(C60=\"\",\"\",IF(OR(F54=\"Proceed to the Criterion 4\",F51=\"Proceed to the Criterion 4\",F48=\"Proceed to the Criterion 4\",F45=\"Proceed to the Criterion 4\",H54=\"Proceed to the Criterion 4\",H51=\"Proceed to the Criterion 4\",H48=\"Proceed to the Criterion 4\"),IF(AND(Calculos!D33>0.04,Calculos!D33<=0.07),IF(E64=\"\",\"\",IF(C60>D64,\"The oil is not coherent\",\"\"))),\"\"))","v":""},null,{"$f":"IF(C60=\"\",\"\",IF(OR(F54=\"Proceed to the Criterion 4\",F51=\"Proceed to the Criterion 4\",F48=\"Proceed to the Criterion 4\",F45=\"Proceed to the Criterion 4\",H54=\"Proceed to the Criterion 4\",H51=\"Proceed to the Criterion 4\",H48=\"Proceed to the Criterion 4\"),IF(AND(Calculos!D33>0.04,Calculos!D33<=0.07),IF(E61=\"\",\"\",IF(C60>D61,\"The oil is not coherent\",\"\"))),\"\"))","v":""}]
[null,"Ln =",{"$f":"IF('Experimental Data'!E27=\"\",\"\",IF(AND(Calculos!D33>0.04,Calculos!D33<=0.07),Calculos!G7,\"\"))","v":""},{"$f":"IF(C63<=0.75,IF(C60=\"\",\"\",IF(AND(Calculos!D33>0.04,Calculos!D33<=0.07),IF(C10<=1.15,IF(C61>2.5,ROUND(0.40182+(0.70337*C62)-(0.41139*C62^2)-(0.08365*C62^3),2),\"\"),\"\"),\"\")),IF(C60=\"\",\"\",IF(AND(Calculos!D33>0.04,Calculos!D33<=0.07),IF(C10<=1.15,IF(C61>2.5,ROUND(0.39858+(0.36879*C62)-(0.26567*C62^2)-(0.02211*C62^3),2),\"\"),\"\"),\"\")))","v":""},{"$f":"IF(C63<=0.75,IF(C60=\"\",\"\",IF(AND(Calculos!D33>0.04,Calculos!D33<=0.07),IF(C10<=1.15,IF(C61>2.5,0.4,\"\"),\"\"),\"\")),IF(C60=\"\",\"\",IF(AND(Calculos!D33>0.04,Calculos!D33<=0.07),IF(C10<=1.15,IF(C61>2.5,0.3,\"\"),\"\"),\"\")))","v":""},{"$f":"IF(C60=\"\",\"\",IF(OR(F54=\"Proceed to the Criterion 4\",F51=\"Proceed to the Criterion 4\",F48=\"Proceed to the Criterion 4\",F45=\"Proceed to the Criterion 4\",H54=\"Proceed to the Criterion 4\",H51=\"Proceed to the Criterion 4\",H48=\"Proceed to the Criterion 4\"),IF(AND(Calculos!D33>0.04,Calculos!D33<=0.07),IF(E64=\"\",\"\",IF(AND(C60<=D64,C60>E64),\"Proceed to the Criterion 5\",\"\"))),\"\"))","v":""},null,{"$f":"IF(C60=\"\",\"\",IF(OR(F54=\"Proceed to the Criterion 4\",F51=\"Proceed to the Criterion 4\",F48=\"Proceed to the Criterion 4\",F45=\"Proceed to the Criterion 4\",H54=\"Proceed to the Criterion 4\",H51=\"Proceed to the Criterion 4\",H48=\"Proceed to the Criterion 4\"),IF(AND(Calculos!D33>0.04,Calculos!D33<=0.07),IF(E61=\"\",\"\",IF(AND(C60<=D61,C60>E61),\"Proceed to the Criterion 5\",\"\"))),\"\"))","v":""}]
[null,null,null,{"$f":"IF(C63<=0.75,IF(C60=\"\",\"\",IF(AND(Calculos!D33>0.04,Calculos!D33<=0.07),IF(C10<=1.15,IF(AND(C61<=2.5,C61>1.5),ROUND(0.60056+(0.18159*C62)-(0.03769*C62^2)-(0.1895*C62^3),2),\"\"),\"\"),\"\")),IF(C60=\"\",\"\",IF(AND(Calculos!D33>0.04,Calculos!D33<=0.07),IF(C10<=1.15,IF(AND(C61<=2.5,C61>1.5),ROUND(0.52253+(0.41014*C62)-(0.47371*C62^2)+(0.05076*C62^3),2),\"\"),\"\"),\"\")))","v":""},{"$f":"IF(C63<=0.75,IF(C60=\"\",\"\",IF(AND(Calculos!D33>0.04,Calculos!D33<=0.07),IF(C10<=1.15,IF(AND(C61<=2.5,C61>1.5),0.35,\"\"),\"\"),\"\")),IF(C60=\"\",\"\",IF(AND(Calculos!D33>0.04,Calculos!D33<=0.07),IF(C10<=1.15,IF(AND(C61<=2.5,C61>1.5),0.3,\"\"),\"\"),\"\")))","v":""},{"$f":"IF(C60=\"\",\"\",IF(OR(F54=\"Proceed to the Criterion 4\",F51=\"Proceed to the Criterion 4\",F48=\"Proceed to the Criterion 4\",F45=\"Proceed to the Criterion 4\",H54=\"Proceed to the Criterion 4\",H51=\"Proceed to the Criterion 4\",H48=\"Proceed to the Criterion 4\"),IF(AND(Calculos!D33>0.04,Calculos!D33<=0.07),IF(E64=\"\",\"\",IF(C60<=E64,\"The oil is coherent\",\"\"))),\"\"))","v":""},null,{"$f":"IF(C60=\"\",\"\",IF(OR(F54=\"Proceed to the Criterion 4\",F51=\"Proceed to the Criterion 4\",F48=\"Proceed to the Criterion 4\",F45=\"Proceed to the Criterion 4\",H54=\"Proceed to the Criterion 4\",H51=\"Proceed to the Criterion 4\",H48=\"Proceed to the Criterion 4\"),IF(AND(Calculos!D33>0.04,Calculos!D33<=0.07),IF(E61=\"\",\"\",IF(C60<=E61,\"The oil is coherent\",\"\"))),\"\"))","v":""}]
[null,null,null,{"$f":"IF(C63<=0.75,IF(C60=\"\",\"\",IF(AND(Calculos!D33>0.04,Calculos!D33<=0.07),IF(C10<=1.15,IF(C61<=1.5,ROUND(0.59905+(0.36761*C62)-(0.67904*C62^2)+(0.08473*C62^3),2),\"\"),\"\"),\"\")),IF(C60=\"\",\"\",IF(AND(Calculos!D33>0.04,Calculos!D33<=0.07),IF(C10<=1.15,IF(C61<=1.5,0.58,\"\"),\"\"),\"\")))","v":""},{"$f":"IF(C63<=0.75,IF(C60=\"\",\"\",IF(AND(Calculos!D33>0.04,Calculos!D33<=0.07),IF(C10<=1.15,IF(C61<=1.5,0.35,\"\"),\"\"),\"\")),IF(C60=\"\",\"\",IF(AND(Calculos!D33>0.04,Calculos!D33<=0.07),IF(C10<=1.15,IF(C61<=1.5,0.2,\"\"),\"\"),\"\")))","v":""},{"$f":"IF(C60=\"\",\"\",IF(OR(F54=\"Proceed to the Criterion 4\",F51=\"Proceed to the Criterion 4\",F48=\"Proceed to the Criterion 4\",F45=\"Proceed to the Criterion 4\",H54=\"Proceed to the Criterion 4\",H51=\"Proceed to the Criterion 4\",H48=\"Proceed to the Criterion 4\"),IF(AND(Calculos!D33>0.04,Calculos!D33<=0.07),IF(E65=\"\",\"\",IF(C60>D65,\"The oil is not coherent\",\"\"))),\"\"))","v":""},null,{"$f":"IF(C60=\"\",\"\",IF(OR(F54=\"Proceed to the Criterion 4\",F51=\"Proceed to the Criterion 4\",F48=\"Proceed to the Criterion 4\",F45=\"Proceed to the Criterion 4\",H54=\"Proceed to the Criterion 4\",H51=\"Proceed to the Criterion 4\",H48=\"Proceed to the Criterion 4\"),IF(AND(Calculos!D33>0.04,Calculos!D33<=0.07),IF(E62=\"\",\"\",IF(C60>D62,\"The oil is not coherent\",\"\"))),\"\"))","v":""}]
[null,null,null,null,null,{"$f":"IF(C60=\"\",\"\",IF(OR(F54=\"Proceed to the Criterion 4\",F51=\"Proceed to the Criterion 4\",F48=\"Proceed to the Criterion 4\",F45=\"Proceed to the Criterion 4\",H54=\"Proceed to the Criterion 4\",H51=\"Proceed to the Criterion 4\",H48=\"Proceed to the Criterion 4\"),IF(AND(Calculos!D33>0.04,Calculos!D33<=0.07),IF(E65=\"\",\"\",IF(AND(C60<=D65,C60>E65),\"Proceed to the Criterion 5\",\"\"))),\"\"))","v":""},null,{"$f":"IF(C60=\"\",\"\",IF(OR(F54=\"Proceed to the Criterion 4\",F51=\"Proceed to the Criterion 4\",F48=\"Proceed to the Criterion 4\",F45=\"Proceed to the Criterion 4\",H54=\"Proceed to the Criterion 4\",H51=\"Proceed to the Criterion 4\",H48=\"Proceed to the Criterion 4\"),IF(AND(Calculos!D33>0.04,Calculos!D33<=0.07),IF(E62=\"\",\"\",IF(AND(C60<=D62,C60>E62),\"Proceed to the Criterion 5\",\"\"))),\"\"))","v":""}]
[null,null,null,null,null,{"$f":"IF(C60=\"\",\"\",IF(OR(F54=\"Proceed to the Criterion 4\",F51=\"Proceed to the Criterion 4\",F48=\"Proceed to the Criterion 4\",F45=\"Proceed to the Criterion 4\",H54=\"Proceed to the Criterion 4\",H51=\"Proceed to the Criterion 4\",H48=\"Proceed to the Criterion 4\"),IF(AND(Calculos!D33>0.04,Calculos!D33<=0.07),IF(E65=\"\",\"\",IF(C60<=E65,\"The oil is coherent\",\"\"))),\"\"))","v":""},null,{"$f":"IF(C60=\"\",\"\",IF(OR(F54=\"Proceed to the Criterion 4\",F51=\"Proceed to the Criterion 4\",F48=\"Proceed to the Criterion 4\",F45=\"Proceed to the Criterion 4\",H54=\"Proceed to the Criterion 4\",H51=\"Proceed to the Criterion 4\",H48=\"Proceed to the Criterion 4\"),IF(AND(Calculos!D33>0.04,Calculos!D33<=0.07),IF(E62=\"\",\"\",IF(C60<=E62,\"The oil is coherent\",\"\"))),\"\"))","v":""}]
[]
[null,"Criterion 5 L4"]
[null,"Parameter","Value","Higher Limit","Lower Limit",{"$f":"IF(C71=\"\",\"\",IF(OR(F66=\"Proceed to the Criterion 5\",F63=\"Proceed to the Criterion 5\",F60=\"Proceed to the Criterion 5\",H66=\"Proceed to the Criterion 5\",H63=\"Proceed to the Criterion 5\",H63=\"Proceed to the Criterion 5\",H60=\"Proceed to the Criterion 5\"),IF(AND(Calculos!D33>0.04,Calculos!D33<=0.07),IF(E73=\"\",\"\",IF(C71>D73,\"The oil is not coherent\",\"\"))),\"\"))","v":""}]
[null,"L4 =",{"$f":"IF('Experimental Data'!E27=\"\",\"\",IF(AND(Calculos!D33>0.04,Calculos!D33<=0.07),Calculos!J22,\"\"))","v":""},{"$f":"IF(C74<=0.75,IF(C71=\"\",\"\",IF(AND(Calculos!D33>0.04,Calculos!D33<=0.07),IF(C10>1.35,ROUND(2.00101+(5.80261*C72)-(4.58018*C72^2)+(0.56292*C72^3),2),\"\"),\"\")),IF(C71=\"\",\"\",IF(AND(Calculos!D33>0.04,Calculos!D33<=0.07),IF(C10>1.35,ROUND(1.99888+(2.11631*C72)+(0.11475*C72^2)-(1.559*C72^3),2),\"\"),\"\")))","v":""},{"$f":"IF(C74<=0.75,IF(C71=\"\",\"\",IF(AND(Calculos!D33>0.04,Calculos!D33<=0.07),IF(C10>1.35,\"\",\"\"),\"\")),IF(C71=\"\",\"\",IF(AND(Calculos!D33>0.04,Calculos!D33<=0.07),IF(C10>1.35,\"\",\"\"),\"\")))","v":""},{"$f":"IF(C71=\"\",\"\",IF(OR(F66=\"Proceed to the Criterion 5\",F63=\"Proceed to the Criterion 5\",F60=\"Proceed to the Criterion 5\",H66=\"Proceed to the Criterion 5\",H63=\"Proceed to the Criterion 5\",H63=\"Proceed to the Criterion 5\",H60=\"Proceed to the Criterion 5\"),IF(AND(Calculos!D33>0.04,Calculos!D33<=0.07),IF(E73=\"\",\"\",IF(AND(C71<=D73,C71>E73),\"Proceed to the Criterion 6\",\"\"))),\"\"))","v":""}]
[null,"DECN44p =",{"$f":"IF(C71=\"\",\"\",IF('Experimental Data'!E27=\"\",\"\",IF(AND(Calculos!D33>0.04,Calculos!D33<=0.07),Calculos!B38,\"\")))","v":""},{"$f":"IF(C74<=0.75,IF(C71=\"\",\"\",IF(AND(Calculos!D33>0.04,Calculos!D33<=0.07),IF(AND(C10<=1.35,C10>1.15),IF(C73>2.5,ROUND(2.99091+(7.01587*C72)-(7.31061*C72^2)+(1.19949*C72^3),2),\"\"),\"\"),\"\")),IF(C71=\"\",\"\",IF(AND(Calculos!D33>0.04,Calculos!D33<=0.07),IF(AND(C10<=1.35,C10>1.15),IF(C73>2,ROUND(2.21458+(6.75972*C72)-(3.79176*C72^2)-(1.29753*C72^3),2),\"\"),\"\"),\"\")))","v":""},{"$f":"IF(C74<=0.75,IF(C71=\"\",\"\",IF(AND(Calculos!D33>0.04,Calculos!D33<=0.07),IF(AND(C10<=1.35,C10>1.15),IF(C73>2.5,1.5,\"\"),\"\"),\"\")),IF(C71=\"\",\"\",IF(AND(Calculos!D33>0.04,Calculos!D33<=0.07),IF(AND(C10<=1.35,C10>1.15),IF(C73>2,2,\"\"),\"\"),\"\")))","v":""},{"$f":"IF(C71=\"\",\"\",IF(OR(F66=\"Proceed to the Criterion 5\",F63=\"Proceed to the Criterion 5\",F60=\"Proceed to the Criterion 5\",H66=\"Proceed to the Criterion 5\",H63=\"Proceed to the Criterion 5\",H63=\"Proceed to the Criterion 5\",H60=\"Proceed to the Criterion 5\"),IF(AND(Calculos!D33>0.04,Calculos!D33<=0.07),IF(E73=\"\",\"\",IF(C71<=E73,\"The oil is coherent\",\"\"))),\"\"))","v":""},null,{"$f":"IF(C71=\"\",\"\",IF(OR(F66=\"Proceed to the Criterion 5\",F63=\"Proceed to the Criterion 5\",F60=\"Proceed to the Criterion 5\",H66=\"Proceed to the Criterion 5\",H63=\"Proceed to the Criterion 5\",H63=\"Proceed to the Criterion 5\",H60=\"Proceed to the Criterion 5\"),IF(AND(Calculos!D33>0.04,Calculos!D33<=0.07),IF(D71=\"\",\"\",IF(C71<=D71,\"The oil is coherent\",\"the oil is not coherent\"))),\"\"))","v":""}]
[null,"DOOL =",{"$f":"IF(C60=\"\",\"\",IF('Experimental Data'!E27=\"\",\"\",IF(AND(Calculos!D33>0.04,Calculos!D33<=0.07),ROUND(Calculos!B58,2),\"\")))","v":""},{"$f":"IF(C74<=0.75,IF(C71=\"\",\"\",IF(AND(Calculos!D33>0.04,Calculos!D33<=0.07),IF(AND(C10<=1.35,C10>1.15),IF(C73<=2.5,ROUND(4.98333+(4.27381*C72)-(7.79762*C72^2)+(2.08333*C72^3),2),\"\"),\"\"),\"\")),IF(C71=\"\",\"\",IF(AND(Calculos!D33>0.04,Calculos!D33<=0.07),IF(AND(C10<=1.35,C10>1.15),IF(C73<=2,ROUND(4.02965+(7.41119*C72)-(13.05879*C72^2)+(4.46046*C72^3),2),\"\"),\"\"),\"\")))","v":""},{"$f":"IF(C74<=0.75,IF(C71=\"\",\"\",IF(AND(Calculos!D33>0.04,Calculos!D33<=0.07),IF(AND(C10<=1.35,C10>1.15),IF(C73<=2.5,1.2,\"\"),\"\"),\"\")),IF(C71=\"\",\"\",IF(AND(Calculos!D33>0.04,Calculos!D33<=0.07),IF(AND(C10<=1.35,C10>1.15),IF(C73<=2,2,\"\"),\"\"),\"\")))","v":""},{"$f":"IF(C71=\"\",\"\",IF(OR(F66=\"Proceed to the Criterion 5\",F63=\"Proceed to the Criterion 5\",F60=\"Proceed to the Criterion 5\",H66=\"Proceed to the Criterion 5\",H63=\"Proceed to the Criterion 5\",H63=\"Proceed to the Criterion 5\",H60=\"Proceed to the Criterion 5\"),IF(AND(Calculos!D33>0.04,Calculos!D33<=0.07),IF(D74=\"\",\"\",IF(C71<=D74,\"The oil is coherent\",\"The oil is not coherent\"))),\"\"))","v":""},null,{"$f":"IF(C71=\"\",\"\",IF(OR(F66=\"Proceed to the Criterion 5\",F63=\"Proceed to the Criterion 5\",F60=\"Proceed to the Criterion 5\",H66=\"Proceed to the Criterion 5\",H63=\"Proceed to the Criterion 5\",H63=\"Proceed to the Criterion 5\",H60=\"Proceed to the Criterion 5\"),IF(AND(Calculos!D33>0.04,Calculos!D33<=0.07),IF(E72=\"\",\"\",IF(C71>D72,\"The oil is not coherent\",\"\"))),\"\"))","v":""}]
[null,"Ln =",{"$f":"IF('Experimental Data'!E27=\"\",\"\",IF(AND(Calculos!D33>0.04,Calculos!D33<=0.07),Calculos!G7,\"\"))","v":""},{"$f":"IF(C74<=0.75,IF(C71=\"\",\"\",IF(AND(Calculos!D33>0.04,Calculos!D33<=0.07),IF(C10<=1.15,IF(C73>2.5,ROUND(2.9909+(7.01587*C72)-(7.31061*C72^2)+(1.19949*C72^3),2),\"\"),\"\"),\"\")),IF(C71=\"\",\"\",IF(AND(Calculos!D33>0.04,Calculos!D33<=0.07),IF(C10<=1.15,IF(C73>2.5,ROUND(2.98729+(5.89391*C72)-(6.48601*C72^2)+(0.6044*C72^3),2),\"\"),\"\"),\"\")))","v":""},{"$f":"IF(C74<=0.75,IF(C71=\"\",\"\",IF(AND(Calculos!D33>0.04,Calculos!D33<=0.07),IF(C10<=1.15,IF(C73>2.5,\"\",\"\"),\"\"),\"\")),IF(C71=\"\",\"\",IF(AND(Calculos!D33>0.04,Calculos!D33<=0.07),IF(C10<=1.15,IF(C73>2.5,\"\",\"\"),\"\"),\"\")))","v":""},{"$f":"IF(C71=\"\",\"\",IF(OR(F66=\"Proceed to the Criterion 5\",F63=\"Proceed to the Criterion 5\",F60=\"Proceed to the Criterion 5\",H66=\"Proceed to the Criterion 5\",H63=\"Proceed to the Criterion 5\",H63=\"Proceed to the Criterion 5\",H60=\"Proceed to the Criterion 5\"),IF(AND(Calculos!D33>0.04,Calculos!D33<=0.07),IF(D75=\"\",\"\",IF(C71<=D75,\"The oil is coherent\",\"The oil is not coherent\"))),\"\"))","v":""},null,{"$f":"IF(C71=\"\",\"\",IF(OR(F66=\"Proceed to the Criterion 5\",F63=\"Proceed to the Criterion 5\",F60=\"Proceed to the Criterion 5\",H66=\"Proceed to the Criterion 5\",H63=\"Proceed to the Criterion 5\",H63=\"Proceed to the Criterion 5\",H60=\"Proceed to the Criterion 5\"),IF(AND(Calculos!D33>0.04,Calculos!D33<=0.07),IF(E72=\"\",\"\",IF(AND(C71<=D72,C71>E72),\"Proceed to the Criterion 6\",\"\"))),\"\"))","v":""}]
[null,null,null,{"$f":"IF(C74<=0.75,IF(C71=\"\",\"\",IF(AND(Calculos!D33>0.04,Calculos!D33<=0.07),IF(C10<=1.15,IF(AND(C73<=2.5,C73>1.5),ROUND(4.98333+(4.27381*C72)-(7.79762*C72^2)+(2.08333*C72^3),2),\"\"),\"\"),\"\")),IF(C71=\"\",\"\",IF(AND(Calculos!D33>0.04,Calculos!D33<=0.07),IF(C10<=1.15,IF(AND(C73<=2.5,C73>1.5),ROUND(4.02965+(7.41119*C72)-(13.05879*C72^2)+(4.46046*C72^3),2),\"\"),\"\"),\"\")))","v":""},{"$f":"IF(C74<=0.75,IF(C71=\"\",\"\",IF(AND(Calculos!D33>0.04,Calculos!D33<=0.07),IF(C10<=1.15,IF(AND(C73<=2.5,C73>1.5),\"\",\"\"),\"\"),\"\")),IF(C71=\"\",\"\",IF(AND(Calculos!D33>0.04,Calculos!D33<=0.07),IF(C10<=1.15,IF(AND(C73<=2.5,C73>1.5),\"\",\"\"),\"\"),\"\")))","v":""},{"$f":"IF(C71=\"\",\"\",IF(OR(F66=\"Proceed to the Criterion 5\",F63=\"Proceed to the Criterion 5\",F60=\"Proceed to the Criterion 5\",H66=\"Proceed to the Criterion 5\",H63=\"Proceed to the Criterion 5\",H63=\"Proceed to the Criterion 5\",H60=\"Proceed to the Criterion 5\"),IF(AND(Calculos!D33>0.04,Calculos!D33<=0.07),IF(D76=\"\",\"\",IF(C71<=D76,\"The oil is coherent\",\"The oil is not coherent\"))),\"\"))","v":""},null,{"$f":"IF(C71=\"\",\"\",IF(OR(F66=\"Proceed to the Criterion 5\",F63=\"Proceed to the Criterion 5\",F60=\"Proceed to the Criterion 5\",H66=\"Proceed to the Criterion 5\",H63=\"Proceed to the Criterion 5\",H63=\"Proceed to the Criterion 5\",H60=\"Proceed to the Criterion 5\"),IF(AND(Calculos!D33>0.04,Calculos!D33<=0.07),IF(E72=\"\",\"\",IF(C71<=E72,\"The oil is coherent\",\"\"))),\"\"))","v":""}]
[null,null,null,{"$f":"IF(C74<=0.75,IF(C71=\"\",\"\",IF(AND(Calculos!D33>0.04,Calculos!D33<=0.07),IF(C10<=1.15,IF(C73<=1.5,ROUND(4.96667+(4.61905*C72)-(8.00595*C72^2)+(1.04167*C72^3),2),\"\"),\"\"),\"\")),IF(C71=\"\",\"\",IF(AND(Calculos!D33>0.04,Calculos!D33<=0.07),IF(C10<=1.15,IF(C73<=1.5,ROUND(3.00291+(10.35036*C72)-(14.65395*C72^2)-(0.20097*C72^3),2),\"\"),\"\"),\"\")))","v":""},{"$f":"IF(C74<=0.75,IF(C71=\"\",\"\",IF(AND(Calculos!D33>0.04,Calculos!D33<=0.07),IF(C10<=1.15,IF(C73<=1.5,\"\",\"\"),\"\"),\"\")),IF(C71=\"\",\"\",IF(AND(Calculos!D33>0.04,Calculos!D33<=0.07),IF(C10<=1.15,IF(C73<=1.5,\"\",\"\"),\"\"),\"\")))","v":""}]
[]
[]
[null,"Criterion 6 R2"]
[null,"Parameter","Value","Limit",{"$f":"IF(C81=\"\",\"\",IF(OR(F71=\"Proceed to the Criterion 6\",H74=\"Proceed to the Criterion 6\"),IF(AND(Calculos!D33>0.04,Calculos!D33<=0.07),IF(D81=\"\",\"\",IF(C81>=D81,\"The oil is coherent\",\"The oil is not coherent\"))),\"\"))","v":""}]
[null,"R2 =",{"$f":"IF('Experimental Data'!E27=\"\",\"\",IF(AND(Calculos!D33>0.04,Calculos!D33<=0.07),Calculos!B32,\"\"))","v":""},{"$f":"IF(C83<=0.75,\"\",IF(C81=\"\",\"\",IF(AND(Calculos!D33>0.04,Calculos!D33<=0.07),IF(AND(C10<=1.35,C10>1.15,C82>2),0.025,\"\"),\"\")))","v":""},{"$f":"IF(C81=\"\",\"\",IF(OR(F71=\"Proceed to the Criterion 6\",H74=\"Proceed to the Criterion 6\"),IF(AND(Calculos!D33>0.04,Calculos!D33<=0.07),IF(D82=\"\",\"\",IF(C81>=D82,\"The oil is coherent\",\"The oil is not coherent\"))),\"\"))","v":""}]
[null,"DOOL =",{"$f":"IF(C60=\"\",\"\",IF('Experimental Data'!E27=\"\",\"\",IF(AND(Calculos!D33>0.04,Calculos!D33<=0.07),ROUND(Calculos!B58,2),\"\")))","v":""},{"$f":"IF(C83<=0.75,IF(C81=\"\",\"\",IF(AND(Calculos!D33>0.04,Calculos!D33<=0.07),IF(AND(C10<=1.35,C10>1.15,C82>1.5),0.08,\"\"),\"\")),IF(C81=\"\",\"\",IF(AND(Calculos!D33>0.04,Calculos!D33<=0.07),IF(AND(C10<=1.35,C10>1.15,C82<=2,C82>1),0.085,\"\"),\"\")))","v":""},{"$f":"IF(C81=\"\",\"\",IF(OR(F71=\"Proceed to the Criterion 6\",H74=\"Proceed to the Criterion 6\"),IF(AND(Calculos!D33>0.04,Calculos!D33<=0.07),IF(AND(C82<=1.5,C10<=1.35,C10>1.15,C83<=0.75),\"The oil is coherent by DOOL<=1,5\",\"\")),\"\"))","v":""},null,{"$f":"IF(C81=\"\",\"\",IF(OR(F72=\"Proceed to the Criterion 6\",H75=\"Proceed to the Criterion 6\"),IF(AND(Calculos!D33>0.04,Calculos!D33<=0.07),IF(AND(C82<=1,C10<=1.35,C10>1.15,C83>0.75),\"The oil is coherent by DOOL<=1,0\",\"\")),\"\"))","v":""}]
[null,"Ln =",{"$f":"IF('Experimental Data'!E27=\"\",\"\",IF(AND(Calculos!D33>0.04,Calculos!D33<=0.07),Calculos!G7,\"\"))","v":""}]

{"sheet":"Criteria for LLLt 0,070-0,110","index":6,"n_rows":85,"n_cols":8,"rows_kept":85,"cut":false,"hidden":false,"merged":[[1,1,1,8]]}
[null,"Criteria for LLL theor. 0,070 - 0,110"]
[null,"Calculation Parameters"]
[null,"Sample Code",{"$f":"IF(C6=\"\",\"\",IF('Experimental Data'!F16=\"\",\"\",'Experimental Data'!F16))","v":""},{"$f":"IF(C6=\"\",\"\",IF('Experimental Data'!G16=\"\",\"\",'Experimental Data'!G16))","v":""},{"$f":"IF(C6=\"\",\"\",IF('Experimental Data'!H16=\"\",\"\",'Experimental Data'!H16))","v":""},{"$f":"IF(C6=\"\",\"\",IF('Experimental Data'!I16=\"\",\"\",'Experimental Data'!I16))","v":""},{"$f":"IF(C6=\"\",\"\",IF('Experimental Data'!J16=\"\",\"\",'Experimental Data'!J16))","v":""},{"$f":"IF(C6=\"\",\"\",IF('Experimental Data'!K16=\"\",\"\",'Experimental Data'!K16))","v":""}]
[null,"Oil Category",{"$f":"IF(C3=\"\",\"\",IF('Experimental Data'!F17=\"\",\"\",'Experimental Data'!F17))","v":""},{"$f":"IF(C4=\"\",\"\",IF(C4=\"EV\",\"Virgin Edible Olive Oil\",IF(C4=\"L\",\"Lampant Olive Oil\",IF(C4=\"R\",\"Refined Olive Oil\"))))","v":""}]
[]
[null,"DECN42 =",{"$f":"IF('Experimental Data'!E27=\"\",\"\",IF(AND(Calculos!D33>0.07,Calculos!D33<=0.11),Calculos!M58,\"\"))","v":""},{"$f":"IF('Experimental Data'!E27=\"\",\"\",IF(AND(Calculos!D33>0.07,Calculos!D33<=0.11),IF(C4=\"EV\",0.2,IF(OR(C4=\"R\",C4=\"L\"),0.3,\"\")),\"\"))","v":""},{"$f":"IF(C6=\"\",\"\",IF(C6<=D6,\"Proceed to the Early Criterion\",\"Proceed to the Early Criterion\"))","v":""},null,{"$f":"IF(C6=\"\",\"\",IF(C6>D6,\"Warning, The DECN42 is too high\",\"\"))","v":""}]
[]
[null,"Early Criterion K1"]
[null,"Parameter","Value","Higher Limit","Lower Limit",{"$f":"IF(C10=\"\",\"\",IF(E6=\"Proceed to the Early Criterion\",IF(AND(Calculos!D33>0.07,Calculos!D33<=0.11),IF(E10=\"\",\"\",IF(C10>D10,\"The oil is not coherent\",\"\")),\"\"),\"\"))","v":""}]
[null,"K1 =",{"$f":"IF('Experimental Data'!E27=\"\",\"\",IF(AND(Calculos!D33>0.07,Calculos!D33<=0.11),Calculos!J24,\"\"))","v":""},{"$f":"IF(C11<=0.75,IF(C10=\"\",\"\",IF(AND(Calculos!D33>0.07,Calculos!D33<=0.11),IF(C10>1.3,1.75,\"\"),\"\")),IF(C10=\"\",\"\",IF(AND(Calculos!D33>0.07,Calculos!D33<=0.11),IF(C10>1.3,1.7,\"\"),\"\")))","v":""},{"$f":"IF(C11<=0.75,IF(C10=\"\",\"\",IF(AND(Calculos!D33>0.07,Calculos!D33<=0.11),IF(C10>1.3,1.3,\"\"),\"\")),IF(C10=\"\",\"\",IF(AND(Calculos!D33>0.07,Calculos!D33<=0.11),IF(C10>1.3,1.3,\"\"),\"\")))","v":""},{"$f":"IF(C10=\"\",\"\",IF(E6=\"Proceed to the Early Criterion\",IF(AND(Calculos!D33>0.07,Calculos!D33<=0.11),IF(E10=\"\",\"\",IF(AND(C10<=D10,C10>E10),\"Proceed to the Criterion 1\",\"\")),\"\"),\"\"))","v":""}]
[null,"Ln =",{"$f":"IF('Experimental Data'!E27=\"\",\"\",IF(AND(Calculos!D33>0.07,Calculos!D33<=0.11),Calculos!G7,\"\"))","v":""},{"$f":"IF(C11<=0.75,IF(C10=\"\",\"\",IF(AND(Calculos!D33>0.07,Calculos!D33<=0.11),IF(AND(C10>1.1,C10<=1.3),1.3,\"\"),\"\")),IF(C10=\"\",\"\",IF(AND(Calculos!D33>0.07,Calculos!D33<=0.11),IF(AND(C10>1.1,C10<=1.3),1.3,\"\"),\"\")))","v":""},{"$f":"IF(C11<=0.75,IF(C10=\"\",\"\",IF(AND(Calculos!D33>0.07,Calculos!D33<=0.11),IF(AND(C10>1.1,C10<=1.3),1.1,\"\"),\"\")),IF(C10=\"\",\"\",IF(AND(Calculos!D33>0.07,Calculos!D33<=0.11),IF(AND(C10>1.1,C10<=1.3),1.1,\"\"),\"\")))","v":""},{"$f":"IF(C10=\"\",\"\",IF(E6=\"Proceed to the Early Criterion\",IF(AND(Calculos!D33>0.07,Calculos!D33<=0.11),IF(E11=\"\",\"\",IF(AND(C10<=D11,C10>E11),\"Proceed to the Criterion 1\",\"\")),\"\"),\"\"))","v":""}]
[null,null,null,{"$f":"IF(C11<=0.75,IF(C10=\"\",\"\",IF(AND(Calculos!D33>0.07,Calculos!D33<=0.11),IF(C10<=1.1,1.1,\"\"),\"\")),IF(C10=\"\",\"\",IF(AND(Calculos!D33>0.07,Calculos!D33<=0.11),IF(C10<=1.1,1.1,\"\"),\"\")))","v":""},{"$f":"IF(C11<=0.75,IF(C10=\"\",\"\",IF(AND(Calculos!D33>0.07,Calculos!D33<=0.11),IF(C10<=1.1,0.95,\"\"),\"\")),IF(C10=\"\",\"\",IF(AND(Calculos!D33>0.07,Calculos!D33<=0.11),IF(C10<=1.1,0.95,\"\"),\"\")))","v":""},{"$f":"IF(C10=\"\",\"\",IF(E6=\"Proceed to the Early Criterion\",IF(AND(Calculos!D33>0.07,Calculos!D33<=0.11),IF(E12=\"\",\"\",IF(AND(C10>E12,C10<=D12),\"Proceed to the Criterion 1\",\"\")),\"\"),\"\"))","v":""}]
[null,null,null,null,null,{"$f":"IF(C10=\"\",\"\",IF(E6=\"Proceed to the Early Criterion\",IF(AND(Calculos!D33>0.07,Calculos!D33<=0.11),IF(E12=\"\",\"\",IF(C10<=E12,\"The oil is coherent\",\"\")),\"\"),\"\"))","v":""}]
[]
[null,"Criterion 1 DR3"]
[null,"Parameter","Value","Higher Limit","Lower Limit",{"$f":"IF(C17=\"\",\"\",IF(OR(F12=\"Proceed to the Criterion 1\",F11=\"Proceed to the Criterion 1\",F10=\"Proceed to the Criterion 1\"),IF(AND(Calculos!D33>0.07,Calculos!D33<=0.11),IF(E20=\"\",\"\",IF(C17>D20,\"The oil is not coherent\",\"\"))),\"\"))","v":""}]
[null,"DR3 =",{"$f":"IF('Experimental Data'!E27=\"\",\"\",IF(AND(Calculos!D33>0.07,Calculos!D33<=0.11),ROUND(Calculos!B43,2),\"\"))","v":""},{"$f":"IF(C20<=0.75,IF(C17=\"\",\"\",IF(AND(Calculos!D33>0.07,Calculos!D33<=0.11),IF(AND(C10>1.3,C18>3.5),ROUND(0.36709+(0.41207*C19)+(0.51006*C19^2)-(0.62516*C19^3),2),\"\"),\"\")),IF(C17=\"\",\"\",IF(AND(Calculos!D33>0.07,Calculos!D33<=0.11),IF(AND(C10>1.3,C18>3),ROUND(0.32358+(0.74495*C19)-(0.80973*C19^2)+(0.1917*C19^3),2),\"\"),\"\")))","v":""},{"$f":"IF(C20<=0.75,IF(C17=\"\",\"\",IF(AND(Calculos!D33>0.07,Calculos!D33<=0.11),IF(AND(C10>1.3,C18>3.5),0.1,\"\"),\"\")),IF(C17=\"\",\"\",IF(AND(Calculos!D33>0.07,Calculos!D33<=0.11),IF(AND(C10>1.3,C18>3),0.05,\"\"),\"\")))","v":""},{"$f":"IF(C17=\"\",\"\",IF(OR(F12=\"Proceed to the Criterion 1\",F11=\"Proceed to the Criterion 1\",F10=\"Proceed to the Criterion 1\"),IF(AND(Calculos!D33>0.07,Calculos!D33<=0.11),IF(E20=\"\",\"\",IF(AND(C17<=D20,C17>E20),\"Proceed to the Criterion 2\",\"\"))),\"\"))","v":""}]
[null,"DOOL =",{"$f":"IF(C17=\"\",\"\",IF('Experimental Data'!E27=\"\",\"\",IF(AND(Calculos!D33>0.07,Calculos!D33<=0.119),ROUND(Calculos!B58,2),\"\")))","v":""},{"$f":"IF(C20<=0.75,IF(C17=\"\",\"\",IF(AND(Calculos!D33>0.07,Calculos!D33<=0.11),IF(AND(C10>1.3,C18<=3.5),ROUND(0.30594+(0.74806*C19)-(0.6814*C19^2)+(0.13264*C19^3),2),\"\"),\"\")),IF(C17=\"\",\"\",IF(AND(Calculos!D33>0.07,Calculos!D33<=0.11),IF(AND(C10>1.3,C18<=3),ROUND(0.32358+(0.74495*C19)-(0.80973*C19^2)+(0.1917*C19^3),2),\"\"),\"\")))","v":""},{"$f":"IF(C20<=0.75,IF(C17=\"\",\"\",IF(AND(Calculos!D33>0.07,Calculos!D33<=0.11),IF(AND(C10>1.3,C18<=3.5),0.15,\"\"),\"\")),IF(C17=\"\",\"\",IF(AND(Calculos!D33>0.07,Calculos!D33<=0.11),IF(AND(C10>1.3,C18<=3),0.1,\"\"),\"\")))","v":""},{"$f":"IF(C17=\"\",\"\",IF(OR(F12=\"Proceed to the Criterion 1\",F11=\"Proceed to the Criterion 1\",F10=\"Proceed to the Criterion 1\"),IF(AND(Calculos!D33>0.07,Calculos!D33<=0.11),IF(E20=\"\",\"\",IF(C17<=E20,\"The oil is coherent\",\"\"))),\"\"))","v":""}]
[null,"DECN44p =",{"$f":"IF(C17=\"\",\"\",IF('Experimental Data'!E27=\"\",\"\",IF(AND(Calculos!D33>0.07,Calculos!D33<=0.11),Calculos!B38,\"\")))","v":""},{"$f":"IF(C20<=0.75,IF(C17=\"\",\"\",IF(AND(Calculos!D33>0.07,Calculos!D33<=0.11),IF(AND(C10>1.1,C10<=1.3),IF(C18>2.5,ROUND(0.17339+(0.68952*C19)+(0.30897*C19^2)-(0.552*C19^3),2),\"\"),\"\"),\"\")),IF(C17=\"\",\"\",IF(AND(Calculos!D33>0.07,Calculos!D33<=0.11),IF(AND(C10>1.1,C10<=1.3,C18>2),ROUND(0.3248+(0.63192*C19)-(0.4963*C19^2)-(0.02104*C19^3),2),\"\"),\"\")))","v":""},{"$f":"IF(C20<=0.75,IF(C17=\"\",\"\",IF(AND(Calculos!D33>0.07,Calculos!D33<=0.11),IF(AND(C10>1.1,C10<=1.3),IF(C18>2.5,ROUND(0.26-(0.2*C19),2),\"\"),\"\"),\"\")),IF(C17=\"\",\"\",IF(AND(Calculos!D33>0.07,Calculos!D33<=0.11),IF(AND(C10>1.1,C10<=1.3,C18>2),ROUND(0.3-(0.16667*C19),2),\"\"),\"\")))","v":""},{"$f":"IF(C17=\"\",\"\",IF(OR(F12=\"Proceed to the Criterion 1\",F11=\"Proceed to the Criterion 1\",F10=\"Proceed to the Criterion 1\"),IF(AND(Calculos!D33>0.07,Calculos!D33<=0.11),IF(E21=\"\",\"\",IF(C17>D21,\"The oil is not coherent\",\"\"))),\"\"))","v":""},null,{"$f":"IF(C17=\"\",\"\",IF(OR(F12=\"Proceed to the Criterion 1\",F11=\"Proceed to the Criterion 1\",F10=\"Proceed to the Criterion 1\"),IF(AND(Calculos!D33>0.07,Calculos!D33<=0.11),IF(E17=\"\",\"\",IF(C17>D17,\"The oil is not coherent\",\"\"))),\"\"))","v":""}]
[null,"Ln =",{"$f":"IF('Experimental Data'!E27=\"\",\"\",IF(AND(Calculos!D33>0.07,Calculos!D33<=0.11),Calculos!G7,\"\"))","v":""},{"$f":"IF(C20<=0.75,IF(C17=\"\",\"\",IF(AND(Calculos!D33>0.07,Calculos!D33<=0.11),IF(AND(C10>1.1,C10<=1.3),IF(C18<=2.5,ROUND(0.36709+(0.41207*C19)+(0.51006*C19^2)-(0.62516*C19^3),2),\"\"),\"\"),\"\")),IF(C17=\"\",\"\",IF(AND(Calculos!D33>0.07,Calculos!D33<=0.11),IF(AND(C10>1.1,C10<=1.3,C18<=2),ROUND(0.40024+(0.6369*C19)-(0.6131*C19^2)-(0.20833*C19^3),2),\"\"),\"\")))","v":""},{"$f":"IF(C20<=0.75,IF(C17=\"\",\"\",IF(AND(Calculos!D33>0.07,Calculos!D33<=0.11),IF(AND(C10>1.1,C10<=1.3),IF(C18<=2.5,ROUND(0.3-(0.4*C19),2),\"\"),\"\"),\"\")),IF(C17=\"\",\"\",IF(AND(Calculos!D33>0.07,Calculos!D33<=0.11),IF(AND(C10>1.1,C10<=1.3,C18<=2),0.5,\"\"),\"\")))","v":""},{"$f":"IF(C17=\"\",\"\",IF(OR(F12=\"Proceed to the Criterion 1\",F11=\"Proceed to the Criterion 1\",F10=\"Proceed to the Criterion 1\"),IF(AND(Calculos!D33>0.07,Calculos!D33<=0.11),IF(E21=\"\",\"\",IF(AND(C17<=D21,C17>E21),\"Proceed to the Criterion 2\",\"\"))),\"\"))","v":""},null,{"$f":"IF(C17=\"\",\"\",IF(OR(F12=\"Proceed to the Criterion 1\",F11=\"Proceed to the Criterion 1\",F10=\"Proceed to the Criterion 1\"),IF(AND(Calculos!D33>0.07,Calculos!D33<=0.11),IF(E17=\"\",\"\",IF(AND(C17<=D17,C17>E17),\"Proceed to the Criterion 2\",\"\"))),\"\"))","v":""}]
[null,null,null,{"$f":"IF(C20<=0.75,IF(C17=\"\",\"\",IF(AND(Calculos!D33>0.07,Calculos!D33<=0.11),IF(C10<=1.1,IF(C18>3,ROUND(0.15648+(0.74516*C19)+(0.45269*C19^2)-(0.67807*C19^3),2),\"\"),\"\"),\"\")),IF(C17=\"\",\"\",IF(AND(Calculos!D33>0.07,Calculos!D33<=0.11),IF(C10<=1.1,IF(C18>2.5,ROUND(0.3248+(0.63192*C19)-(0.4963*C19^2)-(0.02104*C19^3),2),\"\"),\"\"),\"\")))","v":""},{"$f":"IF(C20<=0.75,IF(C17=\"\",\"\",IF(AND(Calculos!D33>0.07,Calculos!D33<=0.11),IF(C10<=1.1,IF(C18>3,ROUND(0.26-(0.2*C19),2),\"\"),\"\"),\"\")),IF(C17=\"\",\"\",IF(AND(Calculos!D33>0.07,Calculos!D33<=0.11),IF(C10<=1.1,IF(C18>2.5,ROUND(-0.15+(0.16667*C19),2),\"\"),\"\"),\"\")))","v":""},{"$f":"IF(C17=\"\",\"\",IF(OR(F12=\"Proceed to the Criterion 1\",F11=\"Proceed to the Criterion 1\",F10=\"Proceed to the Criterion 1\"),IF(AND(Calculos!D33>0.07,Calculos!D33<=0.11),IF(E21=\"\",\"\",IF(C17<=E21,\"The oil is coherent\",\"\"))),\"\"))","v":""},null,{"$f":"IF(C17=\"\",\"\",IF(OR(F12=\"Proceed to the Criterion 1\",F11=\"Proceed to the Criterion 1\",F10=\"Proceed to the Criterion 1\"),IF(AND(Calculos!D33>0.07,Calculos!D33<=0.11),IF(E17=\"\",\"\",IF(C17<=E17,\"The oil is coherent\",\"\"))),\"\"))","v":""}]
[null,null,null,{"$f":"IF(C20<=0.75,IF(C17=\"\",\"\",IF(AND(Calculos!D33>0.07,Calculos!D33<=0.11),IF(C10<=1.1,IF(AND(C18<=3,C18>2),ROUND(0.36709+(0.41207*C19)+(0.51006*C19^2)-(0.62516*C19^3),2),\"\"),\"\"),\"\")),IF(C17=\"\",\"\",IF(AND(Calculos!D33>0.07,Calculos!D33<=0.11),IF(C10<=1.1,IF(AND(C18<=2.5,C18>1.5),ROUND(0.40024+(0.6369*C19)-(0.6131*C19^2)-(0.20833*C19^3),2),\"\"),\"\"),\"\")))","v":""},{"$f":"IF(C20<=0.75,IF(C17=\"\",\"\",IF(AND(Calculos!D33>0.07,Calculos!D33<=0.11),IF(C10<=1.1,IF(AND(C18<=3,C18>2),0.2,\"\"),\"\"),\"\")),IF(C17=\"\",\"\",IF(AND(Calculos!D33>0.07,Calculos!D33<=0.11),IF(C10<=1.1,IF(AND(C18<=2.5,C18>1.5),ROUND(0.25-(0.125*C19),2),\"\"),\"\"),\"\")))","v":""},{"$f":"IF(C17=\"\",\"\",IF(OR(F12=\"Proceed to the Criterion 1\",F11=\"Proceed to the Criterion 1\",F10=\"Proceed to the Criterion 1\"),IF(AND(Calculos!D33>0.07,Calculos!D33<=0.11),IF(E22=\"\",\"\",IF(C17>D22,\"The oil is not coherent\",\"\"))),\"\"))","v":""},null,{"$f":"IF(C17=\"\",\"\",IF(OR(F12=\"Proceed to the Criterion 1\",F11=\"Proceed to the Criterion 1\",F10=\"Proceed to the Criterion 1\"),IF(AND(Calculos!D33>0.07,Calculos!D33<=0.11),IF(E18=\"\",\"\",IF(C17>D18,\"The oil is not coherent\",\"\"))),\"\"))","v":""}]
[null,null,null,{"$f":"IF(C20<=0.75,IF(C17=\"\",\"\",IF(AND(Calculos!D33>0.07,Calculos!D33<=0.11),IF(C10<=1.1,IF(C18<=2,ROUND(0.36709+(0.41207*C19)+(0.51006*C19^2)-(0.62516*C19^3),2),\"\"),\"\"),\"\")),IF(C17=\"\",\"\",IF(AND(Calculos!D33>0.07,Calculos!D33<=0.11),IF(C10<=1.1,IF(C18<=1.5,ROUND(0.44524+(0.65635*C19)-(0.58333*C19^2)-(0.27778*C19^3),2),\"\"),\"\"),\"\")))","v":""},{"$f":"IF(C20<=0.75,IF(C17=\"\",\"\",IF(AND(Calculos!D33>0.07,Calculos!D33<=0.11),IF(C10<=1.1,IF(C18<=2,ROUND(0.2-(0.23333*C19),2),\"\"),\"\"),\"\")),IF(C17=\"\",\"\",IF(AND(Calculos!D33>0.07,Calculos!D33<=0.11),IF(C10<=1.1,IF(C18<=1.5,0.1,\"\"),\"\"),\"\")))","v":""},{"$f":"IF(C17=\"\",\"\",IF(OR(F12=\"Proceed to the Criterion 1\",F11=\"Proceed to the Criterion 1\",F10=\"Proceed to the Criterion 1\"),IF(AND(Calculos!D33>0.07,Calculos!D33<=0.11),IF(E22=\"\",\"\",IF(AND(C17<=D22,C17>E22),\"Proceed to the Criterion 2\",\"\"))),\"\"))","v":""},null,{"$f":"IF(C17=\"\",\"\",IF(OR(F12=\"Proceed to the Criterion 1\",F11=\"Proceed to the Criterion 1\",F10=\"Proceed to the Criterion 1\"),IF(AND(Calculos!D33>0.07,Calculos!D33<=0.11),IF(E18=\"\",\"\",IF(AND(C17<=D18,C17>E18),\"Proceed to the Criterion 2\",\"\"))),\"\"))","v":""}]
[null,null,null,null,null,{"$f":"IF(C17=\"\",\"\",IF(OR(F12=\"Proceed to the Criterion 1\",F11=\"Proceed to the Criterion 1\",F10=\"Proceed to the Criterion 1\"),IF(AND(Calculos!D33>0.07,Calculos!D33<=0.11),IF(E22=\"\",\"\",IF(C17<=E22,\"The oil is coherent\",\"\"))),\"\"))","v":""},null,{"$f":"IF(C17=\"\",\"\",IF(OR(F12=\"Proceed to the Criterion 1\",F11=\"Proceed to the Criterion 1\",F10=\"Proceed to the Criterion 1\"),IF(AND(Calculos!D33>0.07,Calculos!D33<=0.11),IF(E18=\"\",\"\",IF(C17<=E18,\"The oil is coherent\",\"\"))),\"\"))","v":""}]
[null,null,null,null,null,{"$f":"IF(C17=\"\",\"\",IF(OR(F12=\"Proceed to the Criterion 1\",F11=\"Proceed to the Criterion 1\",F10=\"Proceed to the Criterion 1\"),IF(AND(Calculos!D33>0.07,Calculos!D33<=0.11),IF(E23=\"\",\"\",IF(C17>D23,\"The oil is not coherent\",\"\"))),\"\"))","v":""},null,{"$f":"IF(C17=\"\",\"\",IF(OR(F12=\"Proceed to the Criterion 1\",F11=\"Proceed to the Criterion 1\",F10=\"Proceed to the Criterion 1\"),IF(AND(Calculos!D33>0.07,Calculos!D33<=0.11),IF(E19=\"\",\"\",IF(C17>D19,\"The oil is not coherent\",\"\"))),\"\"))","v":""}]
[null,null,null,null,null,{"$f":"IF(C17=\"\",\"\",IF(OR(F12=\"Proceed to the Criterion 1\",F11=\"Proceed to the Criterion 1\",F10=\"Proceed to the Criterion 1\"),IF(AND(Calculos!D33>0.07,Calculos!D33<=0.11),IF(E23=\"\",\"\",IF(AND(C17<=D23,C17>E23),\"Proceed to the Criterion 2\",\"\"))),\"\"))","v":""},null,{"$f":"IF(C17=\"\",\"\",IF(OR(F12=\"Proceed to the Criterion 1\",F11=\"Proceed to the Criterion 1\",F10=\"Proceed to the Criterion 1\"),IF(AND(Calculos!D33>0.07,Calculos!D33<=0.11),IF(E19=\"\",\"\",IF(AND(C17<=D19,C17>E19),\"Proceed to the Criterion 2\",\"\"))),\"\"))","v":""}]
[null,null,null,null,null,{"$f":"IF(C17=\"\",\"\",IF(OR(F12=\"Proceed to the Criterion 1\",F11=\"Proceed to the Criterion 1\",F10=\"Proceed to the Criterion 1\"),IF(AND(Calculos!D33>0.07,Calculos!D33<=0.11),IF(E23=\"\",\"\",IF(C17<=E23,\"The oil is coherent\",\"\"))),\"\"))","v":""},null,{"$f":"IF(C17=\"\",\"\",IF(OR(F12=\"Proceed to the Criterion 1\",F11=\"Proceed to the Criterion 1\",F10=\"Proceed to the Criterion 1\"),IF(AND(Calculos!D33>0.07,Calculos!D33<=0.11),IF(E19=\"\",\"\",IF(C17<=E19,\"The oil is coherent\",\"\"))),\"\"))","v":""}]
[]
[null,"Criterion 2 L3"]
[null,"Parameter","Value","Higher Limit","Lower Limit",{"$f":"IF(C31=\"\",\"\",IF(OR(F26=\"Proceed to the Criterion 2\",F23=\"Proceed to the Criterion 2\",F20=\"Proceed to the Criterion 2\",F17=\"Proceed to the Criterion 2\",H26=\"Proceed to the Criterion 2\",H23=\"Proceed to the Criterion 2\",H20=\"Proceed to the Criterion 2\"),IF(AND(Calculos!D33>0.07,Calculos!D33<=0.11),IF(E34=\"\",\"\",IF(C31>D34,\"The oil is not coherent\",\"\"))),\"\"))","v":""}]
[null,"L3 =",{"$f":"IF('Experimental Data'!E27=\"\",\"\",IF(AND(Calculos!D33>0.07,Calculos!D33<=0.11),Calculos!J19,\"\"))","v":""},{"$f":"IF(C34<=0.75,IF(C31=\"\",\"\",IF(AND(Calculos!D33>0.07,Calculos!D33<=0.11),IF(C10>1.3,IF(C33>3.5,ROUND(-0.76183+(2.01938*C32)-(0.96647*C32^2)+(0.10417*C32^3),2),\"\"),\"\"),\"\")),\"\")","v":""},{"$f":"IF(C34<=0.75,IF(C31=\"\",\"\",IF(AND(Calculos!D33>0.07,Calculos!D33<=0.11),IF(C10>1.3,IF(C33>3.5,0.25,\"\"),\"\"),\"\")),\"\")","v":""},{"$f":"IF(C31=\"\",\"\",IF(OR(F26=\"Proceed to the Criterion 2\",F23=\"Proceed to the Criterion 2\",F20=\"Proceed to the Criterion 2\",F17=\"Proceed to the Criterion 2\",H26=\"Proceed to the Criterion 2\",H23=\"Proceed to the Criterion 2\",H20=\"Proceed to the Criterion 2\"),IF(AND(Calculos!D33>0.07,Calculos!D33<=0.11),IF(E34=\"\",\"\",IF(AND(C31>E34,C31<=D34),\"Proceed to the Criterion 3\",\"\"))),\"\"))","v":""}]
[null,"DECN44p =",{"$f":"IF(C45=\"\",\"\",IF('Experimental Data'!E27=\"\",\"\",IF(AND(Calculos!D33>0.07,Calculos!D33<=0.11),Calculos!B38,\"\")))","v":""},{"$f":"IF(C34<=0.75,IF(C31=\"\",\"\",IF(AND(Calculos!D33>0.07,Calculos!D33<=0.11),IF(C10>1.3,IF(C33<=3.5,ROUND(0.26394+(0.70853*C32)-(0.29884*C32^2)-(0.14362*C32^3),2),\"\"),\"\"),\"\")),IF(C31=\"\",\"\",IF(AND(Calculos!D33>0.07,Calculos!D33<=0.11),IF(C10>1.3,ROUND(0.29676+(0.53147*C32)-(0.40574*C32^2)+(0.07066*C32^3),2),\"\"),\"\")))","v":""},{"$f":"IF(C34<=0.75,IF(C31=\"\",\"\",IF(AND(Calculos!D33>0.07,Calculos!D33<=0.11),IF(C10>1.3,IF(C33<=3.5,ROUND(0.4-(0.125*C32),2),\"\"),\"\"),\"\")),IF(C31=\"\",\"\",IF(AND(Calculos!D33>0.07,Calculos!D33<=0.11),IF(C10>1.3,ROUND(0.39111-(0.08889*C32),2),\"\"),\"\")))","v":""},{"$f":"IF(C31=\"\",\"\",IF(OR(F26=\"Proceed to the Criterion 2\",F23=\"Proceed to the Criterion 2\",F20=\"Proceed to the Criterion 2\",F17=\"Proceed to the Criterion 2\",H26=\"Proceed to the Criterion 2\",H23=\"Proceed to the Criterion 2\",H20=\"Proceed to the Criterion 2\"),IF(AND(Calculos!D33>0.07,Calculos!D33<=0.11),IF(E34=\"\",\"\",IF(C31<=E34,\"The oil is coherent\",\"\"))),\"\"))","v":""}]
[null,"DOOL =",{"$f":"IF(C31=\"\",\"\",IF('Experimental Data'!E27=\"\",\"\",IF(AND(Calculos!D33>0.07,Calculos!D33<=0.119),ROUND(Calculos!B58,2),\"\")))","v":""},{"$f":"IF(C34<=0.75,IF(C31=\"\",\"\",IF(AND(Calculos!D33>0.07,Calculos!D33<=0.11),IF(AND(C10<=1.3,C10>1.1),IF(C33>2.5,ROUND(0.5478+(0.75895*C32)-(0.31971*C32^2)-(0.18782*C32^3),2),\"\"),\"\"),\"\")),IF(C31=\"\",\"\",IF(AND(Calculos!D33>0.07,Calculos!D33<=0.11),IF(AND(C10<=1.3,C10>1.1),IF(C33>2,ROUND(0.43667+(0.36788*C32)-(0.09064*C32^2)-(0.12626*C32^3),2),\"\"),\"\"),\"\")))","v":""},{"$f":"IF(C34<=0.75,IF(C31=\"\",\"\",IF(AND(Calculos!D33>0.07,Calculos!D33<=0.11),IF(AND(C10<=1.3,C10>1.1),IF(C33>2.5,0.45,\"\"),\"\"),\"\")),IF(C31=\"\",\"\",IF(AND(Calculos!D33>0.07,Calculos!D33<=0.11),IF(AND(C10<=1.3,C10>1.1),IF(C33>2,0.35,\"\"),\"\"),\"\")))","v":""},{"$f":"IF(C31=\"\",\"\",IF(OR(F26=\"Proceed to the Criterion 2\",F23=\"Proceed to the Criterion 2\",F20=\"Proceed to the Criterion 2\",F17=\"Proceed to the Criterion 2\",H26=\"Proceed to the Criterion 2\",H23=\"Proceed to the Criterion 2\",H20=\"Proceed to the Criterion 2\"),IF(AND(Calculos!D33>0.07,Calculos!D33<=0.11),IF(E35=\"\",\"\",IF(C31>D35,\"The oil is not coherent\",\"\"))),\"\"))","v":""},null,{"$f":"IF(C31=\"\",\"\",IF(OR(F26=\"Proceed to the Criterion 2\",F23=\"Proceed to the Criterion 2\",F20=\"Proceed to the Criterion 2\",F17=\"Proceed to the Criterion 2\",H26=\"Proceed to the Criterion 2\",H23=\"Proceed to the Criterion 2\",H20=\"Proceed to the Criterion 2\"),IF(AND(Calculos!D33>0.07,Calculos!D33<=0.11),IF(E31=\"\",\"\",IF(C31>D31,\"The oil is not coherent\",\"\"))),\"\"))","v":""}]
[null,"Ln =",{"$f":"IF('Experimental Data'!E27=\"\",\"\",IF(AND(Calculos!D33>0.07,Calculos!D33<=0.11),Calculos!G7,\"\"))","v":""},{"$f":"IF(C34<=0.75,IF(C31=\"\",\"\",IF(AND(Calculos!D33>0.07,Calculos!D33<=0.11),IF(AND(C10<=1.3,C10>1.1),IF(C33<=2.5,ROUND(0.35369+(0.59229*C32)-(0.1778*C32^2)-(0.2036*C32^3),2),\"\"),\"\"),\"\")),IF(C31=\"\",\"\",IF(AND(Calculos!D33>0.07,Calculos!D33<=0.11),IF(AND(C10<=1.3,C10>1.1),IF(C33<=2,ROUND(0.55024+(0.17044*C32)-(0.00893*C32^2)-(0.34722*C32^3),2),\"\"),\"\"),\"\")))","v":""},{"$f":"IF(C34<=0.75,IF(C31=\"\",\"\",IF(AND(Calculos!D33>0.07,Calculos!D33<=0.11),IF(AND(C10<=1.3,C10>1.1),IF(C33<=2.5,ROUND(0.35-(0.3*C32),2),\"\"),\"\"),\"\")),IF(C31=\"\",\"\",IF(AND(Calculos!D33>0.07,Calculos!D33<=0.11),IF(AND(C10<=1.3,C10>1.1),IF(C33<=2,ROUND(0.4-(0.4*C32),2),\"\"),\"\"),\"\")))","v":""},{"$f":"IF(C31=\"\",\"\",IF(OR(F26=\"Proceed to the Criterion 2\",F23=\"Proceed to the Criterion 2\",F20=\"Proceed to the Criterion 2\",F17=\"Proceed to the Criterion 2\",H26=\"Proceed to the Criterion 2\",H23=\"Proceed to the Criterion 2\",H20=\"Proceed to the Criterion 2\"),IF(AND(Calculos!D33>0.07,Calculos!D33<=0.11),IF(E35=\"\",\"\",IF(AND(C31>E35,C31<=D35),\"Proceed to the Criterion 3\",\"\"))),\"\"))","v":""},null,{"$f":"IF(C31=\"\",\"\",IF(OR(F26=\"Proceed to the Criterion 2\",F23=\"Proceed to the Criterion 2\",F20=\"Proceed to the Criterion 2\",F17=\"Proceed to the Criterion 2\",H26=\"Proceed to the Criterion 2\",H23=\"Proceed to the Criterion 2\",H20=\"Proceed to the Criterion 2\"),IF(AND(Calculos!D33>0.07,Calculos!D33<=0.11),IF(E31=\"\",\"\",IF(AND(C31>E31,C31<=D31),\"Proceed to the Criterion 3\",\"\"))),\"\"))","v":""}]
[null,null,null,{"$f":"IF(C34<=0.75,\"\",IF(C31=\"\",\"\",IF(AND(Calculos!D33>0.07,Calculos!D33<=0.11),IF(C10<=1.1,IF(C33>2.5,ROUND(0.43667+(0.36788*C32)-(0.09064*C32^2)-(0.12626*C32^3),2),\"\"),\"\"),\"\")))","v":""},{"$f":"IF(C34<=0.75,\"\",IF(C31=\"\",\"\",IF(AND(Calculos!D33>0.07,Calculos!D33<=0.11),IF(C10<=1.1,IF(C33>2.5,0.4,\"\"),\"\"),\"\")))","v":""},{"$f":"IF(C31=\"\",\"\",IF(OR(F26=\"Proceed to the Criterion 2\",F23=\"Proceed to the Criterion 2\",F20=\"Proceed to the Criterion 2\",F17=\"Proceed to the Criterion 2\",H26=\"Proceed to the Criterion 2\",H23=\"Proceed to the Criterion 2\",H20=\"Proceed to the Criterion 2\"),IF(AND(Calculos!D33>0.07,Calculos!D33<=0.11),IF(E35=\"\",\"\",IF(C31<=E35,\"The oil is coherent\",\"\"))),\"\"))","v":""},null,{"$f":"IF(C31=\"\",\"\",IF(OR(F26=\"Proceed to the Criterion 2\",F23=\"Proceed to the Criterion 2\",F20=\"Proceed to the Criterion 2\",F17=\"Proceed to the Criterion 2\",H26=\"Proceed to the Criterion 2\",H23=\"Proceed to the Criterion 2\",H20=\"Proceed to the Criterion 2\"),IF(AND(Calculos!D33>0.07,Calculos!D33<=0.11),IF(E31=\"\",\"\",IF(C31<=E31,\"The oil is coherent\",\"\"))),\"\"))","v":""}]
[null,null,null,{"$f":"IF(C34<=0.75,IF(C31=\"\",\"\",IF(AND(Calculos!D33>0.07,Calculos!D33<=0.11),IF(C10<=1.1,IF(C33>2,ROUND(0.35478+(0.75895*C32)-(0.31971*C32^2)-(0.18782*C32^3),2),\"\"),\"\"),\"\")),IF(C31=\"\",\"\",IF(AND(Calculos!D33>0.07,Calculos!D33<=0.11),IF(C10<=1.1,IF(AND(C33<=2.5,C33>1.5),ROUND(0.55024+(0.17044*C32)-(0.00893*C32^2)-(0.34722*C32^3),2),\"\"),\"\"),\"\")))","v":""},{"$f":"IF(C34<=0.75,IF(C31=\"\",\"\",IF(AND(Calculos!D33>0.07,Calculos!D33<=0.11),IF(C10<=1.1,IF(C33>2,0.45,\"\"),\"\"),\"\")),IF(C31=\"\",\"\",IF(AND(Calculos!D33>0.07,Calculos!D33<=0.11),IF(C10<=1.1,IF(AND(C33<=2.5,C33>1.5),0.3,\"\"),\"\"),\"\")))","v":""},{"$f":"IF(C31=\"\",\"\",IF(OR(F26=\"Proceed to the Criterion 2\",F23=\"Proceed to the Criterion 2\",F20=\"Proceed to the Criterion 2\",F17=\"Proceed to the Criterion 2\",H26=\"Proceed to the Criterion 2\",H23=\"Proceed to the Criterion 2\",H20=\"Proceed to the Criterion 2\"),IF(AND(Calculos!D33>0.07,Calculos!D33<=0.11),IF(E36=\"\",\"\",IF(C31>D36,\"The oil is not coherent\",\"\"))),\"\"))","v":""},null,{"$f":"IF(C31=\"\",\"\",IF(OR(F26=\"Proceed to the Criterion 2\",F23=\"Proceed to the Criterion 2\",F20=\"Proceed to the Criterion 2\",F17=\"Proceed to the Criterion 2\",H26=\"Proceed to the Criterion 2\",H23=\"Proceed to the Criterion 2\",H20=\"Proceed to the Criterion 2\"),IF(AND(Calculos!D33>0.07,Calculos!D33<=0.11),IF(E32=\"\",\"\",IF(C31>D32,\"The oil is not coherent\",\"\"))),\"\"))","v":""}]
[null,null,null,{"$f":"IF(C34<=0.75,IF(C31=\"\",\"\",IF(AND(Calculos!D33>0.07,Calculos!D33<=0.11),IF(C10<=1.1,IF(C33<=2,ROUND(0.44575+(0.51688*C32)-(0.11752*C32^2)-(0.24148*C32^3),2),\"\"),\"\"),\"\")),IF(C31=\"\",\"\",IF(AND(Calculos!D33>0.07,Calculos!D33<=0.11),IF(C10<=1.1,IF(C33<=1.5,ROUND(0.54913+(0.14398*C32)+(0.25794*C32^2)-(0.75231*C32^3),2),\"\"),\"\"),\"\")))","v":""},{"$f":"IF(C34<=0.75,IF(C31=\"\",\"\",IF(AND(Calculos!D33>0.07,Calculos!D33<=0.11),IF(C10<=1.1,IF(C33<=2,0.35,\"\"),\"\"),\"\")),IF(C31=\"\",\"\",IF(AND(Calculos!D33>0.07,Calculos!D33<=0.11),IF(C10<=1.1,IF(C33<=1.5,0.25,\"\"),\"\"),\"\")))","v":""},{"$f":"IF(C31=\"\",\"\",IF(OR(F26=\"Proceed to the Criterion 2\",F23=\"Proceed to the Criterion 2\",F20=\"Proceed to the Criterion 2\",F17=\"Proceed to the Criterion 2\",H26=\"Proceed to the Criterion 2\",H23=\"Proceed to the Criterion 2\",H20=\"Proceed to the Criterion 2\"),IF(AND(Calculos!D33>0.07,Calculos!D33<=0.11),IF(E36=\"\",\"\",IF(AND(C31>E36,C31<=D36),\"Proceed to the Criterion 3\",\"\"))),\"\"))","v":""},null,{"$f":"IF(C31=\"\",\"\",IF(OR(F26=\"Proceed to the Criterion 2\",F23=\"Proceed to the Criterion 2\",F20=\"Proceed to the Criterion 2\",F17=\"Proceed to the Criterion 2\",H26=\"Proceed to the Criterion 2\",H23=\"Proceed to the Criterion 2\",H20=\"Proceed to the Criterion 2\"),IF(AND(Calculos!D33>0.07,Calculos!D33<=0.11),IF(E32=\"\",\"\",IF(AND(C31>E32,C31<=D32),\"Proceed to the Criterion 3\",\"\"))),\"\"))","v":""}]
[null,null,null,null,null,{"$f":"IF(C31=\"\",\"\",IF(OR(F26=\"Proceed to the Criterion 2\",F23=\"Proceed to the Criterion 2\",F20=\"Proceed to the Criterion 2\",F17=\"Proceed to the Criterion 2\",H26=\"Proceed to the Criterion 2\",H23=\"Proceed to the Criterion 2\",H20=\"Proceed to the Criterion 2\"),IF(AND(Calculos!D33>0.07,Calculos!D33<=0.11),IF(E36=\"\",\"\",IF(C31<=E36,\"The oil is coherent\",\"\"))),\"\"))","v":""},null,{"$f":"IF(C31=\"\",\"\",IF(OR(F26=\"Proceed to the Criterion 2\",F23=\"Proceed to the Criterion 2\",F20=\"Proceed to the Criterion 2\",F17=\"Proceed to the Criterion 2\",H26=\"Proceed to the Criterion 2\",H23=\"Proceed to the Criterion 2\",H20=\"Proceed to the Criterion 2\"),IF(AND(Calculos!D33>0.07,Calculos!D33<=0.11),IF(E32=\"\",\"\",IF(C31<=E32,\"The oil is coherent\",\"\"))),\"\"))","v":""}]
[null,null,null,null,null,{"$f":"IF(C31=\"\",\"\",IF(OR(F26=\"Proceed to the Criterion 2\",F23=\"Proceed to the Criterion 2\",F20=\"Proceed to the Criterion 2\",F17=\"Proceed to the Criterion 2\",H26=\"Proceed to the Criterion 2\",H23=\"Proceed to the Criterion 2\",H20=\"Proceed to the Criterion 2\"),IF(AND(Calculos!D33>0.07,Calculos!D33<=0.11),IF(E37=\"\",\"\",IF(C31>D37,\"The oil is not coherent\",\"\"))),\"\"))","v":""},null,{"$f":"IF(C31=\"\",\"\",IF(OR(F26=\"Proceed to the Criterion 2\",F23=\"Proceed to the Criterion 2\",F20=\"Proceed to the Criterion 2\",F17=\"Proceed to the Criterion 2\",H26=\"Proceed to the Criterion 2\",H23=\"Proceed to the Criterion 2\",H20=\"Proceed to the Criterion 2\"),IF(AND(Calculos!D33>0.07,Calculos!D33<=0.11),IF(E33=\"\",\"\",IF(C31>D33,\"The oil is not coherent\",\"\"))),\"\"))","v":""}]
[null,null,null,null,null,{"$f":"IF(C31=\"\",\"\",IF(OR(F26=\"Proceed to the Criterion 2\",F23=\"Proceed to the Criterion 2\",F20=\"Proceed to the Criterion 2\",F17=\"Proceed to the Criterion 2\",H26=\"Proceed to the Criterion 2\",H23=\"Proceed to the Criterion 2\",H20=\"Proceed to the Criterion 2\"),IF(AND(Calculos!D33>0.07,Calculos!D33<=0.11),IF(E37=\"\",\"\",IF(AND(C31>E37,C31<=D37),\"Proceed to the Criterion 3\",\"\"))),\"\"))","v":""},null,{"$f":"IF(C31=\"\",\"\",IF(OR(F26=\"Proceed to the Criterion 2\",F23=\"Proceed to the Criterion 2\",F20=\"Proceed to the Criterion 2\",F17=\"Proceed to the Criterion 2\",H26=\"Proceed to the Criterion 2\",H23=\"Proceed to the Criterion 2\",H20=\"Proceed to the Criterion 2\"),IF(AND(Calculos!D33>0.07,Calculos!D33<=0.11),IF(E33=\"\",\"\",IF(AND(C31>E33,C31<=D33),\"Proceed to the Criterion 3\",\"\"))),\"\"))","v":""}]
[null,null,null,null,null,{"$f":"IF(C31=\"\",\"\",IF(OR(F26=\"Proceed to the Criterion 2\",F23=\"Proceed to the Criterion 2\",F20=\"Proceed to the Criterion 2\",F17=\"Proceed to the Criterion 2\",H26=\"Proceed to the Criterion 2\",H23=\"Proceed to the Criterion 2\",H20=\"Proceed to the Criterion 2\"),IF(AND(Calculos!D33>0.07,Calculos!D33<=0.11),IF(E37=\"\",\"\",IF(C31<=E37,\"The oil is coherent\",\"\"))),\"\"))","v":""},null,{"$f":"IF(C31=\"\",\"\",IF(OR(F26=\"Proceed to the Criterion 2\",F23=\"Proceed to the Criterion 2\",F20=\"Proceed to the Criterion 2\",F17=\"Proceed to the Criterion 2\",H26=\"Proceed to the Criterion 2\",H23=\"Proceed to the Criterion 2\",H20=\"Proceed to the Criterion 2\"),IF(AND(Calculos!D33>0.07,Calculos!D33<=0.11),IF(E33=\"\",\"\",IF(C31<=E33,\"The oil is coherent\",\"\"))),\"\"))","v":""}]
[]
[null,"Criterion 3 R1 exp."]
[null,"Parameter","Value","Higher Limit","Lower Limit",{"$f":"IF(C45=\"\",\"\",IF(OR(F40=\"Proceed to the Criterion 3\",F37=\"Proceed to the Criterion 3\",F34=\"Proceed to the Criterion 3\",F31=\"Proceed to the Criterion 3\",H40=\"Proceed to the Criterion 3\",H37=\"Proceed to the Criterion 3\",H34=\"Proceed to the Criterion 3\"),IF(AND(Calculos!D33>0.07,Calculos!D33<=0.11),IF(E48=\"\",\"\",IF(C45>D48,\"The oil is not coherent\",\"\")),\"\"),\"\"))","v":""}]
[null,"R1 exp =",{"$f":"IF('Experimental Data'!E27=\"\",\"\",IF(AND(Calculos!D33>0.07,Calculos!D33<=0.11),ROUND(Calculos!B19,2),\"\"))","v":""},{"$f":"IF(C47<=0.75,IF(C45=\"\",\"\",IF(AND(Calculos!D33>0.07,Calculos!D33<=0.11),IF(C10>1.3,IF(C46>3.5,0.75,\"\"),\"\"),\"\")),IF(C45=\"\",\"\",IF(AND(Calculos!D33>0.07,Calculos!D33<=0.11),IF(C10>1.3,IF(C46>2.5,0.75,\"\"),\"\"),\"\")))","v":""},{"$f":"IF(C47<=0.75,IF(C45=\"\",\"\",IF(AND(Calculos!D33>0.07,Calculos!D33<=0.11),IF(C10>1.3,IF(C46>3.5,0.6,\"\"),\"\"),\"\")),IF(C45=\"\",\"\",IF(AND(Calculos!D33>0.07,Calculos!D33<=0.11),IF(C10>1.3,IF(C46>2.5,0.55,\"\"),\"\"),\"\")))","v":""},{"$f":"IF(C45=\"\",\"\",IF(OR(F40=\"Proceed to the Criterion 3\",F37=\"Proceed to the Criterion 3\",F34=\"Proceed to the Criterion 3\",F31=\"Proceed to the Criterion 3\",H40=\"Proceed to the Criterion 3\",H37=\"Proceed to the Criterion 3\",H34=\"Proceed to the Criterion 3\"),IF(AND(Calculos!D33>0.07,Calculos!D33<=0.11),IF(E48=\"\",\"\",IF(AND(C45<=D48,C45>E48),\"Proceed to the Criterion 4\",\"\")),\"\"),\"\"))","v":""}]
[null,"DOOL =",{"$f":"IF(C45=\"\",\"\",IF('Experimental Data'!E27=\"\",\"\",IF(AND(Calculos!D33>0.07,Calculos!D33<=0.119),ROUND(Calculos!B58,2),\"\")))","v":""},{"$f":"IF(C47<=0.75,IF(C45=\"\",\"\",IF(AND(Calculos!D33>0.07,Calculos!D33<=0.11),IF(C10>1.3,IF(C46<=3.5,ROUND(0.6263+(0.77581*C48)-(0.67978*C48^2)+(0.11533*C48^3),2),\"\"),\"\"),\"\")),IF(C45=\"\",\"\",IF(AND(Calculos!D33>0.07,Calculos!D33<=0.11),IF(C10>1.3,IF(C46<=2.5,ROUND(0.4804+(0.63459*C48)-(0.49387*C48^2)+(0.08944*C48^3),2),\"\"),\"\"),\"\")))","v":""},{"$f":"IF(C47<=0.75,IF(C45=\"\",\"\",IF(AND(Calculos!D33>0.07,Calculos!D33<=0.11),IF(C10>1.3,IF(C46<=3.5,0.6,\"\"),\"\"),\"\")),IF(C45=\"\",\"\",IF(AND(Calculos!D33>0.07,Calculos!D33<=0.11),IF(C10>1.3,IF(C46<=2.5,0.55,\"\"),\"\"),\"\")))","v":""},{"$f":"IF(C45=\"\",\"\",IF(OR(F40=\"Proceed to the Criterion 3\",F37=\"Proceed to the Criterion 3\",F34=\"Proceed to the Criterion 3\",F31=\"Proceed to the Criterion 3\",H40=\"Proceed to the Criterion 3\",H37=\"Proceed to the Criterion 3\",H34=\"Proceed to the Criterion 3\"),IF(AND(Calculos!D33>0.07,Calculos!D33<=0.11),IF(E48=\"\",\"\",IF(C45<=E48,\"The oil is coherent\",\"\")),\"\"),\"\"))","v":""}]
[null,"Ln =",{"$f":"IF('Experimental Data'!E27=\"\",\"\",IF(AND(Calculos!D33>0.07,Calculos!D33<=0.11),Calculos!G7,\"\"))","v":""},{"$f":"IF(C47<=0.75,IF(C45=\"\",\"\",IF(AND(Calculos!D33>0.07,Calculos!D33<=0.11),IF(AND(C10>1.1,C10<=1.3),IF(C46>2.5,ROUND(0.49939+(0.9408*C48)-(0.40855*C48^2)-(0.13258*C48^3),2),\"\"),\"\"),\"\")),IF(C45=\"\",\"\",IF(AND(Calculos!D33>0.07,Calculos!D33<=0.11),IF(AND(C10>1.1,C10<=1.3),IF(C46>2,ROUND(0.58438+(0.47201*C48)-(0.16803*C48^2)-(0.0739*C48^3),2),\"\"),\"\"),\"\")))","v":""},{"$f":"IF(C47<=0.75,IF(C45=\"\",\"\",IF(AND(Calculos!D33>0.07,Calculos!D33<=0.11),IF(AND(C10>1.1,C10<=1.3),IF(C46>2.5,0.55,\"\"),\"\"),\"\")),IF(C45=\"\",\"\",IF(AND(Calculos!D33>0.07,Calculos!D33<=0.11),IF(AND(C10>1.1,C10<=1.3),IF(C46>2,0.55,\"\"),\"\"),\"\")))","v":""},{"$f":"IF(C45=\"\",\"\",IF(OR(F40=\"Proceed to the Criterion 3\",F37=\"Proceed to the Criterion 3\",F34=\"Proceed to the Criterion 3\",F31=\"Proceed to the Criterion 3\",H40=\"Proceed to the Criterion 3\",H37=\"Proceed to the Criterion 3\",H34=\"Proceed to the Criterion 3\"),IF(AND(Calculos!D33>0.07,Calculos!D33<=0.11),IF(E49=\"\",\"\",IF(C45>D49,\"The oil is not coherent\",\"\")),\"\"),\"\"))","v":""},null,{"$f":"IF(C45=\"\",\"\",IF(OR(F40=\"Proceed to the Criterion 3\",F37=\"Proceed to the Criterion 3\",F34=\"Proceed to the Criterion 3\",F31=\"Proceed to the Criterion 3\",H40=\"Proceed to the Criterion 3\",H37=\"Proceed to the Criterion 3\",H34=\"Proceed to the Criterion 3\"),IF(AND(Calculos!D33>0.07,Calculos!D33<=0.11),IF(E45=\"\",\"\",IF(C45>D45,\"The oil is not coherent\",\"\")),\"\"),\"\"))","v":""}]
[null,"DECN44p =",{"$f":"IF(C45=\"\",\"\",IF('Experimental Data'!E27=\"\",\"\",IF(AND(Calculos!D33>0.07,Calculos!D33<=0.11),Calculos!B38,\"\")))","v":""},{"$f":"IF(C47<=0.75,IF(C45=\"\",\"\",IF(AND(Calculos!D33>0.07,Calculos!D33<=0.11),IF(AND(C10>1.1,C10<=1.3),IF(C46<=2.5,ROUND(0.63863+(0.51847*C48)-(0.12293*C48^2)-(0.21622*C48^3),2),\"\"),\"\"),\"\")),IF(C45=\"\",\"\",IF(AND(Calculos!D33>0.07,Calculos!D33<=0.11),IF(AND(C10>1.1,C10<=1.3),IF(C46<=2,ROUND(0.57949+(0.53517*C48)-(0.47655*C48^2)+(0.09259*C48^3),2),\"\"),\"\"),\"\")))","v":""},{"$f":"IF(C47<=0.75,IF(C45=\"\",\"\",IF(AND(Calculos!D33>0.07,Calculos!D33<=0.11),IF(AND(C10>1.1,C10<=1.3),IF(C46<=2.5,ROUND(0.6-(0.15*C48),2),\"\"),\"\"),\"\")),IF(C45=\"\",\"\",IF(AND(Calculos!D33>0.07,Calculos!D33<=0.11),IF(AND(C10>1.1,C10<=1.3),IF(C46<=2,ROUND(0.55-(0.15*C48),2),\"\"),\"\"),\"\")))","v":""},{"$f":"IF(C45=\"\",\"\",IF(OR(F40=\"Proceed to the Criterion 3\",F37=\"Proceed to the Criterion 3\",F34=\"Proceed to the Criterion 3\",F31=\"Proceed to the Criterion 3\",H40=\"Proceed to the Criterion 3\",H37=\"Proceed to the Criterion 3\",H34=\"Proceed to the Criterion 3\"),IF(AND(Calculos!D33>0.07,Calculos!D33<=0.11),IF(E49=\"\",\"\",IF(AND(C45<=D49,C45>E49),\"Proceed to the Criterion 4\",\"\")),\"\"),\"\"))","v":""},null,{"$f":"IF(C45=\"\",\"\",IF(OR(F40=\"Proceed to the Criterion 3\",F37=\"Proceed to the Criterion 3\",F34=\"Proceed to the Criterion 3\",F31=\"Proceed to the Criterion 3\",H40=\"Proceed to the Criterion 3\",H37=\"Proceed to the Criterion 3\",H34=\"Proceed to the Criterion 3\"),IF(AND(Calculos!D33>0.07,Calculos!D33<=0.11),IF(E45=\"\",\"\",IF(AND(C45<=D45,C45>E45),\"Proceed to the Criterion 4\",\"\")),\"\"),\"\"))","v":""}]
[null,null,null,{"$f":"IF(C47<=0.75,\"\",IF(C45=\"\",\"\",IF(AND(Calculos!D33>0.07,Calculos!D33<=0.11),IF(C10<=1.1,IF(C46>2.5,ROUND(0.57385+(0.66989*C48)-(0.54746*C48^2)+(0.06573*C48^3),2),\"\"),\"\"),\"\")))","v":""},{"$f":"IF(C47<=0.75,\"\",IF(C45=\"\",\"\",IF(AND(Calculos!D33>0.07,Calculos!D33<=0.11),IF(C10<=1.1,IF(C46>2.5,0.5,\"\"),\"\"),\"\")))","v":""},{"$f":"IF(C45=\"\",\"\",IF(OR(F40=\"Proceed to the Criterion 3\",F37=\"Proceed to the Criterion 3\",F34=\"Proceed to the Criterion 3\",F31=\"Proceed to the Criterion 3\",H40=\"Proceed to the Criterion 3\",H37=\"Proceed to the Criterion 3\",H34=\"Proceed to the Criterion 3\"),IF(AND(Calculos!D33>0.07,Calculos!D33<=0.11),IF(E49=\"\",\"\",IF(C45<=E49,\"The oil is coherent\",\"\")),\"\"),\"\"))","v":""},null,{"$f":"IF(C45=\"\",\"\",IF(OR(F40=\"Proceed to the Criterion 3\",F37=\"Proceed to the Criterion 3\",F34=\"Proceed to the Criterion 3\",F31=\"Proceed to the Criterion 3\",H40=\"Proceed to the Criterion 3\",H37=\"Proceed to the Criterion 3\",H34=\"Proceed to the Criterion 3\"),IF(AND(Calculos!D33>0.07,Calculos!D33<=0.11),IF(E45=\"\",\"\",IF(C45<=E45,\"The oil is coherent\",\"\")),\"\"),\"\"))","v":""}]
[null,null,null,{"$f":"IF(C47<=0.75,IF(C45=\"\",\"\",IF(AND(Calculos!D33>0.07,Calculos!D33<=0.11),IF(C10<=1.1,IF(C46>2,ROUND(0.49939+(0.9408*C48)-(0.40855*C48^2)-(0.13258*C48^3),2),\"\"),\"\"),\"\")),IF(C45=\"\",\"\",IF(AND(Calculos!D33>0.07,Calculos!D33<=0.11),IF(C10<=1.1,IF(AND(C46<=2.5,C46>1.5),ROUND(0.57917+(0.57847*C48)-(0.34173*C48^2)-(0.05122*C48^3),2),\"\"),\"\"),\"\")))","v":""},{"$f":"IF(C47<=0.75,IF(C45=\"\",\"\",IF(AND(Calculos!D33>0.07,Calculos!D33<=0.11),IF(C10<=1.1,IF(C46>2,0.6,\"\"),\"\"),\"\")),IF(C45=\"\",\"\",IF(AND(Calculos!D33>0.07,Calculos!D33<=0.11),IF(C10<=1.1,IF(AND(C46<=2.5,C46>1.5),0.45,\"\"),\"\"),\"\")))","v":""},{"$f":"IF(C45=\"\",\"\",IF(OR(F40=\"Proceed to the Criterion 3\",F37=\"Proceed to the Criterion 3\",F34=\"Proceed to the Criterion 3\",F31=\"Proceed to the Criterion 3\",H40=\"Proceed to the Criterion 3\",H37=\"Proceed to the Criterion 3\",H34=\"Proceed to the Criterion 3\"),IF(AND(Calculos!D33>0.07,Calculos!D33<=0.11),IF(E50=\"\",\"\",IF(C45>D50,\"The oil is not coherent\",\"\")),\"\"),\"\"))","v":""},null,{"$f":"IF(C45=\"\",\"\",IF(OR(F40=\"Proceed to the Criterion 3\",F37=\"Proceed to the Criterion 3\",F34=\"Proceed to the Criterion 3\",F31=\"Proceed to the Criterion 3\",H40=\"Proceed to the Criterion 3\",H37=\"Proceed to the Criterion 3\",H34=\"Proceed to the Criterion 3\"),IF(AND(Calculos!D33>0.07,Calculos!D33<=0.11),IF(E46=\"\",\"\",IF(C45>D46,\"The oil is not coherent\",\"\")),\"\"),\"\"))","v":""}]
[null,null,null,{"$f":"IF(C47<=0.75,IF(C45=\"\",\"\",IF(AND(Calculos!D33>0.07,Calculos!D33<=0.11),IF(C10<=1.1,IF(C46<=2,ROUND(0.63863+(0.51847*C48)-(0.12293*C48^2)-(0.21622*C48^3),2),\"\"),\"\"),\"\")),IF(C45=\"\",\"\",IF(AND(Calculos!D33>0.07,Calculos!D33<=0.11),IF(C10<=1.1,IF(C46<=1.5,ROUND(0.57949+(0.53517*C48)-(0.47655*C48^2)+(0.09259*C48^3),2),\"\"),\"\"),\"\")))","v":""},{"$f":"IF(C47<=0.75,IF(C45=\"\",\"\",IF(AND(Calculos!D33>0.07,Calculos!D33<=0.11),IF(C10<=1.1,IF(C46<=2,0.55,\"\"),\"\"),\"\")),IF(C45=\"\",\"\",IF(AND(Calculos!D33>0.07,Calculos!D33<=0.11),IF(C10<=1.1,IF(C46<=1.5,0.35,\"\"),\"\"),\"\")))","v":""},{"$f":"IF(C45=\"\",\"\",IF(OR(F40=\"Proceed to the Criterion 3\",F37=\"Proceed to the Criterion 3\",F34=\"Proceed to the Criterion 3\",F31=\"Proceed to the Criterion 3\",H40=\"Proceed to the Criterion 3\",H37=\"Proceed to the Criterion 3\",H34=\"Proceed to the Criterion 3\"),IF(AND(Calculos!D33>0.07,Calculos!D33<=0.11),IF(E50=\"\",\"\",IF(AND(C45<=D50,C45>E50),\"Proceed to the Criterion 4\",\"\")),\"\"),\"\"))","v":""},null,{"$f":"IF(C45=\"\",\"\",IF(OR(F40=\"Proceed to the Criterion 3\",F37=\"Proceed to the Criterion 3\",F34=\"Proceed to the Criterion 3\",F31=\"Proceed to the Criterion 3\",H40=\"Proceed to the Criterion 3\",H37=\"Proceed to the Criterion 3\",H34=\"Proceed to the Criterion 3\"),IF(AND(Calculos!D33>0.07,Calculos!D33<=0.11),IF(E46=\"\",\"\",IF(AND(C45<=D46,C45>E46),\"Proceed to the Criterion 4\",\"\")),\"\"),\"\"))","v":""}]
[null,null,null,null,null,{"$f":"IF(C45=\"\",\"\",IF(OR(F40=\"Proceed to the Criterion 3\",F37=\"Proceed to the Criterion 3\",F34=\"Proceed to the Criterion 3\",F31=\"Proceed to the Criterion 3\",H40=\"Proceed to the Criterion 3\",H37=\"Proceed to the Criterion 3\",H34=\"Proceed to the Criterion 3\"),IF(AND(Calculos!D33>0.07,Calculos!D33<=0.11),IF(E50=\"\",\"\",IF(C45<=E50,\"The oil is coherent\",\"\")),\"\"),\"\"))","v":""},null,{"$f":"IF(C45=\"\",\"\",IF(OR(F40=\"Proceed to the Criterion 3\",F37=\"Proceed to the Criterion 3\",F34=\"Proceed to the Criterion 3\",F31=\"Proceed to the Criterion 3\",H40=\"Proceed to the Criterion 3\",H37=\"Proceed to the Criterion 3\",H34=\"Proceed to the Criterion 3\"),IF(AND(Calculos!D33>0.07,Calculos!D33<=0.11),IF(E46=\"\",\"\",IF(C45<=E46,\"The oil is coherent\",\"\")),\"\"),\"\"))","v":""}]
[null,null,null,null,null,{"$f":"IF(C45=\"\",\"\",IF(OR(F40=\"Proceed to the Criterion 3\",F37=\"Proceed to the Criterion 3\",F34=\"Proceed to the Criterion 3\",F31=\"Proceed to the Criterion 3\",H40=\"Proceed to the Criterion 3\",H37=\"Proceed to the Criterion 3\",H34=\"Proceed to the Criterion 3\"),IF(AND(Calculos!D33>0.07,Calculos!D33<=0.11),IF(E51=\"\",\"\",IF(C45>D51,\"The oil is not coherent\",\"\")),\"\"),\"\"))","v":""},null,{"$f":"IF(C45=\"\",\"\",IF(OR(F40=\"Proceed to the Criterion 3\",F37=\"Proceed to the Criterion 3\",F34=\"Proceed to the Criterion 3\",F31=\"Proceed to the Criterion 3\",H40=\"Proceed to the Criterion 3\",H37=\"Proceed to the Criterion 3\",H34=\"Proceed to the Criterion 3\"),IF(AND(Calculos!D33>0.07,Calculos!D33<=0.11),IF(E47=\"\",\"\",IF(C45>D47,\"The oil is not coherent\",\"\")),\"\"),\"\"))","v":""}]
[null,null,null,null,null,{"$f":"IF(C45=\"\",\"\",IF(OR(F40=\"Proceed to the Criterion 3\",F37=\"Proceed to the Criterion 3\",F34=\"Proceed to the Criterion 3\",F31=\"Proceed to the Criterion 3\",H40=\"Proceed to the Criterion 3\",H37=\"Proceed to the Criterion 3\",H34=\"Proceed to the Criterion 3\"),IF(AND(Calculos!D33>0.07,Calculos!D33<=0.11),IF(E51=\"\",\"\",IF(AND(C45<=D51,C45>E51),\"Proceed to the Criterion 4\",\"\")),\"\"),\"\"))","v":""},null,{"$f":"IF(C45=\"\",\"\",IF(OR(F40=\"Proceed to the Criterion 3\",F37=\"Proceed to the Criterion 3\",F34=\"Proceed to the Criterion 3\",F31=\"Proceed to the Criterion 3\",H40=\"Proceed to the Criterion 3\",H37=\"Proceed to the Criterion 3\",H34=\"Proceed to the Criterion 3\"),IF(AND(Calculos!D33>0.07,Calculos!D33<=0.11),IF(E47=\"\",\"\",IF(AND(C45<=D47,C45>E47),\"Proceed to the Criterion 4\",\"\")),\"\"),\"\"))","v":""}]
[null,null,null,null,null,{"$f":"IF(C45=\"\",\"\",IF(OR(F40=\"Proceed to the Criterion 3\",F37=\"Proceed to the Criterion 3\",F34=\"Proceed to the Criterion 3\",F31=\"Proceed to the Criterion 3\",H40=\"Proceed to the Criterion 3\",H37=\"Proceed to the Criterion 3\",H34=\"Proceed to the Criterion 3\"),IF(AND(Calculos!D33>0.07,Calculos!D33<=0.11),IF(E51=\"\",\"\",IF(C45<=E51,\"The oil is coherent\",\"\")),\"\"),\"\"))","v":""},null,{"$f":"IF(C45=\"\",\"\",IF(OR(F40=\"Proceed to the Criterion 3\",F37=\"Proceed to the Criterion 3\",F34=\"Proceed to the Criterion 3\",F31=\"Proceed to the Criterion 3\",H40=\"Proceed to the Criterion 3\",H37=\"Proceed to the Criterion 3\",H34=\"Proceed to the Criterion 3\"),IF(AND(Calculos!D33>0.07,Calculos!D33<=0.11),IF(E47=\"\",\"\",IF(C45<=E47,\"The oil is coherent\",\"\")),\"\"),\"\"))","v":""}]
[]
[null,"Criterion 4 DR1"]
[null,"Parameter","Value","Higher Limit","Lower Limit",null,null,{"$f":"IF(C59=\"\",\"\",IF(OR(F54=\"Proceed to the Criterion 4\",F51=\"Proceed to the Criterion 4\",F48=\"Proceed to the Criterion 4\",F45=\"Proceed to the Criterion 4\",H54=\"Proceed to the Criterion 4\",H51=\"Proceed to the Criterion 4\",H48=\"Proceed to the Criterion 4\"),IF(AND(Calculos!D33>0.07,Calculos!D33<=0.11),IF(E59=\"\",\"\",IF(C59>D59,\"The oil is not coherent\",\"\"))),\"\"))","v":""}]
[null,"DR1 =",{"$f":"IF('Experimental Data'!E27=\"\",\"\",IF(AND(Calculos!D33>0.07,Calculos!D33<=0.11),Calculos!B20,\"\"))","v":""},{"$f":"IF(C62<=0.75,IF(C59=\"\",\"\",IF(AND(Calculos!D33>0.07,Calculos!D33<=0.11),IF(AND(C10>1.3,C60>3.5),ROUND(-0.02063+(0.926*C61)-(0.43495*C61^2)+(0.03353*C61^3),2),\"\"),\"\")),\"\")","v":""},{"$f":"IF(C62<=0.75,IF(C59=\"\",\"\",IF(AND(Calculos!D33>0.07,Calculos!D33<=0.11),IF(AND(C10>1.3,C60>3.5),0.35,\"\"),\"\")),\"\")","v":""},null,null,{"$f":"IF(C59=\"\",\"\",IF(OR(F54=\"Proceed to the Criterion 4\",F51=\"Proceed to the Criterion 4\",F48=\"Proceed to the Criterion 4\",F45=\"Proceed to the Criterion 4\",H54=\"Proceed to the Criterion 4\",H51=\"Proceed to the Criterion 4\",H48=\"Proceed to the Criterion 4\"),IF(AND(Calculos!D33>0.07,Calculos!D33<=0.11),IF(E59=\"\",\"\",IF(AND(C59<=D59,C59>E59),\"Proceed to the Criterion 5\",\"\"))),\"\"))","v":""}]
[null,"DOOL =",{"$f":"IF(C31=\"\",\"\",IF('Experimental Data'!E27=\"\",\"\",IF(AND(Calculos!D33>0.07,Calculos!D33<=0.119),ROUND(Calculos!B58,2),\"\")))","v":""},{"$f":"IF(C62<=0.75,IF(C59=\"\",\"\",IF(AND(Calculos!D33>0.07,Calculos!D33<=0.11),IF(AND(C10>1.3,C60<=3.5),ROUND(0.30586+(0.77474*C61)-(0.62598*C61^2)+(0.10932*C61^3),2),\"\"),\"\")),IF(C59=\"\",\"\",IF(AND(Calculos!D33>0.07,Calculos!D33<=0.11),IF(C10>1.3,0.5,\"\"),\"\")))","v":""},{"$f":"IF(C62<=0.75,IF(C59=\"\",\"\",IF(AND(Calculos!D33>0.07,Calculos!D33<=0.11),IF(AND(C10>1.3,C60<=3.5),0.4,\"\"),\"\")),IF(C59=\"\",\"\",IF(AND(Calculos!D33>0.07,Calculos!D33<=0.11),IF(C10>1.3,0.35,\"\"),\"\")))","v":""},null,null,{"$f":"IF(C59=\"\",\"\",IF(OR(F54=\"Proceed to the Criterion 4\",F51=\"Proceed to the Criterion 4\",F48=\"Proceed to the Criterion 4\",F45=\"Proceed to the Criterion 4\",H54=\"Proceed to the Criterion 4\",H51=\"Proceed to the Criterion 4\",H48=\"Proceed to the Criterion 4\"),IF(AND(Calculos!D33>0.07,Calculos!D33<=0.11),IF(E59=\"\",\"\",IF(C59<=E59,\"The oil is coherent\",\"\"))),\"\"))","v":""}]
[null,"DECN44p =",{"$f":"IF(C45=\"\",\"\",IF('Experimental Data'!E27=\"\",\"\",IF(AND(Calculos!D33>0.07,Calculos!D33<=0.11),Calculos!B38,\"\")))","v":""},{"$f":"IF(C62<=0.75,IF(C59=\"\",\"\",IF(AND(Calculos!D33>0.07,Calculos!D33<=0.11),IF(AND(C10>1.1,C10<=1.3),IF(C60>2.5,ROUND(0.30199+(0.91309*C61)-(0.52601*C61^2)-(0.06874*C61^3),2),\"\"),\"\"),\"\")),IF(C59=\"\",\"\",IF(AND(Calculos!D33>0.07,Calculos!D33<=0.11),IF(AND(C10>1.1,C10<=1.3,C60>2),ROUND(0.35453+(0.40142*C61)+(0.00806*C61^2)-(0.19413*C61^3),2),\"\"),\"\")))","v":""},{"$f":"IF(C62<=0.75,IF(C59=\"\",\"\",IF(AND(Calculos!D33>0.07,Calculos!D33<=0.11),IF(AND(C10>1.1,C10<=1.3),IF(C60>2.5,0.35,\"\"),\"\"),\"\")),IF(C59=\"\",\"\",IF(AND(Calculos!D33>0.07,Calculos!D33<=0.11),IF(AND(C10>1.1,C10<=1.3,C60>2),0.35,\"\"),\"\")))","v":""},{"$f":"IF(C59=\"\",\"\",IF(OR(F54=\"Proceed to the Criterion 4\",F51=\"Proceed to the Criterion 4\",F48=\"Proceed to the Criterion 4\",F45=\"Proceed to the Criterion 4\",H54=\"Proceed to the Criterion 4\",H51=\"Proceed to the Criterion 4\",H48=\"Proceed to the Criterion 4\"),IF(AND(Calculos!D33>0.07,Calculos!D33<=0.11),IF(E63=\"\",\"\",IF(C59>D63,\"The oil is not coherent\",\"\"))),\"\"))","v":""},null,{"$f":"IF(C59=\"\",\"\",IF(OR(F54=\"Proceed to the Criterion 4\",F51=\"Proceed to the Criterion 4\",F48=\"Proceed to the Criterion 4\",F45=\"Proceed to the Criterion 4\",H54=\"Proceed to the Criterion 4\",H51=\"Proceed to the Criterion 4\",H48=\"Proceed to the Criterion 4\"),IF(AND(Calculos!D33>0.07,Calculos!D33<=0.11),IF(E60=\"\",\"\",IF(C59>D60,\"The oil is not coherent\",\"\"))),\"\"))","v":""}]
[null,"Ln =",{"$f":"IF('Experimental Data'!E27=\"\",\"\",IF(AND(Calculos!D33>0.07,Calculos!D33<=0.11),Calculos!G7,\"\"))","v":""},{"$f":"IF(C62<=0.75,IF(C59=\"\",\"\",IF(AND(Calculos!D33>0.07,Calculos!D33<=0.11),IF(AND(C10>1.1,C10<=1.3),IF(C60<=2.5,ROUND(0.3553+(0.72262*C61)-(0.525*C61^2)+(0.0028*C61^3),2),\"\"),\"\"),\"\")),IF(C59=\"\",\"\",IF(AND(Calculos!D33>0.07,Calculos!D33<=0.11),IF(AND(C10>1.1,C10<=1.3,C60<=2),ROUND(0.35087+(1.20397*C61)-(1.71106*C61^2)+(0.41367*C61^3),2),\"\"),\"\")))","v":""},{"$f":"IF(C62<=0.75,IF(C59=\"\",\"\",IF(AND(Calculos!D33>0.07,Calculos!D33<=0.11),IF(AND(C10>1.1,C10<=1.3),IF(C60<=2.5,ROUND(0.3-(0.1*C61),2),\"\"),\"\"),\"\")),IF(C59=\"\",\"\",IF(AND(Calculos!D33>0.07,Calculos!D33<=0.11),IF(AND(C10>1.1,C10<=1.3,C60<=2),ROUND(0.35-(0.2*C61),2),\"\"),\"\")))","v":""},{"$f":"IF(C59=\"\",\"\",IF(OR(F54=\"Proceed to the Criterion 4\",F51=\"Proceed to the Criterion 4\",F48=\"Proceed to the Criterion 4\",F45=\"Proceed to the Criterion 4\",H54=\"Proceed to the Criterion 4\",H51=\"Proceed to the Criterion 4\",H48=\"Proceed to the Criterion 4\"),IF(AND(Calculos!D33>0.07,Calculos!D33<=0.11),IF(E63=\"\",\"\",IF(AND(C59<=D63,C59>E63),\"Proceed to the Criterion 5\",\"\"))),\"\"))","v":""},null,{"$f":"IF(C59=\"\",\"\",IF(OR(F54=\"Proceed to the Criterion 4\",F51=\"Proceed to the Criterion 4\",F48=\"Proceed to the Criterion 4\",F45=\"Proceed to the Criterion 4\",H54=\"Proceed to the Criterion 4\",H51=\"Proceed to the Criterion 4\",H48=\"Proceed to the Criterion 4\"),IF(AND(Calculos!D33>0.07,Calculos!D33<=0.11),IF(E60=\"\",\"\",IF(AND(C59<=D60,C59>E60),\"Proceed to the Criterion 5\",\"\"))),\"\"))","v":""}]
[null,null,null,{"$f":"IF(C62<=0.75,\"\",IF(C59=\"\",\"\",IF(AND(Calculos!D33>0.07,Calculos!D33<=0.11),IF(C10<=1.1,IF(C60>2.5,ROUND(0.35453+(0.40142*C61)+(0.00806*C61^2)-(0.19413*C61^3),2),\"\"),\"\"),\"\")))","v":""},{"$f":"IF(C62<=0.75,\"\",IF(C59=\"\",\"\",IF(AND(Calculos!D33>0.07,Calculos!D33<=0.11),IF(C10<=1.1,IF(C60>2.5,0.35,\"\"),\"\"),\"\")))","v":""},{"$f":"IF(C59=\"\",\"\",IF(OR(F54=\"Proceed to the Criterion 4\",F51=\"Proceed to the Criterion 4\",F48=\"Proceed to the Criterion 4\",F45=\"Proceed to the Criterion 4\",H54=\"Proceed to the Criterion 4\",H51=\"Proceed to the Criterion 4\",H48=\"Proceed to the Criterion 4\"),IF(AND(Calculos!D33>0.07,Calculos!D33<=0.11),IF(E63=\"\",\"\",IF(C59<=E63,\"The oil is coherent\",\"\"))),\"\"))","v":""},null,{"$f":"IF(C59=\"\",\"\",IF(OR(F54=\"Proceed to the Criterion 4\",F51=\"Proceed to the Criterion 4\",F48=\"Proceed to the Criterion 4\",F45=\"Proceed to the Criterion 4\",H54=\"Proceed to the Criterion 4\",H51=\"Proceed to the Criterion 4\",H48=\"Proceed to the Criterion 4\"),IF(AND(Calculos!D33>0.07,Calculos!D33<=0.11),IF(E60=\"\",\"\",IF(C59<=E60,\"The oil is coherent\",\"\"))),\"\"))","v":""}]
[null,null,null,{"$f":"IF(C62<=0.75,IF(C59=\"\",\"\",IF(AND(Calculos!D33>0.07,Calculos!D33<=0.11),IF(C10<=1.1,IF(C60>2,ROUND(0.21708+(1.09596*C61)-(0.64564*C61^2)-(0.04591*C61^3),2),\"\"),\"\"),\"\")),IF(C59=\"\",\"\",IF(AND(Calculos!D33>0.07,Calculos!D33<=0.11),IF(C10<=1.1,IF(AND(C60<=2.5,C60>1.5),ROUND(0.35294+(1.17093*C61)-(1.72662*C61^2)+(0.57275*C61^3),2),\"\"),\"\"),\"\")))","v":""},{"$f":"IF(C62<=0.75,IF(C59=\"\",\"\",IF(AND(Calculos!D33>0.07,Calculos!D33<=0.11),IF(C10<=1.1,IF(C60>2,0.4,\"\"),\"\"),\"\")),IF(C59=\"\",\"\",IF(AND(Calculos!D33>0.07,Calculos!D33<=0.11),IF(C10<=1.1,IF(AND(C60<=2.5,C60>1.5),0.3,\"\"),\"\"),\"\")))","v":""},{"$f":"IF(C59=\"\",\"\",IF(OR(F54=\"Proceed to the Criterion 4\",F51=\"Proceed to the Criterion 4\",F48=\"Proceed to the Criterion 4\",F45=\"Proceed to the Criterion 4\",H54=\"Proceed to the Criterion 4\",H51=\"Proceed to the Criterion 4\",H48=\"Proceed to the Criterion 4\"),IF(AND(Calculos!D33>0.07,Calculos!D33<=0.11),IF(E64=\"\",\"\",IF(C59>D64,\"The oil is not coherent\",\"\"))),\"\"))","v":""},null,{"$f":"IF(C59=\"\",\"\",IF(OR(F54=\"Proceed to the Criterion 4\",F51=\"Proceed to the Criterion 4\",F48=\"Proceed to the Criterion 4\",F45=\"Proceed to the Criterion 4\",H54=\"Proceed to the Criterion 4\",H51=\"Proceed to the Criterion 4\",H48=\"Proceed to the Criterion 4\"),IF(AND(Calculos!D33>0.07,Calculos!D33<=0.11),IF(E61=\"\",\"\",IF(C59>D61,\"The oil is not coherent\",\"\"))),\"\"))","v":""}]
[null,null,null,{"$f":"IF(C62<=0.75,IF(C59=\"\",\"\",IF(AND(Calculos!D33>0.07,Calculos!D33<=0.11),IF(C10<=1.1,IF(C60<=2,ROUND(0.35032+(1.08827*C61)-(0.98554*C61^2)+(0.03176*C61^3),2),\"\"),\"\"),\"\")),IF(C59=\"\",\"\",IF(AND(Calculos!D33>0.07,Calculos!D33<=0.11),IF(C10<=1.1,IF(C60<=1.5,ROUND(0.35294+(1.17093*C61)-(1.72662*C61^2)+(0.57275*C61^3),2),\"\"),\"\"),\"\")))","v":""},{"$f":"IF(C62<=0.75,IF(C59=\"\",\"\",IF(AND(Calculos!D33>0.07,Calculos!D33<=0.11),IF(C10<=1.1,IF(C60<=2,0.35,\"\"),\"\"),\"\")),IF(C59=\"\",\"\",IF(AND(Calculos!D33>0.07,Calculos!D33<=0.11),IF(C10<=1.1,IF(C60<=1.5,0.2,\"\"),\"\"),\"\")))","v":""},{"$f":"IF(C59=\"\",\"\",IF(OR(F54=\"Proceed to the Criterion 4\",F51=\"Proceed to the Criterion 4\",F48=\"Proceed to the Criterion 4\",F45=\"Proceed to the Criterion 4\",H54=\"Proceed to the Criterion 4\",H51=\"Proceed to the Criterion 4\",H48=\"Proceed to the Criterion 4\"),IF(AND(Calculos!D33>0.07,Calculos!D33<=0.11),IF(E64=\"\",\"\",IF(AND(C59<=D64,C59>E64),\"Proceed to the Criterion 5\",\"\"))),\"\"))","v":""},null,{"$f":"IF(C59=\"\",\"\",IF(OR(F54=\"Proceed to the Criterion 4\",F51=\"Proceed to the Criterion 4\",F48=\"Proceed to the Criterion 4\",F45=\"Proceed to the Criterion 4\",H54=\"Proceed to the Criterion 4\",H51=\"Proceed to the Criterion 4\",H48=\"Proceed to the Criterion 4\"),IF(AND(Calculos!D33>0.07,Calculos!D33<=0.11),IF(E61=\"\",\"\",IF(AND(C59<=D61,C59>E61),\"Proceed to the Criterion 5\",\"\"))),\"\"))","v":""}]
[null,null,null,null,null,{"$f":"IF(C59=\"\",\"\",IF(OR(F54=\"Proceed to the Criterion 4\",F51=\"Proceed to the Criterion 4\",F48=\"Proceed to the Criterion 4\",F45=\"Proceed to the Criterion 4\",H54=\"Proceed to the Criterion 4\",H51=\"Proceed to the Criterion 4\",H48=\"Proceed to the Criterion 4\"),IF(AND(Calculos!D33>0.07,Calculos!D33<=0.11),IF(E64=\"\",\"\",IF(C59<=E64,\"The oil is coherent\",\"\"))),\"\"))","v":""},null,{"$f":"IF(C59=\"\",\"\",IF(OR(F54=\"Proceed to the Criterion 4\",F51=\"Proceed to the Criterion 4\",F48=\"Proceed to the Criterion 4\",F45=\"Proceed to the Criterion 4\",H54=\"Proceed to the Criterion 4\",H51=\"Proceed to the Criterion 4\",H48=\"Proceed to the Criterion 4\"),IF(AND(Calculos!D33>0.07,Calculos!D33<=0.11),IF(E61=\"\",\"\",IF(C59<=E61,\"The oil is coherent\",\"\"))),\"\"))","v":""}]
[null,null,null,null,null,{"$f":"IF(C59=\"\",\"\",IF(OR(F54=\"Proceed to the Criterion 4\",F51=\"Proceed to the Criterion 4\",F48=\"Proceed to the Criterion 4\",F45=\"Proceed to the Criterion 4\",H54=\"Proceed to the Criterion 4\",H51=\"Proceed to the Criterion 4\",H48=\"Proceed to the Criterion 4\"),IF(AND(Calculos!D33>0.07,Calculos!D33<=0.11),IF(E65=\"\",\"\",IF(C59>D65,\"The oil is not coherent\",\"\"))),\"\"))","v":""},null,{"$f":"IF(C59=\"\",\"\",IF(OR(F54=\"Proceed to the Criterion 4\",F51=\"Proceed to the Criterion 4\",F48=\"Proceed to the Criterion 4\",F45=\"Proceed to the Criterion 4\",H54=\"Proceed to the Criterion 4\",H51=\"Proceed to the Criterion 4\",H48=\"Proceed to the Criterion 4\"),IF(AND(Calculos!D33>0.07,Calculos!D33<=0.11),IF(E62=\"\",\"\",IF(C59>D62,\"The oil is not coherent\",\"\"))),\"\"))","v":""}]
[null,null,null,null,null,{"$f":"IF(C59=\"\",\"\",IF(OR(F54=\"Proceed to the Criterion 4\",F51=\"Proceed to the Criterion 4\",F48=\"Proceed to the Criterion 4\",F45=\"Proceed to the Criterion 4\",H54=\"Proceed to the Criterion 4\",H51=\"Proceed to the Criterion 4\",H48=\"Proceed to the Criterion 4\"),IF(AND(Calculos!D33>0.07,Calculos!D33<=0.11),IF(E65=\"\",\"\",IF(AND(C59<=D65,C59>E65),\"Proceed to the Criterion 5\",\"\"))),\"\"))","v":""},null,{"$f":"IF(C59=\"\",\"\",IF(OR(F54=\"Proceed to the Criterion 4\",F51=\"Proceed to the Criterion 4\",F48=\"Proceed to the Criterion 4\",F45=\"Proceed to the Criterion 4\",H54=\"Proceed to the Criterion 4\",H51=\"Proceed to the Criterion 4\",H48=\"Proceed to the Criterion 4\"),IF(AND(Calculos!D33>0.07,Calculos!D33<=0.11),IF(E62=\"\",\"\",IF(AND(C59<=D62,C59>E62),\"Proceed to the Criterion 5\",\"\"))),\"\"))","v":""}]
[null,null,null,null,null,{"$f":"IF(C59=\"\",\"\",IF(OR(F54=\"Proceed to the Criterion 4\",F51=\"Proceed to the Criterion 4\",F48=\"Proceed to the Criterion 4\",F45=\"Proceed to the Criterion 4\",H54=\"Proceed to the Criterion 4\",H51=\"Proceed to the Criterion 4\",H48=\"Proceed to the Criterion 4\"),IF(AND(Calculos!D33>0.07,Calculos!D33<=0.11),IF(E65=\"\",\"\",IF(C59<=E65,\"The oil is coherent\",\"\"))),\"\"))","v":""},null,{"$f":"IF(C59=\"\",\"\",IF(OR(F54=\"Proceed to the Criterion 4\",F51=\"Proceed to the Criterion 4\",F48=\"Proceed to the Criterion 4\",F45=\"Proceed to the Criterion 4\",H54=\"Proceed to the Criterion 4\",H51=\"Proceed to the Criterion 4\",H48=\"Proceed to the Criterion 4\"),IF(AND(Calculos!D33>0.07,Calculos!D33<=0.11),IF(E62=\"\",\"\",IF(C59<=E62,\"The oil is coherent\",\"\"))),\"\"))","v":""}]
[]
[null,"Criterion 5 L4"]
[null,"Parameter","Value","Higher Limit","Lower Limit",{"$f":"IF(C73=\"\",\"\",IF(OR(F68=\"Proceed to the Criterion 5\",F65=\"Proceed to the Criterion 5\",F62=\"Proceed to the Criterion 5\",H59=\"Proceed to the Criterion 5\",H68=\"Proceed to the Criterion 5\",H65=\"Proceed to the Criterion 5\",H62=\"Proceed to the Criterion 5\"),IF(AND(Calculos!D33>0.07,Calculos!D33<=0.11),IF(E75=\"\",\"\",IF(C73<=E75,\"The oil is coherent\",\"\"))),\"\"))","v":""}]
[null,"L4 =",{"$f":"IF('Experimental Data'!E27=\"\",\"\",IF(AND(Calculos!D33>0.07,Calculos!D33<=0.11),Calculos!J22,\"\"))","v":""},{"$f":"IF(C75<=0.75,IF(C73=\"\",\"\",IF(AND(Calculos!D33>0.07,Calculos!D33<=0.11),IF(C10>1.3,IF(C74>3.5,ROUND(-5.50671+(14.91946*C76)-(8.75447*C76^2)+(1.4612*C76^3),2),\"\"),\"\"),\"\")),\"\")","v":""},{"$f":"IF(C75<=0.75,IF(C73=\"\",\"\",IF(AND(Calculos!D33>0.07,Calculos!D33<=0.11),IF(C10>1.3,IF(C74>3.5,\"\",\"\"),\"\"),\"\")),\"\")","v":""},{"$f":"IF(C73=\"\",\"\",IF(OR(F68=\"Proceed to the Criterion 5\",F65=\"Proceed to the Criterion 5\",F62=\"Proceed to the Criterion 5\",H59=\"Proceed to the Criterion 5\",H68=\"Proceed to the Criterion 5\",H65=\"Proceed to the Criterion 5\",H62=\"Proceed to the Criterion 5\"),IF(AND(Calculos!D33>0.07,Calculos!D33<=0.11),IF(E76=\"\",\"\",IF(C73>D76,\"The oil is not coherent\",\"\"))),\"\"))","v":""}]
[null,"DOOL =",{"$f":"IF(C73=\"\",\"\",IF('Experimental Data'!E27=\"\",\"\",IF(AND(Calculos!D33>0.07,Calculos!D33<=0.11),ROUND(Calculos!B58,2),\"\")))","v":""},{"$f":"IF(C75<=0.75,IF(C73=\"\",\"\",IF(AND(Calculos!D33>0.07,Calculos!D33<=0.11),IF(C10>1.3,IF(C74<=3.5,ROUND(0.88098+(4.47838*C76)-(3.18505*C76^2)+(0.39503*C76^3),2),\"\"),\"\"),\"\")),IF(C73=\"\",\"\",IF(AND(Calculos!D33>0.07,Calculos!D33<=0.11),IF(C10>1.3,ROUND(1.24063+(3.37092*C76)-(2.54298*C76^2)+(0.38243*C76^3),2),\"\"),\"\")))","v":""},{"$f":"IF(C75<=0.75,IF(C73=\"\",\"\",IF(AND(Calculos!D33>0.07,Calculos!D33<=0.11),IF(C10>1.3,IF(C74<=3.5,\"\",\"\"),\"\"),\"\")),IF(C73=\"\",\"\",IF(AND(Calculos!D33>0.07,Calculos!D33<=0.11),IF(C10>1.3,\"\",\"\"),\"\")))","v":""},{"$f":"IF(C73=\"\",\"\",IF(OR(F68=\"Proceed to the Criterion 5\",F65=\"Proceed to the Criterion 5\",F62=\"Proceed to the Criterion 5\",H59=\"Proceed to the Criterion 5\",H68=\"Proceed to the Criterion 5\",H65=\"Proceed to the Criterion 5\",H62=\"Proceed to the Criterion 5\"),IF(AND(Calculos!D33>0.07,Calculos!D33<=0.11),IF(E76=\"\",\"\",IF(AND(C73<=D76,C73>E76),\"Proceed to the Criterion 6\",\"\"))),\"\"))","v":""}]
[null,"Ln =",{"$f":"IF('Experimental Data'!E27=\"\",\"\",IF(AND(Calculos!D33>0.07,Calculos!D33<=0.11),Calculos!G7,\"\"))","v":""},{"$f":"IF(C75<=0.75,IF(C73=\"\",\"\",IF(AND(Calculos!D33>0.07,Calculos!D33<=0.11),IF(AND(C10<=1.3,C10>1.1),IF(C74>2.5,ROUND(1.82742+(2.8504*C76)-(0.64475*C76^2)-(1.23422*C76^3),2),\"\"),\"\"),\"\")),IF(C73=\"\",\"\",IF(AND(Calculos!D33>0.07,Calculos!D33<=0.11),IF(AND(C10<=1.3,C10>1.1),IF(C74>2,ROUND(2.01061+(1.76488*C76)+(0.57765*C76^2)-(1.51515*C76^3),2),\"\"),\"\"),\"\")))","v":""},{"$f":"IF(C75<=0.75,IF(C73=\"\",\"\",IF(AND(Calculos!D33>0.07,Calculos!D33<=0.11),IF(AND(C10<=1.3,C10>1.1),IF(C74>2.5,1.3,\"\"),\"\"),\"\")),IF(C73=\"\",\"\",IF(AND(Calculos!D33>0.07,Calculos!D33<=0.11),IF(AND(C10<=1.3,C10>1.1),IF(C74>2,1.5,\"\"),\"\"),\"\")))","v":""},{"$f":"IF(C73=\"\",\"\",IF(OR(F68=\"Proceed to the Criterion 5\",F65=\"Proceed to the Criterion 5\",F62=\"Proceed to the Criterion 5\",H59=\"Proceed to the Criterion 5\",H68=\"Proceed to the Criterion 5\",H65=\"Proceed to the Criterion 5\",H62=\"Proceed to the Criterion 5\"),IF(AND(Calculos!D33>0.07,Calculos!D33<=0.11),IF(E76=\"\",\"\",IF(C73<=E76,\"The oil is coherent\",\"\"))),\"\"))","v":""},null,{"$f":"IF(C73=\"\",\"\",IF(OR(F68=\"Proceed to the Criterion 5\",F65=\"Proceed to the Criterion 5\",F62=\"Proceed to the Criterion 5\",H59=\"Proceed to the Criterion 5\",H68=\"Proceed to the Criterion 5\",H65=\"Proceed to the Criterion 5\",H62=\"Proceed to the Criterion 5\"),IF(AND(Calculos!D33>0.07,Calculos!D33<=0.11),IF(D73=\"\",\"\",IF(C73<=D73,\"The oil is coherent\",\"The oil is not coherent\"))),\"\"))","v":""}]
[null,"DECN44p =",{"$f":"IF(C73=\"\",\"\",IF('Experimental Data'!E27=\"\",\"\",IF(AND(Calculos!D33>0.07,Calculos!D33<=0.11),Calculos!B38,\"\")))","v":""},{"$f":"IF(C75<=0.75,IF(C73=\"\",\"\",IF(AND(Calculos!D33>0.07,Calculos!D33<=0.11),IF(AND(C10<=1.3,C10>1.1),IF(C74<=2.5,ROUND(1.82742+(2.8504*C76)-(0.64475*C76^2)-(1.23422*C76^3),2),\"\"),\"\"),\"\")),IF(C73=\"\",\"\",IF(AND(Calculos!D33>0.07,Calculos!D33<=0.11),IF(AND(C10<=1.3,C10>1.1),IF(C74<=2,ROUND(2.00873+(4.72685*C76)-(5.70437*C76^2)+(0.23148*C76^3),2),\"\"),\"\"),\"\")))","v":""},{"$f":"IF(C75<=0.75,IF(C73=\"\",\"\",IF(AND(Calculos!D33>0.07,Calculos!D33<=0.11),IF(AND(C10<=1.3,C10>1.1),IF(C74<=2.5,1.1,\"\"),\"\"),\"\")),IF(C73=\"\",\"\",IF(AND(Calculos!D33>0.07,Calculos!D33<=0.11),IF(AND(C10<=1.3,C10>1.1),IF(C74<=2,ROUND(1.3-(0.8*C76),2),\"\"),\"\"),\"\")))","v":""},{"$f":"IF(C73=\"\",\"\",IF(OR(F68=\"Proceed to the Criterion 5\",F65=\"Proceed to the Criterion 5\",F62=\"Proceed to the Criterion 5\",H59=\"Proceed to the Criterion 5\",H68=\"Proceed to the Criterion 5\",H65=\"Proceed to the Criterion 5\",H62=\"Proceed to the Criterion 5\"),IF(AND(Calculos!D33>0.07,Calculos!D33<=0.11),IF(D77=\"\",\"\",IF(C73<=D77,\"The oil is coherent\",\"The oil is not coherent\"))),\"\"))","v":""},null,{"$f":"IF(C73=\"\",\"\",IF(OR(F68=\"Proceed to the Criterion 5\",F65=\"Proceed to the Criterion 5\",F62=\"Proceed to the Criterion 5\",H59=\"Proceed to the Criterion 5\",H68=\"Proceed to the Criterion 5\",H65=\"Proceed to the Criterion 5\",H62=\"Proceed to the Criterion 5\"),IF(AND(Calculos!D33>0.07,Calculos!D33<=0.11),IF(D74=\"\",\"\",IF(C73<=D74,\"The oil is coherent\",\"The oil is not coherent\"))),\"\"))","v":""}]
[null,null,null,{"$f":"IF(C75<=0.75,\"\",IF(C73=\"\",\"\",IF(AND(Calculos!D33>0.07,Calculos!D33<=0.11),IF(C10<=1.1,IF(C74>2.5,ROUND(2.01061+(1.76488*C76)+(0.57765*C76^2)-(1.51515*C76^3),2),\"\"),\"\"),\"\")))","v":""},{"$f":"IF(C75<=0.75,\"\",IF(C73=\"\",\"\",IF(AND(Calculos!D33>0.07,Calculos!D33<=0.11),IF(C10<=1.1,IF(C74>2.5,\"\",\"\"),\"\"),\"\")))","v":""},{"$f":"IF(C73=\"\",\"\",IF(OR(F68=\"Proceed to the Criterion 5\",F65=\"Proceed to the Criterion 5\",F62=\"Proceed to the Criterion 5\",H59=\"Proceed to the Criterion 5\",H68=\"Proceed to the Criterion 5\",H65=\"Proceed to the Criterion 5\",H62=\"Proceed to the Criterion 5\"),IF(AND(Calculos!D33>0.07,Calculos!D33<=0.11),IF(D78=\"\",\"\",IF(C73<=D78,\"The oil is coherent\",\"The oil is not coherent\"))),\"\"))","v":""},null,{"$f":"IF(C73=\"\",\"\",IF(OR(F68=\"Proceed to the Criterion 5\",F65=\"Proceed to the Criterion 5\",F62=\"Proceed to the Criterion 5\",H59=\"Proceed to the Criterion 5\",H68=\"Proceed to the Criterion 5\",H65=\"Proceed to the Criterion 5\",H62=\"Proceed to the Criterion 5\"),IF(AND(Calculos!D33>0.07,Calculos!D33<=0.11),IF(E75=\"\",\"\",IF(C73>D75,\"The oil is not coherent\",\"\"))),\"\"))","v":""}]
[null,null,null,{"$f":"IF(C75<=0.75,IF(C73=\"\",\"\",IF(AND(Calculos!D33>0.07,Calculos!D33<=0.11),IF(C10<=1.1,IF(C74>2,ROUND(1.27703+(4.3645*C76)-(1.97612*C76^2)-(0.85798*C76^3),2),\"\"),\"\"),\"\")),IF(C73=\"\",\"\",IF(AND(Calculos!D33>0.07,Calculos!D33<=0.11),IF(C10<=1.1,IF(AND(C74<=2.5,C74>1.5),ROUND(2.00873+(4.72685*C76)-(5.70437*C76^2)+(0.23148*C76^3),2),\"\"),\"\"),\"\")))","v":""},{"$f":"IF(C75<=0.75,IF(C73=\"\",\"\",IF(AND(Calculos!D33>0.07,Calculos!D33<=0.11),IF(C10<=1.1,IF(C74>2,\"\",\"\"),\"\"),\"\")),IF(C73=\"\",\"\",IF(AND(Calculos!D33>0.07,Calculos!D33<=0.11),IF(C10<=1.1,IF(AND(C74<=2.5,C74>1.5),\"\",\"\"),\"\"),\"\")))","v":""},{"$f":"IF(C73=\"\",\"\",IF(OR(F68=\"Proceed to the Criterion 5\",F65=\"Proceed to the Criterion 5\",F62=\"Proceed to the Criterion 5\",H59=\"Proceed to the Criterion 5\",H68=\"Proceed to the Criterion 5\",H65=\"Proceed to the Criterion 5\",H62=\"Proceed to the Criterion 5\"),IF(AND(Calculos!D33>0.07,Calculos!D33<=0.11),IF(D79=\"\",\"\",IF(C73<=D79,\"The oil is coherent\",\"The oil is not coherent\"))),\"\"))","v":""},null,{"$f":"IF(C73=\"\",\"\",IF(OR(F68=\"Proceed to the Criterion 5\",F65=\"Proceed to the Criterion 5\",F62=\"Proceed to the Criterion 5\",H59=\"Proceed to the Criterion 5\",H68=\"Proceed to the Criterion 5\",H65=\"Proceed to the Criterion 5\",H62=\"Proceed to the Criterion 5\"),IF(AND(Calculos!D33>0.07,Calculos!D33<=0.11),IF(E75=\"\",\"\",IF(AND(C73<=D75,C73>E75),\"Proceed to the Criterion 6\",\"\"))),\"\"))","v":""}]
[null,null,null,{"$f":"IF(C75<=0.75,IF(C73=\"\",\"\",IF(AND(Calculos!D33>0.07,Calculos!D33<=0.11),IF(C10<=1.1,IF(C74<=2,ROUND(1.78714+(3.14286*C76)+(0.41964*C76^2)-(3.4375*C76^3),2),\"\"),\"\"),\"\")),IF(C73=\"\",\"\",IF(AND(Calculos!D33>0.07,Calculos!D33<=0.11),IF(C10<=1.1,IF(C74<=1.5,ROUND(2.00873+(4.72685*C76)-(5.70437*C76^2)+(0.23148*C76^3),2),\"\"),\"\"),\"\")))","v":""},{"$f":"IF(C75<=0.75,IF(C73=\"\",\"\",IF(AND(Calculos!D33>0.07,Calculos!D33<=0.11),IF(C10<=1.1,IF(C74<=2,\"\",\"\"),\"\"),\"\")),IF(C73=\"\",\"\",IF(AND(Calculos!D33>0.07,Calculos!D33<=0.11),IF(C10<=1.1,IF(C74<=1.5,\"\",\"\"),\"\"),\"\")))","v":""}]
[]
[null,"Criterion 6 R2, DOOL"]
[null,"Parameter","Value","Limit R2",{"$f":"IF(C83=\"\",\"\",IF(OR(F74=\"Proceed to the Criterion 6\",H78=\"Proceed to the Criterion 6\"),IF(AND(Calculos!D33>0.07,Calculos!D33<=0.11),IF(AND(C84>2.5,C10<=1.3,C10>1.1,C85<=0.75),\"The oil is coherent by DOOL>2,5\",\"\")),\"\"))","v":""}]
[null,"R2 =",{"$f":"IF('Experimental Data'!E27=\"\",\"\",IF(AND(Calculos!D33>0.07,Calculos!D33<=0.11),Calculos!B32,\"\"))","v":""},{"$f":"IF(C85<=0.75,IF(C83=\"\",\"\",IF(AND(Calculos!D33>0.07,Calculos!D33<=0.11),IF(AND(C10<=1.3,C10>1.1,C84<=2.5,C84>1.2),0.085,\"\"),\"\")),IF(C83=\"\",\"\",IF(AND(Calculos!D33>0.07,Calculos!D33<=0.11),IF(AND(C10<=1.3,C10>1.1,C84>1.5),0.085,\"\"),\"\")))","v":""},{"$f":"IF(C83=\"\",\"\",IF(OR(F74=\"Proceed to the Criterion 6\",H78=\"Proceed to the Criterion 6\"),IF(AND(Calculos!D33>0.07,Calculos!D33<=0.11),IF(D83=\"\",\"\",IF(C83>=D83,\"The oil is coherent\",\"The oil is not coherent\"))),\"\"))","v":""}]
[null,"DOOL =",{"$f":"IF(C73=\"\",\"\",IF('Experimental Data'!E27=\"\",\"\",IF(AND(Calculos!D33>0.07,Calculos!D33<=0.11),ROUND(Calculos!B58,2),\"\")))","v":""},null,{"$f":"IF(C83=\"\",\"\",IF(OR(F74=\"Proceed to the Criterion 6\",H78=\"Proceed to the Criterion 6\"),IF(AND(Calculos!D33>0.07,Calculos!D33<=0.11),IF(AND(C84<=1.2,C10<=1.3,C10>1.1,C85<=0.75),\"The oil is coherent by DOOL<=1,2\",\"\")),\"\"))","v":""},null,{"$f":"IF(C83=\"\",\"\",IF(OR(F74=\"Proceed to the Criterion 6\",H78=\"Proceed to the Criterion 6\"),IF(AND(Calculos!D33>0.07,Calculos!D33<=0.11),IF(AND(C84<=1.5,C10<=1.3,C10>1.1,C85>0.75),\"The oil is coherent by DOOL<=1,5\",\"\")),\"\"))","v":""}]
[null,"Ln =",{"$f":"IF('Experimental Data'!E27=\"\",\"\",IF(AND(Calculos!D33>0.07,Calculos!D33<=0.11),Calculos!G7,\"\"))","v":""}]

{"sheet":"Criteria for LLLt 0,110-0,170","index":7,"n_rows":87,"n_cols":8,"rows_kept":87,"cut":false,"hidden":false,"merged":[[1,1,1,8]]}
[null,"Criteria for LLL theor. 0,110 - 0,170"]
[null,"Calculation Parameters"]
[null,"Sample Code",{"$f":"IF(C6=\"\",\"\",IF('Experimental Data'!F16=\"\",\"\",'Experimental Data'!F16))","v":""},{"$f":"IF(C6=\"\",\"\",IF('Experimental Data'!G16=\"\",\"\",'Experimental Data'!G16))","v":""},{"$f":"IF(C6=\"\",\"\",IF('Experimental Data'!H16=\"\",\"\",'Experimental Data'!H16))","v":""},{"$f":"IF(C6=\"\",\"\",IF('Experimental Data'!I16=\"\",\"\",'Experimental Data'!I16))","v":""},{"$f":"IF(C6=\"\",\"\",IF('Experimental Data'!J16=\"\",\"\",'Experimental Data'!J16))","v":""},{"$f":"IF(C6=\"\",\"\",IF('Experimental Data'!K16=\"\",\"\",'Experimental Data'!K16))","v":""}]
[null,"Oil Category",{"$f":"IF(C3=\"\",\"\",IF('Experimental Data'!F17=\"\",\"\",'Experimental Data'!F17))","v":""},{"$f":"IF(C4=\"\",\"\",IF(C4=\"EV\",\"Virgin Edible Olive Oil\",IF(C4=\"L\",\"Lampant Olive Oil\",IF(C4=\"R\",\"Refined Olive Oil\"))))","v":""}]
[]
[null,"DECN42 =",{"$f":"IF('Experimental Data'!E27=\"\",\"\",IF(AND(Calculos!D33>0.11,Calculos!D33<=0.17),Calculos!M58,\"\"))","v":""},{"$f":"IF('Experimental Data'!E27=\"\",\"\",IF(AND(Calculos!D33>0.11,Calculos!D33<=0.17),IF(C4=\"EV\",0.2,IF(OR(C4=\"R\",C4=\"L\"),0.3,\"\")),\"\"))","v":""},{"$f":"IF(C6=\"\",\"\",IF(C6<=D6,\"Proceed to the Early Criterion\",\"Proceed to the Early Criterion\"))","v":""},null,{"$f":"IF(C6=\"\",\"\",IF(C6>D6,\"Warning, The DECN42 is too high\",\"\"))","v":""}]
[]
[null,"Early Criterion K1"]
[null,"Parameter","Value","Higher Limit","Lower Limit",{"$f":"IF(C10=\"\",\"\",IF(E6=\"Proceed to the Early Criterion\",IF(AND(Calculos!D33>0.11,Calculos!D33<=0.17),IF(E10=\"\",\"\",IF(AND(C10<=D10,C10>E10),\"Proceed to the Criterion 1\",\"\")),\"\"),\"\"))","v":""}]
[null,"K1 =",{"$f":"IF('Experimental Data'!E27=\"\",\"\",IF(AND(Calculos!D33>0.11,Calculos!D33<=0.17),Calculos!J24,\"\"))","v":""},{"$f":"IF(C10=\"\",\"\",IF(AND(Calculos!D33>0.11,Calculos!D33<=0.17),IF(C10>1.3,1.75,\"\"),\"\"))","v":""},{"$f":"IF(C10=\"\",\"\",IF(AND(Calculos!D33>0.11,Calculos!D33<=0.17),IF(C10>1.3,1.3,\"\"),\"\"))","v":""},{"$f":"IF(C10=\"\",\"\",IF(E6=\"Proceed to the Early Criterion\",IF(AND(Calculos!D33>0.11,Calculos!D33<=0.17),IF(E11=\"\",\"\",IF(AND(C10<=D11,C10>E11),\"Proceed to the Criterion 1\",\"\")),\"\"),\"\"))","v":""}]
[null,"Ln =",{"$f":"IF('Experimental Data'!E27=\"\",\"\",IF(AND(Calculos!D33>0.11,Calculos!D33<=0.17),Calculos!G7,\"\"))","v":""},{"$f":"IF(C10=\"\",\"\",IF(AND(Calculos!D33>0.11,Calculos!D33<=0.17),IF(AND(C10>1.1,C10<=1.3),1.3,\"\"),\"\"))","v":""},{"$f":"IF(C10=\"\",\"\",IF(AND(Calculos!D33>0.11,Calculos!D33<=0.17),IF(AND(C10>1.1,C10<=1.3),1.1,\"\"),\"\"))","v":""},{"$f":"IF(C10=\"\",\"\",IF(E6=\"Proceed to the Early Criterion\",IF(AND(Calculos!D33>0.11,Calculos!D33<=0.17),IF(E12=\"\",\"\",IF(AND(C10<=D12,C10>E12),\"Proceed to the Criterion 1\",\"\")),\"\"),\"\"))","v":""}]
[null,null,null,{"$f":"IF(C10=\"\",\"\",IF(AND(Calculos!D33>0.11,Calculos!D33<=0.17),IF(C10<=1.1,1.1,\"\"),\"\"))","v":""},{"$f":"IF(C10=\"\",\"\",IF(AND(Calculos!D33>0.11,Calculos!D33<=0.17),IF(C10<=1.1,0.95,\"\"),\"\"))","v":""},{"$f":"IF(C10=\"\",\"\",IF(E6=\"Proceed to the Early Criterion\",IF(AND(Calculos!D33>0.11,Calculos!D33<=0.17),IF(E12=\"\",\"\",IF(C10<=E12,\"The oil is coherent\",\"\")),\"\"),\"\"))","v":""},null,{"$f":"IF(C10=\"\",\"\",IF(E6=\"Proceed to the Early Criterion\",IF(AND(Calculos!D33>0.11,Calculos!D33<=0.17),IF(E10=\"\",\"\",IF(C10>D10,\"The oil is not coherent\",\"\")),\"\"),\"\"))","v":""}]
[]
[null,"Criterion 1 DR3"]
[null,"Parameter","Value","Higher Limit","Lower Limit",{"$f":"IF(C16=\"\",\"\",IF(OR(F11=\"Proceed to the Criterion 1\",F10=\"Proceed to the Criterion 1\",F9=\"Proceed to the Criterion 1\"),IF(AND(Calculos!D33>0.11,Calculos!D33<=0.17),IF(E19=\"\",\"\",IF(C16>D19,\"The oil is not coherent\",\"\"))),\"\"))","v":""}]
[null,"DR3 =",{"$f":"IF('Experimental Data'!E27=\"\",\"\",IF(AND(Calculos!D33>0.11,Calculos!D33<=0.17),ROUND(Calculos!B43,2),\"\"))","v":""},{"$f":"IF(C18<=0.75,IF(C16=\"\",\"\",IF(AND(Calculos!D33>0.11,Calculos!D33<=0.17),IF(C10>1.3,IF(C19>3,0.3,\"\"),\"\"),\"\")),\"\")","v":""},{"$f":"IF(C18<=0.75,IF(C16=\"\",\"\",IF(AND(Calculos!D33>0.11,Calculos!D33<=0.17),IF(C10>1.3,IF(C19>3,0,\"\"),\"\"),\"\")),\"\")","v":""},{"$f":"IF(C16=\"\",\"\",IF(OR(F11=\"Proceed to the Criterion 1\",F10=\"Proceed to the Criterion 1\",F9=\"Proceed to the Criterion 1\"),IF(AND(Calculos!D33>0.11,Calculos!D33<=0.17),IF(E19=\"\",\"\",IF(AND(C16<=D19,C16>E19),\"Proceed to the Criterion 2\",\"\"))),\"\"))","v":""}]
[null,"DECN44p",{"$f":"IF(C16=\"\",\"\",IF('Experimental Data'!E27=\"\",\"\",IF(AND(Calculos!D33>0.11,Calculos!D33<=0.17),Calculos!B38,\"\")))","v":""},{"$f":"IF(C18<=0.75,IF(C16=\"\",\"\",IF(AND(Calculos!D33>0.11,Calculos!D33<=0.17),IF(C10>1.3,IF(C19<=3,ROUND(0.05727+(1.24683*C17)-(0.68723*C17^2)-(0.12626*C17^3),2),\"\"),\"\"),\"\")),IF(C16=\"\",\"\",IF(AND(Calculos!D33>0.11,Calculos!D33<=0.17),IF(C10>1.3,ROUND(0.2492+(0.12052*C17)-(0.06942*C17^2)-(0.00425*C17^3),2),\"\"),\"\")))","v":""},{"$f":"IF(C18<=0.75,IF(C16=\"\",\"\",IF(AND(Calculos!D33>0.11,Calculos!D33<=0.17),IF(C10>1.3,IF(C19<=3,-0.1,\"\"),\"\"),\"\")),IF(C16=\"\",\"\",IF(AND(Calculos!D33>0.11,Calculos!D33<=0.17),IF(C10>1.3,-0.05,\"\"),\"\")))","v":""},{"$f":"IF(C16=\"\",\"\",IF(OR(F11=\"Proceed to the Criterion 1\",F10=\"Proceed to the Criterion 1\",F9=\"Proceed to the Criterion 1\"),IF(AND(Calculos!D33>0.11,Calculos!D33<=0.17),IF(E19=\"\",\"\",IF(C16<=E19,\"The oil is coherent\",\"\"))),\"\"))","v":""}]
[null,"Ln",{"$f":"IF('Experimental Data'!E27=\"\",\"\",IF(AND(Calculos!D33>0.11,Calculos!D33<=0.17),Calculos!G7,\"\"))","v":""},{"$f":"IF(C18<=0.75,IF(C16=\"\",\"\",IF(AND(Calculos!D33>0.11,Calculos!D33<=0.17),IF(AND(C10<=1.3,C10>1.1),IF(C19>2.5,ROUND(0.24991+(0.81271*C17)+(0.02254*C17^2)-(0.35645*C17^3),2),\"\"),\"\"),\"\")),IF(C16=\"\",\"\",IF(AND(Calculos!D33>0.11,Calculos!D33<=0.17),IF(AND(C10<=1.3,C10>1.1,C19>2.5),ROUND(0.29754+(0.4915*C17)-(0.31476*C17^2)-(0.02319*C17^3),2),\"\"),\"\")))","v":""},{"$f":"IF(C18<=0.75,IF(C16=\"\",\"\",IF(AND(Calculos!D33>0.11,Calculos!D33<=0.17),IF(AND(C10<=1.3,C10>1.1),IF(C19>2.5,ROUND(-0.29375+(0.3125*C17),2),\"\"),\"\"),\"\")),IF(C16=\"\",\"\",IF(AND(Calculos!D33>0.11,Calculos!D33<=0.17),IF(AND(C10<=1.3,C10>1.1,C19>2.5),ROUND(0.66-(0.45*C17),2),\"\"),\"\")))","v":""},{"$f":"IF(C16=\"\",\"\",IF(OR(F11=\"Proceed to the Criterion 1\",F10=\"Proceed to the Criterion 1\",F9=\"Proceed to the Criterion 1\"),IF(AND(Calculos!D33>0.11,Calculos!D33<=0.17),IF(E20=\"\",\"\",IF(C16>D20,\"The oil is not coherent\",\"\"))),\"\"))","v":""},null,{"$f":"IF(C16=\"\",\"\",IF(OR(F11=\"Proceed to the Criterion 1\",F10=\"Proceed to the Criterion 1\",F9=\"Proceed to the Criterion 1\"),IF(AND(Calculos!D33>0.11,Calculos!D33<=0.17),IF(E16=\"\",\"\",IF(C16>D16,\"The oil is not coherent\",\"\"))),\"\"))","v":""}]
[null,"DOOL =",{"$f":"IF(C16=\"\",\"\",IF('Experimental Data'!E27=\"\",\"\",IF(AND(Calculos!D33>0.11,Calculos!D33<=0.17),ROUND(Calculos!B58,2),\"\")))","v":""},{"$f":"IF(C18<=0.75,IF(C16=\"\",\"\",IF(AND(Calculos!D33>0.11,Calculos!D33<=0.17),IF(AND(C10<=1.3,C10>1.1),IF(C19<=2.5,ROUND(0.24991+(0.81271*C17)+(0.02254*C17^2)-(0.35645*C17^3),2),\"\"),\"\"),\"\")),IF(C16=\"\",\"\",IF(AND(Calculos!D33>0.11,Calculos!D33<=0.17),IF(AND(C10<=1.3,C10>1.1,C19<=2.5),ROUND(0.4008+(0.35817*C17)-(0.32302*C17^2)-(0.02042*C17^3),2),\"\"),\"\")))","v":""},{"$f":"IF(C18<=0.75,IF(C16=\"\",\"\",IF(AND(Calculos!D33>0.11,Calculos!D33<=0.17),IF(AND(C10<=1.3,C10>1.1),IF(C19<=2.5,ROUND(0.39-(0.5*C17),2),\"\"),\"\"),\"\")),IF(C16=\"\",\"\",IF(AND(Calculos!D33>0.11,Calculos!D33<=0.17),IF(AND(C10<=1.3,C10>1.1,C19<=2.5),ROUND(0.3-(0.435*C17),2),\"\"),\"\")))","v":""},{"$f":"IF(C16=\"\",\"\",IF(OR(F11=\"Proceed to the Criterion 1\",F10=\"Proceed to the Criterion 1\",F9=\"Proceed to the Criterion 1\"),IF(AND(Calculos!D33>0.11,Calculos!D33<=0.17),IF(E20=\"\",\"\",IF(AND(C16<=D20,C16>E20),\"Proceed to the Criterion 2\",\"\"))),\"\"))","v":""},null,{"$f":"IF(C16=\"\",\"\",IF(OR(F11=\"Proceed to the Criterion 1\",F10=\"Proceed to the Criterion 1\",F9=\"Proceed to the Criterion 1\"),IF(AND(Calculos!D33>0.11,Calculos!D33<=0.17),IF(E16=\"\",\"\",IF(AND(C16<=D16,C16>E16),\"Proceed to the Criterion 2\",\"\"))),\"\"))","v":""}]
[null,null,null,{"$f":"IF(C18<=0.75,IF(C16=\"\",\"\",IF(AND(Calculos!D33>0.11,Calculos!D33<=0.17),IF(C10<=1.1,IF(C19>3,ROUND(0.11596+(1.04716*C17)-(0.22799*C17^2)-(0.30408*C17^3),2),\"\"),\"\"),\"\")),IF(C16=\"\",\"\",IF(AND(Calculos!D33>0.11,Calculos!D33<=0.17),IF(AND(C10<=1.1,C19>3),ROUND(0.29754+(0.4915*C17)-(0.31476*C17^2)-(0.02319*C17^3),2),\"\"),\"\")))","v":""},{"$f":"IF(C18<=0.75,IF(C16=\"\",\"\",IF(AND(Calculos!D33>0.11,Calculos!D33<=0.17),IF(C10<=1.1,IF(C19>3,ROUND(-0.3+(0.33333*C17),2),\"\"),\"\"),\"\")),IF(C16=\"\",\"\",IF(AND(Calculos!D33>0.11,Calculos!D33<=0.17),IF(AND(C10<=1.1,C19>3),ROUND(-0.14+(0.1*C17),2),\"\"),\"\")))","v":""},{"$f":"IF(C16=\"\",\"\",IF(OR(F11=\"Proceed to the Criterion 1\",F10=\"Proceed to the Criterion 1\",F9=\"Proceed to the Criterion 1\"),IF(AND(Calculos!D33>0.11,Calculos!D33<=0.17),IF(E20=\"\",\"\",IF(C16<=E20,\"The oil is coherent\",\"\"))),\"\"))","v":""},null,{"$f":"IF(C16=\"\",\"\",IF(OR(F11=\"Proceed to the Criterion 1\",F10=\"Proceed to the Criterion 1\",F9=\"Proceed to the Criterion 1\"),IF(AND(Calculos!D33>0.11,Calculos!D33<=0.17),IF(E16=\"\",\"\",IF(C16<=E16,\"The oil is coherent\",\"\"))),\"\"))","v":""}]
[null,null,null,{"$f":"IF(C18<=0.75,IF(C16=\"\",\"\",IF(AND(Calculos!D33>0.11,Calculos!D33<=0.17),IF(C10<=1.1,IF(AND(C19<=3,C19>2),ROUND(0.40693+(0.61225*C17)+(0.03262*C17^2)-(0.32131*C17^3),2),\"\"),\"\"),\"\")),IF(C16=\"\",\"\",IF(AND(Calculos!D33>0.11,Calculos!D33<=0.17),IF(AND(C10<=1.1,C19<=3,C19>2),ROUND(0.40099+(0.54482*C17)-(0.52648*C17^2)+(0.06116*C17^3),2),\"\"),\"\")))","v":""},{"$f":"IF(C18<=0.75,IF(C16=\"\",\"\",IF(AND(Calculos!D33>0.11,Calculos!D33<=0.17),IF(C10<=1.1,IF(AND(C19<=3,C19>2),ROUND(0.1-(0.2*C17),2),\"\"),\"\"),\"\")),IF(C16=\"\",\"\",IF(AND(Calculos!D33>0.11,Calculos!D33<=0.17),IF(AND(C10<=1.1,C19<=3,C19>2),ROUND(0.18636-(0.18182*C17),2),\"\"),\"\")))","v":""},{"$f":"IF(C16=\"\",\"\",IF(OR(F11=\"Proceed to the Criterion 1\",F10=\"Proceed to the Criterion 1\",F9=\"Proceed to the Criterion 1\"),IF(AND(Calculos!D33>0.11,Calculos!D33<=0.17),IF(E21=\"\",\"\",IF(C16>D21,\"The oil is not coherent\",\"\"))),\"\"))","v":""},null,{"$f":"IF(C16=\"\",\"\",IF(OR(F11=\"Proceed to the Criterion 1\",F10=\"Proceed to the Criterion 1\",F9=\"Proceed to the Criterion 1\"),IF(AND(Calculos!D33>0.11,Calculos!D33<=0.17),IF(E17=\"\",\"\",IF(C16>D17,\"The oil is not coherent\",\"\"))),\"\"))","v":""}]
[null,null,null,{"$f":"IF(C18<=0.75,IF(C16=\"\",\"\",IF(AND(Calculos!D33>0.11,Calculos!D33<=0.17),IF(C10<=1.1,IF(C19<=2,ROUND(0.39738+(1.26806*C17)-(0.85714*C17^2)-(0.24306*C17^3),2),\"\"),\"\"),\"\")),IF(C16=\"\",\"\",IF(AND(Calculos!D33>0.11,Calculos!D33<=0.17),IF(AND(C10<=1.1,C19<=2),ROUND(0.39885+(0.60191*C17)-(0.66135*C17^2)+(0.0964*C17^3),2),\"\"),\"\")))","v":""},{"$f":"IF(C18<=0.75,IF(C16=\"\",\"\",IF(AND(Calculos!D33>0.11,Calculos!D33<=0.17),IF(C10<=1.1,IF(C19<=2,ROUND(0.15-(0.15*C17),2),\"\"),\"\"),\"\")),IF(C16=\"\",\"\",IF(AND(Calculos!D33>0.11,Calculos!D33<=0.17),IF(AND(C10<=1.1,C19<=2),ROUND(0.08-(0.03*C17),2),\"\"),\"\")))","v":""},{"$f":"IF(C16=\"\",\"\",IF(OR(F11=\"Proceed to the Criterion 1\",F10=\"Proceed to the Criterion 1\",F9=\"Proceed to the Criterion 1\"),IF(AND(Calculos!D33>0.11,Calculos!D33<=0.17),IF(E21=\"\",\"\",IF(AND(C16<=D21,C16>E21),\"Proceed to the Criterion 2\",\"\"))),\"\"))","v":""},null,{"$f":"IF(C16=\"\",\"\",IF(OR(F11=\"Proceed to the Criterion 1\",F10=\"Proceed to the Criterion 1\",F9=\"Proceed to the Criterion 1\"),IF(AND(Calculos!D33>0.11,Calculos!D33<=0.17),IF(E17=\"\",\"\",IF(AND(C16<=D17,C16>E17),\"Proceed to the Criterion 2\",\"\"))),\"\"))","v":""}]
[null,null,null,null,null,{"$f":"IF(C16=\"\",\"\",IF(OR(F11=\"Proceed to the Criterion 1\",F10=\"Proceed to the Criterion 1\",F9=\"Proceed to the Criterion 1\"),IF(AND(Calculos!D33>0.11,Calculos!D33<=0.17),IF(E21=\"\",\"\",IF(C16<=E21,\"The oil is coherent\",\"\"))),\"\"))","v":""},null,{"$f":"IF(C16=\"\",\"\",IF(OR(F11=\"Proceed to the Criterion 1\",F10=\"Proceed to the Criterion 1\",F9=\"Proceed to the Criterion 1\"),IF(AND(Calculos!D33>0.11,Calculos!D33<=0.17),IF(E17=\"\",\"\",IF(C16<=E17,\"The oil is coherent\",\"\"))),\"\"))","v":""}]
[null,null,null,null,null,{"$f":"IF(C16=\"\",\"\",IF(OR(F11=\"Proceed to the Criterion 1\",F10=\"Proceed to the Criterion 1\",F9=\"Proceed to the Criterion 1\"),IF(AND(Calculos!D33>0.11,Calculos!D33<=0.17),IF(E22=\"\",\"\",IF(C16>D22,\"The oil is not coherent\",\"\"))),\"\"))","v":""},null,{"$f":"IF(C16=\"\",\"\",IF(OR(F11=\"Proceed to the Criterion 1\",F10=\"Proceed to the Criterion 1\",F9=\"Proceed to the Criterion 1\"),IF(AND(Calculos!D33>0.11,Calculos!D33<=0.17),IF(E18=\"\",\"\",IF(C16>D18,\"The oil is not coherent\",\"\"))),\"\"))","v":""}]
[null,null,null,null,null,{"$f":"IF(C16=\"\",\"\",IF(OR(F11=\"Proceed to the Criterion 1\",F10=\"Proceed to the Criterion 1\",F9=\"Proceed to the Criterion 1\"),IF(AND(Calculos!D33>0.11,Calculos!D33<=0.17),IF(E22=\"\",\"\",IF(AND(C16<=D22,C16>E22),\"Proceed to the Criterion 2\",\"\"))),\"\"))","v":""},null,{"$f":"IF(C16=\"\",\"\",IF(OR(F11=\"Proceed to the Criterion 1\",F10=\"Proceed to the Criterion 1\",F9=\"Proceed to the Criterion 1\"),IF(AND(Calculos!D33>0.11,Calculos!D33<=0.17),IF(E18=\"\",\"\",IF(AND(C16<=D18,C16>E18),\"Proceed to the Criterion 2\",\"\"))),\"\"))","v":""}]
[null,null,null,null,null,{"$f":"IF(C16=\"\",\"\",IF(OR(F11=\"Proceed to the Criterion 1\",F10=\"Proceed to the Criterion 1\",F9=\"Proceed to the Criterion 1\"),IF(AND(Calculos!D33>0.11,Calculos!D33<=0.17),IF(E22=\"\",\"\",IF(C16<=E22,\"The oil is coherent\",\"\"))),\"\"))","v":""},null,{"$f":"IF(C16=\"\",\"\",IF(OR(F11=\"Proceed to the Criterion 1\",F10=\"Proceed to the Criterion 1\",F9=\"Proceed to the Criterion 1\"),IF(AND(Calculos!D33>0.11,Calculos!D33<=0.17),IF(E18=\"\",\"\",IF(C16<=E18,\"The oil is coherent\",\"\"))),\"\"))","v":""}]
[]
[null,"Criterion 2 L3 "]
[null,"Parameter","Value","Higher Limit","Lower Limit",{"$f":"IF(C30=\"\",\"\",IF(OR(F25=\"Proceed to the Criterion 2\",F22=\"Proceed to the Criterion 2\",F19=\"Proceed to the Criterion 2\",F16=\"Proceed to the Criterion 2\",H25=\"Proceed to the Criterion 2\",H22=\"Proceed to the Criterion 2\",H19=\"Proceed to the Criterion 2\"),IF(AND(Calculos!D33>0.11,Calculos!D33<=0.17),IF(E33=\"\",\"\",IF(C30>D33,\"The oil is not coherent\",\"\"))),\"\"))","v":""}]
[null,"L3 =",{"$f":"IF('Experimental Data'!E27=\"\",\"\",IF(AND(Calculos!D33>0.11,Calculos!D33<=0.17),Calculos!J19,\"\"))","v":""},{"$f":"IF(C31<=0.75,IF(C30=\"\",\"\",IF(AND(Calculos!D33>0.11,Calculos!D33<=0.17),IF(C10>1.3,IF(C33>3,ROUND(-0.25728+(1.06972*C32)-(0.47439*C32^2)+(0.04051*C32^3),2),\"\"),\"\"),\"\")),\"\")","v":""},{"$f":"IF(C31<=0.75,IF(C30=\"\",\"\",IF(AND(Calculos!D33>0.11,Calculos!D33<=0.17),IF(C10>1.3,IF(C33>3,0.2,\"\"),\"\"),\"\")),\"\")","v":""},{"$f":"IF(C30=\"\",\"\",IF(OR(F25=\"Proceed to the Criterion 2\",F22=\"Proceed to the Criterion 2\",F19=\"Proceed to the Criterion 2\",F16=\"Proceed to the Criterion 2\",H25=\"Proceed to the Criterion 2\",H22=\"Proceed to the Criterion 2\",H19=\"Proceed to the Criterion 2\"),IF(AND(Calculos!D33>0.11,Calculos!D33<=0.17),IF(E33=\"\",\"\",IF(AND(C30>E33,C30<=D33),\"Proceed to the Criterion 3\",\"\"))),\"\"))","v":""}]
[null,"Ln =",{"$f":"IF('Experimental Data'!E27=\"\",\"\",IF(AND(Calculos!D33>0.11,Calculos!D33<=0.17),Calculos!G7,\"\"))","v":""},{"$f":"IF(C31<=0.75,IF(C30=\"\",\"\",IF(AND(Calculos!D33>0.11,Calculos!D33<=0.17),IF(C10>1.3,IF(C33<=3,ROUND(0.30286+(0.22143*C32)+(0.48512*C32^2)-(0.52083*C32^3),2),\"\"),\"\"),\"\")),IF(C45=\"\",\"\",IF(AND(Calculos!D33>0.11,Calculos!D33<=0.17),IF(C10>1.3,ROUND(0.02712+(0.87725*C32)-(0.53322*C32^2)+(0.08061*C32^3),2),\"\"),\"\")))","v":""},{"$f":"IF(C31<=0.75,IF(C30=\"\",\"\",IF(AND(Calculos!D33>0.11,Calculos!D33<=0.17),IF(C10>1.3,IF(C33<=3,ROUND(0.35-(0.08333*C32),2),\"\"),\"\"),\"\")),IF(C45=\"\",\"\",IF(AND(Calculos!D33>0.11,Calculos!D33<=0.17),IF(C10>1.3,ROUND(0.4-(0.1*C32),2),\"\"),\"\")))","v":""},{"$f":"IF(C30=\"\",\"\",IF(OR(F25=\"Proceed to the Criterion 2\",F22=\"Proceed to the Criterion 2\",F19=\"Proceed to the Criterion 2\",F16=\"Proceed to the Criterion 2\",H25=\"Proceed to the Criterion 2\",H22=\"Proceed to the Criterion 2\",H19=\"Proceed to the Criterion 2\"),IF(AND(Calculos!D33>0.11,Calculos!D33<=0.17),IF(E33=\"\",\"\",IF(C30<=E33,\"The oil is coherent\",\"\"))),\"\"))","v":""}]
[null,"DECN44p",{"$f":"IF(C30=\"\",\"\",IF('Experimental Data'!E27=\"\",\"\",IF(AND(Calculos!D33>0.11,Calculos!D33<=0.17),Calculos!B38,\"\")))","v":""},{"$f":"IF(C31<=0.75,IF(C30=\"\",\"\",IF(AND(Calculos!D33>0.11,Calculos!D33<=0.17),IF(AND(C10<=1.3,C10>1.1),IF(C33>2.5,ROUND(0.41557+(0.50521*C32)-(0.27127*C32^2)-(0.03982*C32^3),2),\"\"),\"\"),\"\")),IF(C45=\"\",\"\",IF(AND(Calculos!D33>0.11,Calculos!D33<=0.17),IF(AND(C10<=1.3,C10>1.1,C33>2.5),ROUND(0.2952+(0.69797*C32)-(0.43735*C32^2)+(0.01433*C32^3),2),\"\"),\"\")))","v":""},{"$f":"IF(C31<=0.75,IF(C30=\"\",\"\",IF(AND(Calculos!D33>0.11,Calculos!D33<=0.17),IF(AND(C10<=1.3,C10>1.1),IF(C33>2.5,ROUND(0.39273-(0.10909*C32),2),\"\"),\"\"),\"\")),IF(C45=\"\",\"\",IF(AND(Calculos!D33>0.11,Calculos!D33<=0.17),IF(AND(C10<=1.3,C10>1.1,C33>2.5),ROUND(0.4275-(0.125*C32),2),\"\"),\"\")))","v":""},{"$f":"IF(C30=\"\",\"\",IF(OR(F25=\"Proceed to the Criterion 2\",F22=\"Proceed to the Criterion 2\",F19=\"Proceed to the Criterion 2\",F16=\"Proceed to the Criterion 2\",H25=\"Proceed to the Criterion 2\",H22=\"Proceed to the Criterion 2\",H19=\"Proceed to the Criterion 2\"),IF(AND(Calculos!D33>0.11,Calculos!D33<=0.17),IF(E34=\"\",\"\",IF(C30>D34,\"The oil is not coherent\",\"\"))),\"\"))","v":""},null,{"$f":"IF(C30=\"\",\"\",IF(OR(F25=\"Proceed to the Criterion 2\",F22=\"Proceed to the Criterion 2\",F19=\"Proceed to the Criterion 2\",F16=\"Proceed to the Criterion 2\",H25=\"Proceed to the Criterion 2\",H22=\"Proceed to the Criterion 2\",H19=\"Proceed to the Criterion 2\"),IF(AND(Calculos!D33>0.11,Calculos!D33<=0.17),IF(E30=\"\",\"\",IF(C30>D30,\"The oil is not coherent\",\"\"))),\"\"))","v":""}]
[null,"DOOL =",{"$f":"IF(C30=\"\",\"\",IF('Experimental Data'!E27=\"\",\"\",IF(AND(Calculos!D33>0.11,Calculos!D33<=0.17),ROUND(Calculos!B58,2),\"\")))","v":""},{"$f":"IF(C31<=0.75,IF(C30=\"\",\"\",IF(AND(Calculos!D33>0.11,Calculos!D33<=0.17),IF(AND(C10<=1.3,C10>1.1),IF(C33<=2.5,ROUND(0.41853+(0.48515*C32)-(0.37005*C32^2)+(0.00413*C32^3),2),\"\"),\"\"),\"\")),IF(C45=\"\",\"\",IF(AND(Calculos!D33>0.11,Calculos!D33<=0.17),IF(AND(C10<=1.3,C10>1.1,C33<=2.5),ROUND(0.44775+(0.29166*C32)-(0.10023*C32^2)-(0.07406*C32^3),2),\"\"),\"\")))","v":""},{"$f":"IF(C31<=0.75,IF(C30=\"\",\"\",IF(AND(Calculos!D33>0.11,Calculos!D33<=0.17),IF(AND(C10<=1.3,C10>1.1),IF(C33<=2.5,0.3,\"\"),\"\"),\"\")),IF(C45=\"\",\"\",IF(AND(Calculos!D33>0.11,Calculos!D33<=0.17),IF(AND(C10<=1.3,C10>1.1,C33<=2.5),ROUND(0.35-(0.167*C32),2),\"\"),\"\")))","v":""},{"$f":"IF(C30=\"\",\"\",IF(OR(F25=\"Proceed to the Criterion 2\",F22=\"Proceed to the Criterion 2\",F19=\"Proceed to the Criterion 2\",F16=\"Proceed to the Criterion 2\",H25=\"Proceed to the Criterion 2\",H22=\"Proceed to the Criterion 2\",H19=\"Proceed to the Criterion 2\"),IF(AND(Calculos!D33>0.11,Calculos!D33<=0.17),IF(E34=\"\",\"\",IF(AND(C30>E34,C30<=D34),\"Proceed to the Criterion 3\",\"\"))),\"\"))","v":""},null,{"$f":"IF(C30=\"\",\"\",IF(OR(F25=\"Proceed to the Criterion 2\",F22=\"Proceed to the Criterion 2\",F19=\"Proceed to the Criterion 2\",F16=\"Proceed to the Criterion 2\",H25=\"Proceed to the Criterion 2\",H22=\"Proceed to the Criterion 2\",H19=\"Proceed to the Criterion 2\"),IF(AND(Calculos!D33>0.11,Calculos!D33<=0.17),IF(E30=\"\",\"\",IF(AND(C30>E30,C30<=D30),\"Proceed to the Criterion 3\",\"\"))),\"\"))","v":""}]
[null,null,null,{"$f":"IF(C31<=0.75,IF(C30=\"\",\"\",IF(AND(Calculos!D33>0.11,Calculos!D33<=0.17),IF(C10<=1.1,IF(C33>3,ROUND(0.41557+(0.50521*C32)-(0.27127*C32^2)-(0.03982*C32^3),2),\"\"),\"\"),\"\")),\"\")","v":""},{"$f":"IF(C31<=0.75,IF(C30=\"\",\"\",IF(AND(Calculos!D33>0.11,Calculos!D33<=0.17),IF(C10<=1.1,IF(C33>3,ROUND(0.34909+(0.03636*C32),2),\"\"),\"\"),\"\")),\"\")","v":""},{"$f":"IF(C30=\"\",\"\",IF(OR(F25=\"Proceed to the Criterion 2\",F22=\"Proceed to the Criterion 2\",F19=\"Proceed to the Criterion 2\",F16=\"Proceed to the Criterion 2\",H25=\"Proceed to the Criterion 2\",H22=\"Proceed to the Criterion 2\",H19=\"Proceed to the Criterion 2\"),IF(AND(Calculos!D33>0.11,Calculos!D33<=0.17),IF(E34=\"\",\"\",IF(C30<=E34,\"The oil is coherent\",\"\"))),\"\"))","v":""},null,{"$f":"IF(C30=\"\",\"\",IF(OR(F25=\"Proceed to the Criterion 2\",F22=\"Proceed to the Criterion 2\",F19=\"Proceed to the Criterion 2\",F16=\"Proceed to the Criterion 2\",H25=\"Proceed to the Criterion 2\",H22=\"Proceed to the Criterion 2\",H19=\"Proceed to the Criterion 2\"),IF(AND(Calculos!D33>0.11,Calculos!D33<=0.17),IF(E30=\"\",\"\",IF(C30<=E30,\"The oil is coherent\",\"\"))),\"\"))","v":""}]
[null,null,null,{"$f":"IF(C31<=0.75,IF(C30=\"\",\"\",IF(AND(Calculos!D33>0.11,Calculos!D33<=0.17),IF(C10<=1.1,IF(AND(C33<=3,C33>2),ROUND(0.41557+(0.50521*C32)-(0.27127*C32^2)-(0.03982*C32^3),2),\"\"),\"\"),\"\")),IF(C45=\"\",\"\",IF(AND(Calculos!D33>0.11,Calculos!D33<=0.17),IF(AND(C10<=1.1,C33>2),ROUND(0.44775+(0.29166*C32)-(0.10023*C32^2)-(0.07406*C32^3),2),\"\"),\"\")))","v":""},{"$f":"IF(C31<=0.75,IF(C30=\"\",\"\",IF(AND(Calculos!D33>0.11,Calculos!D33<=0.17),IF(C10<=1.1,IF(AND(C33<=3,C33>2),0.35,\"\"),\"\"),\"\")),IF(C45=\"\",\"\",IF(AND(Calculos!D33>0.11,Calculos!D33<=0.17),IF(AND(C10<=1.1,C33>2),ROUND(0.4-(0.08333*C32),2),\"\"),\"\")))","v":""},{"$f":"IF(C30=\"\",\"\",IF(OR(F25=\"Proceed to the Criterion 2\",F22=\"Proceed to the Criterion 2\",F19=\"Proceed to the Criterion 2\",F16=\"Proceed to the Criterion 2\",H25=\"Proceed to the Criterion 2\",H22=\"Proceed to the Criterion 2\",H19=\"Proceed to the Criterion 2\"),IF(AND(Calculos!D33>0.11,Calculos!D33<=0.17),IF(E35=\"\",\"\",IF(C30>D35,\"The oil is not coherent\",\"\"))),\"\"))","v":""},null,{"$f":"IF(C30=\"\",\"\",IF(OR(F25=\"Proceed to the Criterion 2\",F22=\"Proceed to the Criterion 2\",F19=\"Proceed to the Criterion 2\",F16=\"Proceed to the Criterion 2\",H25=\"Proceed to the Criterion 2\",H22=\"Proceed to the Criterion 2\",H19=\"Proceed to the Criterion 2\"),IF(AND(Calculos!D33>0.11,Calculos!D33<=0.17),IF(E31=\"\",\"\",IF(C30>D31,\"The oil is not coherent\",\"\"))),\"\"))","v":""}]
[null,null,null,{"$f":"IF(C31<=0.75,IF(C30=\"\",\"\",IF(AND(Calculos!D33>0.11,Calculos!D33<=0.17),IF(C10<=1.1,IF(C33<=2,ROUND(0.37818+(0.59217*C32)-(0.32292*C32^2)-(0.008365*C32^3),2),\"\"),\"\"),\"\")),IF(C45=\"\",\"\",IF(AND(Calculos!D33>0.11,Calculos!D33<=0.17),IF(AND(C10<=1.1,C33<=2),ROUND(0.44924+(0.28671*C32)-(0.09632*C32^2)-(0.15467*C32^3),2),\"\"),\"\")))","v":""},{"$f":"IF(C31<=0.75,IF(C30=\"\",\"\",IF(AND(Calculos!D33>0.11,Calculos!D33<=0.17),IF(C10<=1.1,IF(C33<=2,0.25,\"\"),\"\"),\"\")),IF(C45=\"\",\"\",IF(AND(Calculos!D33>0.11,Calculos!D33<=0.17),IF(AND(C10<=1.1,C33<=2),ROUND(0.3-(0.167*C32),2),\"\"),\"\")))","v":""},{"$f":"IF(C30=\"\",\"\",IF(OR(F25=\"Proceed to the Criterion 2\",F22=\"Proceed to the Criterion 2\",F19=\"Proceed to the Criterion 2\",F16=\"Proceed to the Criterion 2\",H25=\"Proceed to the Criterion 2\",H22=\"Proceed to the Criterion 2\",H19=\"Proceed to the Criterion 2\"),IF(AND(Calculos!D33>0.11,Calculos!D33<=0.17),IF(E35=\"\",\"\",IF(AND(C30>E35,C30<=D35),\"Proceed to the Criterion 3\",\"\"))),\"\"))","v":""},null,{"$f":"IF(C30=\"\",\"\",IF(OR(F25=\"Proceed to the Criterion 2\",F22=\"Proceed to the Criterion 2\",F19=\"Proceed to the Criterion 2\",F16=\"Proceed to the Criterion 2\",H25=\"Proceed to the Criterion 2\",H22=\"Proceed to the Criterion 2\",H19=\"Proceed to the Criterion 2\"),IF(AND(Calculos!D33>0.11,Calculos!D33<=0.17),IF(E31=\"\",\"\",IF(AND(C30>E31,C30<=D31),\"Proceed to the Criterion 3\",\"\"))),\"\"))","v":""}]
[null,null,null,null,null,{"$f":"IF(C30=\"\",\"\",IF(OR(F25=\"Proceed to the Criterion 2\",F22=\"Proceed to the Criterion 2\",F19=\"Proceed to the Criterion 2\",F16=\"Proceed to the Criterion 2\",H25=\"Proceed to the Criterion 2\",H22=\"Proceed to the Criterion 2\",H19=\"Proceed to the Criterion 2\"),IF(AND(Calculos!D33>0.11,Calculos!D33<=0.17),IF(E35=\"\",\"\",IF(C30<=E35,\"The oil is coherent\",\"\"))),\"\"))","v":""},null,{"$f":"IF(C30=\"\",\"\",IF(OR(F25=\"Proceed to the Criterion 2\",F22=\"Proceed to the Criterion 2\",F19=\"Proceed to the Criterion 2\",F16=\"Proceed to the Criterion 2\",H25=\"Proceed to the Criterion 2\",H22=\"Proceed to the Criterion 2\",H19=\"Proceed to the Criterion 2\"),IF(AND(Calculos!D33>0.11,Calculos!D33<=0.17),IF(E31=\"\",\"\",IF(C30<=E31,\"The oil is coherent\",\"\"))),\"\"))","v":""}]
[null,null,null,null,null,{"$f":"IF(C30=\"\",\"\",IF(OR(F25=\"Proceed to the Criterion 2\",F22=\"Proceed to the Criterion 2\",F19=\"Proceed to the Criterion 2\",F16=\"Proceed to the Criterion 2\",H25=\"Proceed to the Criterion 2\",H22=\"Proceed to the Criterion 2\",H19=\"Proceed to the Criterion 2\"),IF(AND(Calculos!D33>0.11,Calculos!D33<=0.17),IF(E36=\"\",\"\",IF(C30>D36,\"The oil is not coherent\",\"\"))),\"\"))","v":""},null,{"$f":"IF(C30=\"\",\"\",IF(OR(F25=\"Proceed to the Criterion 2\",F22=\"Proceed to the Criterion 2\",F19=\"Proceed to the Criterion 2\",F16=\"Proceed to the Criterion 2\",H25=\"Proceed to the Criterion 2\",H22=\"Proceed to the Criterion 2\",H19=\"Proceed to the Criterion 2\"),IF(AND(Calculos!D33>0.11,Calculos!D33<=0.17),IF(E32=\"\",\"\",IF(C30>D32,\"The oil is not coherent\",\"\"))),\"\"))","v":""}]
[null,null,null,null,null,{"$f":"IF(C30=\"\",\"\",IF(OR(F25=\"Proceed to the Criterion 2\",F22=\"Proceed to the Criterion 2\",F19=\"Proceed to the Criterion 2\",F16=\"Proceed to the Criterion 2\",H25=\"Proceed to the Criterion 2\",H22=\"Proceed to the Criterion 2\",H19=\"Proceed to the Criterion 2\"),IF(AND(Calculos!D33>0.11,Calculos!D33<=0.17),IF(E36=\"\",\"\",IF(AND(C30>E36,C30<=D36),\"Proceed to the Criterion 3\",\"\"))),\"\"))","v":""},null,{"$f":"IF(C30=\"\",\"\",IF(OR(F25=\"Proceed to the Criterion 2\",F22=\"Proceed to the Criterion 2\",F19=\"Proceed to the Criterion 2\",F16=\"Proceed to the Criterion 2\",H25=\"Proceed to the Criterion 2\",H22=\"Proceed to the Criterion 2\",H19=\"Proceed to the Criterion 2\"),IF(AND(Calculos!D33>0.11,Calculos!D33<=0.17),IF(E32=\"\",\"\",IF(AND(C30>E32,C30<=D32),\"Proceed to the Criterion 3\",\"\"))),\"\"))","v":""}]
[null,null,null,null,null,{"$f":"IF(C30=\"\",\"\",IF(OR(F25=\"Proceed to the Criterion 2\",F22=\"Proceed to the Criterion 2\",F19=\"Proceed to the Criterion 2\",F16=\"Proceed to the Criterion 2\",H25=\"Proceed to the Criterion 2\",H22=\"Proceed to the Criterion 2\",H19=\"Proceed to the Criterion 2\"),IF(AND(Calculos!D33>0.11,Calculos!D33<=0.17),IF(E36=\"\",\"\",IF(C30<=E36,\"The oil is coherent\",\"\"))),\"\"))","v":""},null,{"$f":"IF(C30=\"\",\"\",IF(OR(F25=\"Proceed to the Criterion 2\",F22=\"Proceed to the Criterion 2\",F19=\"Proceed to the Criterion 2\",F16=\"Proceed to the Criterion 2\",H25=\"Proceed to the Criterion 2\",H22=\"Proceed to the Criterion 2\",H19=\"Proceed to the Criterion 2\"),IF(AND(Calculos!D33>0.11,Calculos!D33<=0.17),IF(E32=\"\",\"\",IF(C30<=E32,\"The oil is coherent\",\"\"))),\"\"))","v":""}]
[]
[]
[null,"Criterion 3 R1 exp."]
[null,"Parameter","Value","Higher Limit","Lower Limit",{"$f":"IF(C45=\"\",\"\",IF(OR(F39=\"Proceed to the Criterion 3\",F36=\"Proceed to the Criterion 3\",F33=\"Proceed to the Criterion 3\",F30=\"Proceed to the Criterion 3\",H39=\"Proceed to the Criterion 3\",H36=\"Proceed to the Criterion 3\",H33=\"Proceed to the Criterion 3\"),IF(AND(Calculos!D33>0.11,Calculos!D33<=0.17),IF(E48=\"\",\"\",IF(C45>D48,\"The oil is not coherent\",\"\")),\"\"),\"\"))","v":""}]
[null,"R1 exp =",{"$f":"IF('Experimental Data'!E27=\"\",\"\",IF(AND(Calculos!D33>0.11,Calculos!D33<=0.17),ROUND(Calculos!B19,2),\"\"))","v":""},{"$f":"IF(C48<=0.75,IF(C45=\"\",\"\",IF(AND(Calculos!D33>0.11,Calculos!D33<=0.17),IF(C10>1.3,IF(C46>3,0.75,\"\"),\"\"),\"\")),\"\")","v":""},{"$f":"IF(C48<=0.75,IF(C45=\"\",\"\",IF(AND(Calculos!D33>0.11,Calculos!D33<=0.17),IF(C10>1.3,IF(C46>3,0.65,\"\"),\"\"),\"\")),\"\")","v":""},{"$f":"IF(C45=\"\",\"\",IF(OR(F39=\"Proceed to the Criterion 3\",F36=\"Proceed to the Criterion 3\",F33=\"Proceed to the Criterion 3\",F30=\"Proceed to the Criterion 3\",H39=\"Proceed to the Criterion 3\",H36=\"Proceed to the Criterion 3\",H33=\"Proceed to the Criterion 3\"),IF(AND(Calculos!D33>0.11,Calculos!D33<=0.17),IF(E48=\"\",\"\",IF(AND(C45<=D48,C45>E48),\"Proceed to the Criterion 4\",\"\")),\"\"),\"\"))","v":""}]
[null,"DOOL =",{"$f":"IF(C45=\"\",\"\",IF('Experimental Data'!E27=\"\",\"\",IF(AND(Calculos!D33>0.11,Calculos!D33<=0.17),ROUND(Calculos!B58,2),\"\")))","v":""},{"$f":"IF(C48<=0.75,IF(C45=\"\",\"\",IF(AND(Calculos!D33>0.11,Calculos!D33<=0.17),IF(C10>1.3,IF(C46<=3,ROUND(0.36415+(1.54671*C47)-(1.37462*C47^2)+(0.25737*C47^3),2),\"\"),\"\"),\"\")),IF(C45=\"\",\"\",IF(AND(Calculos!D33>0.11,Calculos!D33<=0.17),IF(C10>1.3,0.75,\"\"),\"\")))","v":""},{"$f":"IF(C48<=0.75,IF(C45=\"\",\"\",IF(AND(Calculos!D33>0.11,Calculos!D33<=0.17),IF(C10>1.3,IF(C46<=3,0.7,\"\"),\"\"),\"\")),IF(C45=\"\",\"\",IF(AND(Calculos!D33>0.11,Calculos!D33<=0.17),IF(C10>1.3,0.6,\"\"),\"\")))","v":""},{"$f":"IF(C45=\"\",\"\",IF(OR(F39=\"Proceed to the Criterion 3\",F36=\"Proceed to the Criterion 3\",F33=\"Proceed to the Criterion 3\",F30=\"Proceed to the Criterion 3\",H39=\"Proceed to the Criterion 3\",H36=\"Proceed to the Criterion 3\",H33=\"Proceed to the Criterion 3\"),IF(AND(Calculos!D33>0.11,Calculos!D33<=0.17),IF(E48=\"\",\"\",IF(C45<=E48,\"The oil is coherent\",\"\")),\"\"),\"\"))","v":""}]
[null,"DECN44p",{"$f":"IF(C45=\"\",\"\",IF('Experimental Data'!E27=\"\",\"\",IF(AND(Calculos!D33>0.11,Calculos!D33<=0.17),Calculos!B38,\"\")))","v":""},{"$f":"IF(C48<=0.75,IF(C45=\"\",\"\",IF(AND(Calculos!D33>0.11,Calculos!D33<=0.17),IF(AND(C10<=1.3,C10>1.1),IF(C46>2.5,ROUND(0.66399+(0.58597*C47)-(0.17029*C47^2)-(0.1252*C47^3),2),\"\"),\"\"),\"\")),IF(C45=\"\",\"\",IF(AND(Calculos!D33>0.11,Calculos!D33<=0.17),IF(AND(C10<=1.3,C10>1.1,C46>2.5),ROUND(0.60065+(0.46659*C47)-(0.15026*C47^2)-(0.06097*C47^3),2),\"\"),\"\")))","v":""},{"$f":"IF(C48<=0.75,IF(C45=\"\",\"\",IF(AND(Calculos!D33>0.11,Calculos!D33<=0.17),IF(AND(C10<=1.3,C10>1.1),IF(C46>2.5,ROUND(0.70222-(0.11111*C47),2),\"\"),\"\"),\"\")),IF(C45=\"\",\"\",IF(AND(Calculos!D33>0.11,Calculos!D33<=0.17),IF(AND(C10<=1.3,C10>1.1,C46>2.5),ROUND(0.6625-(0.075*C47),2),\"\"),\"\")))","v":""},{"$f":"IF(C45=\"\",\"\",IF(OR(F39=\"Proceed to the Criterion 3\",F36=\"Proceed to the Criterion 3\",F33=\"Proceed to the Criterion 3\",F30=\"Proceed to the Criterion 3\",H39=\"Proceed to the Criterion 3\",H36=\"Proceed to the Criterion 3\",H33=\"Proceed to the Criterion 3\"),IF(AND(Calculos!D33>0.11,Calculos!D33<=0.17),IF(E49=\"\",\"\",IF(C45>D49,\"The oil is not coherent\",\"\")),\"\"),\"\"))","v":""},null,{"$f":"IF(C45=\"\",\"\",IF(OR(F39=\"Proceed to the Criterion 3\",F36=\"Proceed to the Criterion 3\",F33=\"Proceed to the Criterion 3\",F30=\"Proceed to the Criterion 3\",H39=\"Proceed to the Criterion 3\",H36=\"Proceed to the Criterion 3\",H33=\"Proceed to the Criterion 3\"),IF(AND(Calculos!D33>0.11,Calculos!D33<=0.17),IF(E45=\"\",\"\",IF(C45>D45,\"The oil is not coherent\",\"\")),\"\"),\"\"))","v":""}]
[null,"Ln =",{"$f":"IF('Experimental Data'!E27=\"\",\"\",IF(AND(Calculos!D33>0.11,Calculos!D33<=0.17),Calculos!G7,\"\"))","v":""},{"$f":"IF(C48<=0.75,IF(C45=\"\",\"\",IF(AND(Calculos!D33>0.11,Calculos!D33<=0.17),IF(AND(C10<=1.3,C10>1.1),IF(C46<=2.5,ROUND(0.66263+(0.60294*C47)-(0.1824*C47^2)-(0.14625*C47^3),2),\"\"),\"\"),\"\")),IF(C45=\"\",\"\",IF(AND(Calculos!D33>0.11,Calculos!D33<=0.17),IF(AND(C10<=1.3,C10>1.1,C46<=2.5),ROUND(0.69895+(0.31575*C47)-(0.0904*C47^2)-(0.06406*C47^3),2),\"\"),\"\")))","v":""},{"$f":"IF(C48<=0.75,IF(C45=\"\",\"\",IF(AND(Calculos!D33>0.11,Calculos!D33<=0.17),IF(AND(C10<=1.3,C10>1.1),IF(C46<=2.5,0.65,\"\"),\"\"),\"\")),IF(C45=\"\",\"\",IF(AND(Calculos!D33>0.11,Calculos!D33<=0.17),IF(AND(C10<=1.3,C10>1.1,C46<=2.5),ROUND(0.65-(0.25*C47),2),\"\"),\"\")))","v":""},{"$f":"IF(C45=\"\",\"\",IF(OR(F39=\"Proceed to the Criterion 3\",F36=\"Proceed to the Criterion 3\",F33=\"Proceed to the Criterion 3\",F30=\"Proceed to the Criterion 3\",H39=\"Proceed to the Criterion 3\",H36=\"Proceed to the Criterion 3\",H33=\"Proceed to the Criterion 3\"),IF(AND(Calculos!D33>0.11,Calculos!D33<=0.17),IF(E49=\"\",\"\",IF(AND(C45<=D49,C45>E49),\"Proceed to the Criterion 4\",\"\")),\"\"),\"\"))","v":""},null,{"$f":"IF(C45=\"\",\"\",IF(OR(F39=\"Proceed to the Criterion 3\",F36=\"Proceed to the Criterion 3\",F33=\"Proceed to the Criterion 3\",F30=\"Proceed to the Criterion 3\",H39=\"Proceed to the Criterion 3\",H36=\"Proceed to the Criterion 3\",H33=\"Proceed to the Criterion 3\"),IF(AND(Calculos!D33>0.11,Calculos!D33<=0.17),IF(E45=\"\",\"\",IF(AND(C45<=D45,C45>E45),\"Proceed to the Criterion 4\",\"\")),\"\"),\"\"))","v":""}]
[null,null,null,{"$f":"IF(C48<=0.75,\"\",IF(C45=\"\",\"\",IF(AND(Calculos!D33>0.11,Calculos!D33<=0.17),IF(AND(C10<=1.1,C46>3),ROUND(0.60065+(0.46659*C47)-(0.15026*C47^2)-(0.06097*C47^3),2),\"\"),\"\")))","v":""},{"$f":"IF(C48<=0.75,\"\",IF(C45=\"\",\"\",IF(AND(Calculos!D33>0.11,Calculos!D33<=0.17),IF(AND(C10<=1.1,C46>3),ROUND(0.65714-(0.05714*C47),2),\"\"),\"\")))","v":""},{"$f":"IF(C45=\"\",\"\",IF(OR(F39=\"Proceed to the Criterion 3\",F36=\"Proceed to the Criterion 3\",F33=\"Proceed to the Criterion 3\",F30=\"Proceed to the Criterion 3\",H39=\"Proceed to the Criterion 3\",H36=\"Proceed to the Criterion 3\",H33=\"Proceed to the Criterion 3\"),IF(AND(Calculos!D33>0.11,Calculos!D33<=0.17),IF(E49=\"\",\"\",IF(C45<=E49,\"The oil is coherent\",\"\")),\"\"),\"\"))","v":""},null,{"$f":"IF(C45=\"\",\"\",IF(OR(F39=\"Proceed to the Criterion 3\",F36=\"Proceed to the Criterion 3\",F33=\"Proceed to the Criterion 3\",F30=\"Proceed to the Criterion 3\",H39=\"Proceed to the Criterion 3\",H36=\"Proceed to the Criterion 3\",H33=\"Proceed to the Criterion 3\"),IF(AND(Calculos!D33>0.11,Calculos!D33<=0.17),IF(E45=\"\",\"\",IF(C45<=E45,\"The oil is coherent\",\"\")),\"\"),\"\"))","v":""}]
[null,null,null,{"$f":"IF(C48<=0.75,IF(C45=\"\",\"\",IF(AND(Calculos!D33>0.11,Calculos!D33<=0.17),IF(C10<=1.1,IF(C46>2,ROUND(0.66399+(0.58597*C47)-(0.17029*C47^2)-(0.1252*C47^3),2),\"\"),\"\"),\"\")),IF(C45=\"\",\"\",IF(AND(Calculos!D33>0.11,Calculos!D33<=0.17),IF(AND(C10<=1.1,C46<=3,C46>2),ROUND(0.6556+(0.40289*C47)-(0.14922*C47^2)-(0.05077*C47^3),2),\"\"),\"\")))","v":""},{"$f":"IF(C48<=0.75,IF(C45=\"\",\"\",IF(AND(Calculos!D33>0.11,Calculos!D33<=0.17),IF(C10<=1.1,IF(C46>2,0.65,\"\"),\"\"),\"\")),IF(C45=\"\",\"\",IF(AND(Calculos!D33>0.11,Calculos!D33<=0.17),IF(AND(C10<=1.1,C46<=3,C46>2),0.55,\"\"),\"\")))","v":""},{"$f":"IF(C45=\"\",\"\",IF(OR(F39=\"Proceed to the Criterion 3\",F36=\"Proceed to the Criterion 3\",F33=\"Proceed to the Criterion 3\",F30=\"Proceed to the Criterion 3\",H39=\"Proceed to the Criterion 3\",H36=\"Proceed to the Criterion 3\",H33=\"Proceed to the Criterion 3\"),IF(AND(Calculos!D33>0.11,Calculos!D33<=0.17),IF(E50=\"\",\"\",IF(C45>D50,\"The oil is not coherent\",\"\")),\"\"),\"\"))","v":""},null,{"$f":"IF(C45=\"\",\"\",IF(OR(F39=\"Proceed to the Criterion 3\",F36=\"Proceed to the Criterion 3\",F33=\"Proceed to the Criterion 3\",F30=\"Proceed to the Criterion 3\",H39=\"Proceed to the Criterion 3\",H36=\"Proceed to the Criterion 3\",H33=\"Proceed to the Criterion 3\"),IF(AND(Calculos!D33>0.11,Calculos!D33<=0.17),IF(E46=\"\",\"\",IF(C45>D46,\"The oil is not coherent\",\"\")),\"\"),\"\"))","v":""}]
[null,null,null,{"$f":"IF(C48<=0.75,IF(C45=\"\",\"\",IF(AND(Calculos!D33>0.11,Calculos!D33<=0.17),IF(C10<=1.1,IF(C46<=2,ROUND(0.74962+(0.43702*C47)-(0.19328*C47^2)-(0.12607*C47^3),2),\"\"),\"\"),\"\")),IF(C45=\"\",\"\",IF(AND(Calculos!D33>0.11,Calculos!D33<=0.17),IF(AND(C10<=1.1,C46<=2),ROUND(0.69758+(0.6504*C47)-(0.69453*C47^2)+(0.05366*C47^3),2),\"\"),\"\")))","v":""},{"$f":"IF(C48<=0.75,IF(C45=\"\",\"\",IF(AND(Calculos!D33>0.11,Calculos!D33<=0.17),IF(C10<=1.1,IF(C46<=2,0.6,\"\"),\"\"),\"\")),IF(C45=\"\",\"\",IF(AND(Calculos!D33>0.11,Calculos!D33<=0.17),IF(AND(C10<=1.1,C46<=2),ROUND(0.6-(0.15*C47),2),\"\"),\"\")))","v":""},{"$f":"IF(C45=\"\",\"\",IF(OR(F39=\"Proceed to the Criterion 3\",F36=\"Proceed to the Criterion 3\",F33=\"Proceed to the Criterion 3\",F30=\"Proceed to the Criterion 3\",H39=\"Proceed to the Criterion 3\",H36=\"Proceed to the Criterion 3\",H33=\"Proceed to the Criterion 3\"),IF(AND(Calculos!D33>0.11,Calculos!D33<=0.17),IF(E50=\"\",\"\",IF(AND(C45<=D50,C45>E50),\"Proceed to the Criterion 4\",\"\")),\"\"),\"\"))","v":""},null,{"$f":"IF(C45=\"\",\"\",IF(OR(F39=\"Proceed to the Criterion 3\",F36=\"Proceed to the Criterion 3\",F33=\"Proceed to the Criterion 3\",F30=\"Proceed to the Criterion 3\",H39=\"Proceed to the Criterion 3\",H36=\"Proceed to the Criterion 3\",H33=\"Proceed to the Criterion 3\"),IF(AND(Calculos!D33>0.11,Calculos!D33<=0.17),IF(E46=\"\",\"\",IF(AND(C45<=D46,C45>E46),\"Proceed to the Criterion 4\",\"\")),\"\"),\"\"))","v":""}]
[null,null,null,null,null,{"$f":"IF(C45=\"\",\"\",IF(OR(F39=\"Proceed to the Criterion 3\",F36=\"Proceed to the Criterion 3\",F33=\"Proceed to the Criterion 3\",F30=\"Proceed to the Criterion 3\",H39=\"Proceed to the Criterion 3\",H36=\"Proceed to the Criterion 3\",H33=\"Proceed to the Criterion 3\"),IF(AND(Calculos!D33>0.11,Calculos!D33<=0.17),IF(E50=\"\",\"\",IF(C45<=E50,\"The oil is coherent\",\"\")),\"\"),\"\"))","v":""},null,{"$f":"IF(C45=\"\",\"\",IF(OR(F39=\"Proceed to the Criterion 3\",F36=\"Proceed to the Criterion 3\",F33=\"Proceed to the Criterion 3\",F30=\"Proceed to the Criterion 3\",H39=\"Proceed to the Criterion 3\",H36=\"Proceed to the Criterion 3\",H33=\"Proceed to the Criterion 3\"),IF(AND(Calculos!D33>0.11,Calculos!D33<=0.17),IF(E46=\"\",\"\",IF(C45<=E46,\"The oil is coherent\",\"\")),\"\"),\"\"))","v":""}]
[null,null,null,null,null,{"$f":"IF(C45=\"\",\"\",IF(OR(F39=\"Proceed to the Criterion 3\",F36=\"Proceed to the Criterion 3\",F33=\"Proceed to the Criterion 3\",F30=\"Proceed to the Criterion 3\",H39=\"Proceed to the Criterion 3\",H36=\"Proceed to the Criterion 3\",H33=\"Proceed to the Criterion 3\"),IF(AND(Calculos!D33>0.11,Calculos!D33<=0.17),IF(E51=\"\",\"\",IF(C45>D51,\"The oil is not coherent\",\"\")),\"\"),\"\"))","v":""},null,{"$f":"IF(C45=\"\",\"\",IF(OR(F39=\"Proceed to the Criterion 3\",F36=\"Proceed to the Criterion 3\",F33=\"Proceed to the Criterion 3\",F30=\"Proceed to the Criterion 3\",H39=\"Proceed to the Criterion 3\",H36=\"Proceed to the Criterion 3\",H33=\"Proceed to the Criterion 3\"),IF(AND(Calculos!D33>0.11,Calculos!D33<=0.17),IF(E47=\"\",\"\",IF(C45>D47,\"The oil is not coherent\",\"\")),\"\"),\"\"))","v":""}]
[null,null,null,null,null,{"$f":"IF(C45=\"\",\"\",IF(OR(F39=\"Proceed to the Criterion 3\",F36=\"Proceed to the Criterion 3\",F33=\"Proceed to the Criterion 3\",F30=\"Proceed to the Criterion 3\",H39=\"Proceed to the Criterion 3\",H36=\"Proceed to the Criterion 3\",H33=\"Proceed to the Criterion 3\"),IF(AND(Calculos!D33>0.11,Calculos!D33<=0.17),IF(E51=\"\",\"\",IF(AND(C45<=D51,C45>E51),\"Proceed to the Criterion 4\",\"\")),\"\"),\"\"))","v":""},null,{"$f":"IF(C45=\"\",\"\",IF(OR(F39=\"Proceed to the Criterion 3\",F36=\"Proceed to the Criterion 3\",F33=\"Proceed to the Criterion 3\",F30=\"Proceed to the Criterion 3\",H39=\"Proceed to the Criterion 3\",H36=\"Proceed to the Criterion 3\",H33=\"Proceed to the Criterion 3\"),IF(AND(Calculos!D33>0.11,Calculos!D33<=0.17),IF(E47=\"\",\"\",IF(AND(C45<=D47,C45>E47),\"Proceed to the Criterion 4\",\"\")),\"\"),\"\"))","v":""}]
[null,null,null,null,null,{"$f":"IF(C45=\"\",\"\",IF(OR(F39=\"Proceed to the Criterion 3\",F36=\"Proceed to the Criterion 3\",F33=\"Proceed to the Criterion 3\",F30=\"Proceed to the Criterion 3\",H39=\"Proceed to the Criterion 3\",H36=\"Proceed to the Criterion 3\",H33=\"Proceed to the Criterion 3\"),IF(AND(Calculos!D33>0.11,Calculos!D33<=0.17),IF(E51=\"\",\"\",IF(C45<=E51,\"The oil is coherent\",\"\")),\"\"),\"\"))","v":""},null,{"$f":"IF(C45=\"\",\"\",IF(OR(F39=\"Proceed to the Criterion 3\",F36=\"Proceed to the Criterion 3\",F33=\"Proceed to the Criterion 3\",F30=\"Proceed to the Criterion 3\",H39=\"Proceed to the Criterion 3\",H36=\"Proceed to the Criterion 3\",H33=\"Proceed to the Criterion 3\"),IF(AND(Calculos!D33>0.11,Calculos!D33<=0.17),IF(E47=\"\",\"\",IF(C45<=E47,\"The oil is coherent\",\"\")),\"\"),\"\"))","v":""}]
[]
[null,"Criterion 4 DR1"]
[null,"Parameter","Value","Higher Limit","Lower Limit",{"$f":"IF(C59=\"\",\"\",IF(OR(F54=\"Proceed to the Criterion 4\",F51=\"Proceed to the Criterion 4\",F48=\"Proceed to the Criterion 4\",F45=\"Proceed to the Criterion 4\",H54=\"Proceed to the Criterion 4\",H51=\"Proceed to the Criterion 4\",H48=\"Proceed to the Criterion 4\"),IF(AND(Calculos!D33>0.11,Calculos!D33<=0.17),IF(E62=\"\",\"\",IF(C59>D62,\"The oil is not coherent\",\"\"))),\"\"))","v":""}]
[null,"DR1 =",{"$f":"IF('Experimental Data'!E27=\"\",\"\",IF(AND(Calculos!D33>0.11,Calculos!D33<=0.17),Calculos!B20,\"\"))","v":""},{"$f":"IF(C62<=0.75,IF(C59=\"\",\"\",IF(AND(Calculos!D33>0.11,Calculos!D33<=0.17),IF(C10>1.3,IF(C60>3,ROUND(-0.26648+(1.05514*C61)-(0.4199*C61^2)+(0.0322*C61^3),2),\"\"),\"\"),\"\")),\"\")","v":""},{"$f":"IF(C62<=0.75,IF(C59=\"\",\"\",IF(AND(Calculos!D33>0.11,Calculos!D33<=0.17),IF(C10>1.3,IF(C60>3,0.32,\"\"),\"\"),\"\")),\"\")","v":""},{"$f":"IF(C59=\"\",\"\",IF(OR(F54=\"Proceed to the Criterion 4\",F51=\"Proceed to the Criterion 4\",F48=\"Proceed to the Criterion 4\",F45=\"Proceed to the Criterion 4\",H54=\"Proceed to the Criterion 4\",H51=\"Proceed to the Criterion 4\",H48=\"Proceed to the Criterion 4\"),IF(AND(Calculos!D33>0.11,Calculos!D33<=0.17),IF(E62=\"\",\"\",IF(AND(C59<=D62,C59>E62),\"Proceed to the Criterion 5\",\"\"))),\"\"))","v":""}]
[null,"DOOL =",{"$f":"IF(C59=\"\",\"\",IF('Experimental Data'!E27=\"\",\"\",IF(AND(Calculos!D33>0.11,Calculos!D33<=0.17),ROUND(Calculos!B58,2),\"\")))","v":""},{"$f":"IF(C62<=0.75,IF(C59=\"\",\"\",IF(AND(Calculos!D33>0.11,Calculos!D33<=0.17),IF(C10>1.3,IF(C60<=3,ROUND(0.22574+(0.59007*C61)-(0.2793*C61^2)-(0.03794*C61^3),2),\"\"),\"\"),\"\")),IF(C59=\"\",\"\",IF(AND(Calculos!D33>0.11,Calculos!D33<=0.17),IF(C10>1.3,0.5,\"\"),\"\")))","v":""},{"$f":"IF(C48<=0.75,IF(C59=\"\",\"\",IF(AND(Calculos!D33>0.11,Calculos!D33<=0.17),IF(C10>1.3,IF(C60<=3,ROUND(0.4-(0.07692*C61),2),\"\"),\"\"),\"\")),IF(C59=\"\",\"\",IF(AND(Calculos!D33>0.11,Calculos!D33<=0.17),IF(C10>1.3,0.3,\"\"),\"\")))","v":""},{"$f":"IF(C59=\"\",\"\",IF(OR(F54=\"Proceed to the Criterion 4\",F51=\"Proceed to the Criterion 4\",F48=\"Proceed to the Criterion 4\",F45=\"Proceed to the Criterion 4\",H54=\"Proceed to the Criterion 4\",H51=\"Proceed to the Criterion 4\",H48=\"Proceed to the Criterion 4\"),IF(AND(Calculos!D33>0.11,Calculos!D33<=0.17),IF(E62=\"\",\"\",IF(C59<=E62,\"The oil is coherent\",\"\"))),\"\"))","v":""}]
[null,"DECN44p",{"$f":"IF(C59=\"\",\"\",IF('Experimental Data'!E27=\"\",\"\",IF(AND(Calculos!D33>0.11,Calculos!D33<=0.17),Calculos!B38,\"\")))","v":""},{"$f":"IF(C62<=0.75,IF(C59=\"\",\"\",IF(AND(Calculos!D33>0.11,Calculos!D33<=0.17),IF(AND(C10<=1.3,C10>1.1),IF(C60>2.5,ROUND(0.34233+(0.60483*C61)-(0.27853*C61^2)-(0.06027*C61^3),2),\"\"),\"\"),\"\")),IF(C59=\"\",\"\",IF(AND(Calculos!D33>0.11,Calculos!D33<=0.17),IF(AND(C10<=1.3,C10>1.1,C59>2.5),ROUND(0.18169+(0.68012*C61)-(0.24074*C61^2)-(0.0758*C61^3),2),\"\"),\"\")))","v":""},{"$f":"IF(C62<=0.75,IF(C59=\"\",\"\",IF(AND(Calculos!D33>0.11,Calculos!D33<=0.17),IF(AND(C10<=1.3,C10>1.1),IF(C60>2.5,0.3,\"\"),\"\"),\"\")),IF(C59=\"\",\"\",IF(AND(Calculos!D33>0.11,Calculos!D33<=0.17),IF(AND(C10<=1.3,C10>1.1,C60>2.5),0.3,\"\"),\"\")))","v":""},{"$f":"IF(C59=\"\",\"\",IF(OR(F54=\"Proceed to the Criterion 4\",F51=\"Proceed to the Criterion 4\",F48=\"Proceed to the Criterion 4\",F45=\"Proceed to the Criterion 4\",H54=\"Proceed to the Criterion 4\",H51=\"Proceed to the Criterion 4\",H48=\"Proceed to the Criterion 4\"),IF(AND(Calculos!D33>0.11,Calculos!D33<=0.17),IF(E63=\"\",\"\",IF(C59>D63,\"The oil is not coherent\",\"\"))),\"\"))","v":""},null,{"$f":"IF(C59=\"\",\"\",IF(OR(F54=\"Proceed to the Criterion 4\",F51=\"Proceed to the Criterion 4\",F48=\"Proceed to the Criterion 4\",F45=\"Proceed to the Criterion 4\",H54=\"Proceed to the Criterion 4\",H51=\"Proceed to the Criterion 4\",H48=\"Proceed to the Criterion 4\"),IF(AND(Calculos!D33>0.11,Calculos!D33<=0.17),IF(E59=\"\",\"\",IF(C59>D59,\"The oil is not coherent\",\"\"))),\"\"))","v":""}]
[null,"Ln",{"$f":"IF('Experimental Data'!E27=\"\",\"\",IF(AND(Calculos!D33>0.11,Calculos!D33<=0.17),Calculos!G7,\"\"))","v":""},{"$f":"IF(C62<=0.75,IF(C59=\"\",\"\",IF(AND(Calculos!D33>0.11,Calculos!D33<=0.17),IF(AND(C10<=1.3,C10>1.1),IF(C60<=2.5,ROUND(0.34831+(0.53999*C61)-(0.27887*C61^2)-(0.04052*C61^3),2),\"\"),\"\"),\"\")),IF(C59=\"\",\"\",IF(AND(Calculos!D33>0.11,Calculos!D33<=0.17),IF(AND(C10<=1.3,C10>1.1,C60<=2.5),ROUND(0.29881+(0.68532*C61)-(0.53571*C61^2)-(0.13889*C61^3),2),\"\"),\"\")))","v":""},{"$f":"IF(C62<=0.75,IF(C59=\"\",\"\",IF(AND(Calculos!D33>0.11,Calculos!D33<=0.17),IF(AND(C10<=1.3,C10>1.1),IF(C60<=2.5,0.35,\"\"),\"\"),\"\")),IF(C59=\"\",\"\",IF(AND(Calculos!D33>0.11,Calculos!D33<=0.17),IF(AND(C10<=1.3,C10>1.1,C60<=2.5),ROUND(0.3-(0.2*C61),2),\"\"),\"\")))","v":""},{"$f":"IF(C59=\"\",\"\",IF(OR(F54=\"Proceed to the Criterion 4\",F51=\"Proceed to the Criterion 4\",F48=\"Proceed to the Criterion 4\",F45=\"Proceed to the Criterion 4\",H54=\"Proceed to the Criterion 4\",H51=\"Proceed to the Criterion 4\",H48=\"Proceed to the Criterion 4\"),IF(AND(Calculos!D33>0.11,Calculos!D33<=0.17),IF(E63=\"\",\"\",IF(AND(C59<=D63,C59>E63),\"Proceed to the Criterion 5\",\"\"))),\"\"))","v":""},null,{"$f":"IF(C59=\"\",\"\",IF(OR(F54=\"Proceed to the Criterion 4\",F51=\"Proceed to the Criterion 4\",F48=\"Proceed to the Criterion 4\",F45=\"Proceed to the Criterion 4\",H54=\"Proceed to the Criterion 4\",H51=\"Proceed to the Criterion 4\",H48=\"Proceed to the Criterion 4\"),IF(AND(Calculos!D33>0.11,Calculos!D33<=0.17),IF(E59=\"\",\"\",IF(AND(C59<=D59,C59>E59),\"Proceed to the Criterion 5\",\"\"))),\"\"))","v":""}]
[null,null,null,{"$f":"IF(C62<=0.75,\"\",IF(C59=\"\",\"\",IF(AND(Calculos!D33>0.11,Calculos!D33<=0.17),IF(AND(C10<=1.1,C60>3),ROUND(0.24704+(0.50828*C61)-(0.09998*C61^2)-(0.11245*C61^3),2),\"\"),\"\")))","v":""},{"$f":"IF(C62<=0.75,\"\",IF(C59=\"\",\"\",IF(AND(Calculos!D33>0.11,Calculos!D33<=0.17),IF(AND(C10<=1.1,C60>3),0.35,\"\"),\"\")))","v":""},{"$f":"IF(C59=\"\",\"\",IF(OR(F54=\"Proceed to the Criterion 4\",F51=\"Proceed to the Criterion 4\",F48=\"Proceed to the Criterion 4\",F45=\"Proceed to the Criterion 4\",H54=\"Proceed to the Criterion 4\",H51=\"Proceed to the Criterion 4\",H48=\"Proceed to the Criterion 4\"),IF(AND(Calculos!D33>0.11,Calculos!D33<=0.17),IF(E63=\"\",\"\",IF(C59<=E63,\"The oil is coherent\",\"\"))),\"\"))","v":""},null,{"$f":"IF(C59=\"\",\"\",IF(OR(F54=\"Proceed to the Criterion 4\",F51=\"Proceed to the Criterion 4\",F48=\"Proceed to the Criterion 4\",F45=\"Proceed to the Criterion 4\",H54=\"Proceed to the Criterion 4\",H51=\"Proceed to the Criterion 4\",H48=\"Proceed to the Criterion 4\"),IF(AND(Calculos!D33>0.11,Calculos!D33<=0.17),IF(E59=\"\",\"\",IF(C59<=E59,\"The oil is coherent\",\"\"))),\"\"))","v":""}]
[null,null,null,{"$f":"IF(C62<=0.75,IF(C59=\"\",\"\",IF(AND(Calculos!D33>0.11,Calculos!D33<=0.17),IF(C10<=1.1,IF(C60>2,ROUND(0.34233+(0.60483*C61)-(0.27853*C61^2)-(0.06027*C61^3),2),\"\"),\"\"),\"\")),IF(C59=\"\",\"\",IF(AND(Calculos!D33>0.11,Calculos!D33<=0.17),IF(AND(C10<=1.1,C60<=3,C60>2),ROUND(0.30657+(0.47303*C61)-(0.25762*C61^2)-(0.0263*C61^3),2),\"\"),\"\")))","v":""},{"$f":"IF(C62<=0.75,IF(C59=\"\",\"\",IF(AND(Calculos!D33>0.11,Calculos!D33<=0.17),IF(C10<=1.1,IF(C60>2,0.25,\"\"),\"\"),\"\")),IF(C59=\"\",\"\",IF(AND(Calculos!D33>0.11,Calculos!D33<=0.17),IF(AND(C10<=1.1,C60<=3,C60>2),0.3,\"\"),\"\")))","v":""},{"$f":"IF(C59=\"\",\"\",IF(OR(F54=\"Proceed to the Criterion 4\",F51=\"Proceed to the Criterion 4\",F48=\"Proceed to the Criterion 4\",F45=\"Proceed to the Criterion 4\",H54=\"Proceed to the Criterion 4\",H51=\"Proceed to the Criterion 4\",H48=\"Proceed to the Criterion 4\"),IF(AND(Calculos!D33>0.11,Calculos!D33<=0.17),IF(E64=\"\",\"\",IF(C59>D64,\"The oil is not coherent\",\"\"))),\"\"))","v":""},null,{"$f":"IF(C59=\"\",\"\",IF(OR(F54=\"Proceed to the Criterion 4\",F51=\"Proceed to the Criterion 4\",F48=\"Proceed to the Criterion 4\",F45=\"Proceed to the Criterion 4\",H54=\"Proceed to the Criterion 4\",H51=\"Proceed to the Criterion 4\",H48=\"Proceed to the Criterion 4\"),IF(AND(Calculos!D33>0.11,Calculos!D33<=0.17),IF(E60=\"\",\"\",IF(C59>D60,\"The oil is not coherent\",\"\"))),\"\"))","v":""}]
[null,null,null,{"$f":"IF(C62<=0.75,IF(C59=\"\",\"\",IF(AND(Calculos!D33>0.11,Calculos!D33<=0.17),IF(C10<=1.1,IF(C60<=2,0.55,\"\"),\"\"),\"\")),IF(C59=\"\",\"\",IF(AND(Calculos!D33>0.11,Calculos!D33<=0.17),IF(AND(C10<=1.1,C60<=2),ROUND(0.34621+(0.75496*C61)-(0.76136*C61^2)+(0.05997*C61^3),2),\"\"),\"\")))","v":""},{"$f":"IF(C62<=0.75,IF(C59=\"\",\"\",IF(AND(Calculos!D33>0.11,Calculos!D33<=0.17),IF(C10<=1.1,IF(C60<=2,ROUND(-0.008+(0.32*C61),2),\"\"),\"\"),\"\")),IF(C59=\"\",\"\",IF(AND(Calculos!D33>0.11,Calculos!D33<=0.17),IF(AND(C10<=1.1,C60<=2),ROUND(0.3-(0.3*C61),2),\"\"),\"\")))","v":""},{"$f":"IF(C59=\"\",\"\",IF(OR(F54=\"Proceed to the Criterion 4\",F51=\"Proceed to the Criterion 4\",F48=\"Proceed to the Criterion 4\",F45=\"Proceed to the Criterion 4\",H54=\"Proceed to the Criterion 4\",H51=\"Proceed to the Criterion 4\",H48=\"Proceed to the Criterion 4\"),IF(AND(Calculos!D33>0.11,Calculos!D33<=0.17),IF(E64=\"\",\"\",IF(AND(C59<=D64,C59>E64),\"Proceed to the Criterion 5\",\"\"))),\"\"))","v":""},null,{"$f":"IF(C59=\"\",\"\",IF(OR(F54=\"Proceed to the Criterion 4\",F51=\"Proceed to the Criterion 4\",F48=\"Proceed to the Criterion 4\",F45=\"Proceed to the Criterion 4\",H54=\"Proceed to the Criterion 4\",H51=\"Proceed to the Criterion 4\",H48=\"Proceed to the Criterion 4\"),IF(AND(Calculos!D33>0.11,Calculos!D33<=0.17),IF(E60=\"\",\"\",IF(AND(C59<=D60,C59>E60),\"Proceed to the Criterion 5\",\"\"))),\"\"))","v":""}]
[null,null,null,null,null,{"$f":"IF(C59=\"\",\"\",IF(OR(F54=\"Proceed to the Criterion 4\",F51=\"Proceed to the Criterion 4\",F48=\"Proceed to the Criterion 4\",F45=\"Proceed to the Criterion 4\",H54=\"Proceed to the Criterion 4\",H51=\"Proceed to the Criterion 4\",H48=\"Proceed to the Criterion 4\"),IF(AND(Calculos!D33>0.11,Calculos!D33<=0.17),IF(E64=\"\",\"\",IF(C59<=E64,\"The oil is coherent\",\"\"))),\"\"))","v":""},null,{"$f":"IF(C59=\"\",\"\",IF(OR(F54=\"Proceed to the Criterion 4\",F51=\"Proceed to the Criterion 4\",F48=\"Proceed to the Criterion 4\",F45=\"Proceed to the Criterion 4\",H54=\"Proceed to the Criterion 4\",H51=\"Proceed to the Criterion 4\",H48=\"Proceed to the Criterion 4\"),IF(AND(Calculos!D33>0.11,Calculos!D33<=0.17),IF(E60=\"\",\"\",IF(C59<=E60,\"The oil is coherent\",\"\"))),\"\"))","v":""}]
[null,null,null,null,null,{"$f":"IF(C59=\"\",\"\",IF(OR(F54=\"Proceed to the Criterion 4\",F51=\"Proceed to the Criterion 4\",F48=\"Proceed to the Criterion 4\",F45=\"Proceed to the Criterion 4\",H54=\"Proceed to the Criterion 4\",H51=\"Proceed to the Criterion 4\",H48=\"Proceed to the Criterion 4\"),IF(AND(Calculos!D33>0.11,Calculos!D33<=0.17),IF(E65=\"\",\"\",IF(C59>D65,\"The oil is not coherent\",\"\"))),\"\"))","v":""},null,{"$f":"IF(C59=\"\",\"\",IF(OR(F54=\"Proceed to the Criterion 4\",F51=\"Proceed to the Criterion 4\",F48=\"Proceed to the Criterion 4\",F45=\"Proceed to the Criterion 4\",H54=\"Proceed to the Criterion 4\",H51=\"Proceed to the Criterion 4\",H48=\"Proceed to the Criterion 4\"),IF(AND(Calculos!D33>0.11,Calculos!D33<=0.17),IF(E61=\"\",\"\",IF(C59>D61,\"The oil is not coherent\",\"\"))),\"\"))","v":""}]
[null,null,null,null,null,{"$f":"IF(C59=\"\",\"\",IF(OR(F54=\"Proceed to the Criterion 4\",F51=\"Proceed to the Criterion 4\",F48=\"Proceed to the Criterion 4\",F45=\"Proceed to the Criterion 4\",H54=\"Proceed to the Criterion 4\",H51=\"Proceed to the Criterion 4\",H48=\"Proceed to the Criterion 4\"),IF(AND(Calculos!D33>0.11,Calculos!D33<=0.17),IF(E65=\"\",\"\",IF(AND(C59<=D65,C59>E65),\"Proceed to the Criterion 5\",\"\"))),\"\"))","v":""},null,{"$f":"IF(C59=\"\",\"\",IF(OR(F54=\"Proceed to the Criterion 4\",F51=\"Proceed to the Criterion 4\",F48=\"Proceed to the Criterion 4\",F45=\"Proceed to the Criterion 4\",H54=\"Proceed to the Criterion 4\",H51=\"Proceed to the Criterion 4\",H48=\"Proceed to the Criterion 4\"),IF(AND(Calculos!D33>0.11,Calculos!D33<=0.17),IF(E61=\"\",\"\",IF(AND(C59<=D61,C59>E61),\"Proceed to the Criterion 5\",\"\"))),\"\"))","v":""}]
[null,null,null,null,null,{"$f":"IF(C59=\"\",\"\",IF(OR(F54=\"Proceed to the Criterion 4\",F51=\"Proceed to the Criterion 4\",F48=\"Proceed to the Criterion 4\",F45=\"Proceed to the Criterion 4\",H54=\"Proceed to the Criterion 4\",H51=\"Proceed to the Criterion 4\",H48=\"Proceed to the Criterion 4\"),IF(AND(Calculos!D33>0.11,Calculos!D33<=0.17),IF(E65=\"\",\"\",IF(C59<=E65,\"The oil is coherent\",\"\"))),\"\"))","v":""},null,{"$f":"IF(C59=\"\",\"\",IF(OR(F54=\"Proceed to the Criterion 4\",F51=\"Proceed to the Criterion 4\",F48=\"Proceed to the Criterion 4\",F45=\"Proceed to the Criterion 4\",H54=\"Proceed to the Criterion 4\",H51=\"Proceed to the Criterion 4\",H48=\"Proceed to the Criterion 4\"),IF(AND(Calculos!D33>0.11,Calculos!D33<=0.17),IF(E61=\"\",\"\",IF(C59<=E61,\"The oil is coherent\",\"\"))),\"\"))","v":""}]
[]
[null,"Criterion 5 L4"]
[null,"Parameter","Value","Higher Limit","Lower Limit",{"$f":"IF(C73=\"\",\"\",IF(OR(F68=\"Proceed to the Criterion 5\",F65=\"Proceed to the Criterion 5\",F62=\"Proceed to the Criterion 5\",F59=\"Proceed to the Criterion 5\",H68=\"Proceed to the Criterion 5\",H65=\"Proceed to the Criterion 5\",H62=\"Proceed to the Criterion 5\"),IF(AND(Calculos!D33>0.11,Calculos!D33<=0.17),IF(E75=\"\",\"\",IF(C73<=E75,\"The oil is coherent\",\"\"))),\"\"))","v":""}]
[null,"L4 =",{"$f":"IF('Experimental Data'!E27=\"\",\"\",IF(AND(Calculos!D33>0.11,Calculos!D33<=0.17),Calculos!J22,\"\"))","v":""},{"$f":"IF(C74<=0.75,IF(C73=\"\",\"\",IF(AND(Calculos!D33>0.11,Calculos!D33<=0.17),IF(C10>1.3,IF(C75>3,ROUND(1.68879+(5.44993*C76)-(2.5743*C76^2)+(0.29745*C76^3),2),\"\"),\"\"),\"\")),\"\")","v":""},{"$f":"IF(C74<=0.75,IF(C73=\"\",\"\",IF(AND(Calculos!D33>0.11,Calculos!D33<=0.17),IF(C10>1.3,IF(C75>3,\"\",\"\"),\"\"),\"\")),\"\")","v":""},{"$f":"IF(C73=\"\",\"\",IF(OR(F68=\"Proceed to the Criterion 5\",F65=\"Proceed to the Criterion 5\",F62=\"Proceed to the Criterion 5\",F59=\"Proceed to the Criterion 5\",H68=\"Proceed to the Criterion 5\",H65=\"Proceed to the Criterion 5\",H62=\"Proceed to the Criterion 5\"),IF(AND(Calculos!D33>0.11,Calculos!D33<=0.17),IF(E76=\"\",\"\",IF(C73>D76,\"The oil is not coherent\",\"\"))),\"\"))","v":""}]
[null,"Ln",{"$f":"IF('Experimental Data'!E27=\"\",\"\",IF(AND(Calculos!D33>0.11,Calculos!D33<=0.17),Calculos!G7,\"\"))","v":""},{"$f":"IF(C74<=0.75,IF(C73=\"\",\"\",IF(AND(Calculos!D33>0.11,Calculos!D33<=0.17),IF(C10>1.3,IF(C75<=3,ROUND(0.52811+(3.34052*C76)-(2.13432*C76^2)+(0.16268*C76^3),2),\"\"),\"\"),\"\")),IF(C73=\"\",\"\",IF(AND(Calculos!D33>0.11,Calculos!D33<=0.17),IF(C10>1.3,ROUND(1.27198+(1.37497*C76)-(0.91117*C76^2)+(0.0862*C76^3),2),\"\"),\"\")))","v":""},{"$f":"IF(C74<=0.75,IF(C73=\"\",\"\",IF(AND(Calculos!D33>0.11,Calculos!D33<=0.17),IF(C10>1.3,IF(C75<=3,\"\",\"\"),\"\"),\"\")),IF(C73=\"\",\"\",IF(AND(Calculos!D33>0.11,Calculos!D33<=0.17),IF(C10>1.3,\"\",\"\"),\"\")))","v":""},{"$f":"IF(C73=\"\",\"\",IF(OR(F68=\"Proceed to the Criterion 5\",F65=\"Proceed to the Criterion 5\",F62=\"Proceed to the Criterion 5\",F59=\"Proceed to the Criterion 5\",H68=\"Proceed to the Criterion 5\",H65=\"Proceed to the Criterion 5\",H62=\"Proceed to the Criterion 5\"),IF(AND(Calculos!D33>0.11,Calculos!D33<=0.17),IF(E76=\"\",\"\",IF(AND(C73<=D76,C73>E76),\"Proceed to the Criterion 6\",\"\"))),\"\"))","v":""}]
[null,"DOOL =",{"$f":"IF(C73=\"\",\"\",IF('Experimental Data'!E27=\"\",\"\",IF(AND(Calculos!D33>0.11,Calculos!D33<=0.17),ROUND(Calculos!B58,2),\"\")))","v":""},{"$f":"IF(C74<=0.75,IF(C73=\"\",\"\",IF(AND(Calculos!D33>0.11,Calculos!D33<=0.17),IF(AND(C10<=1.3,C10>1.1),IF(C75>2.5,ROUND(1.48462+(1.27562*C76)-(0.17844*C76^2)-(0.38887*C76^3),2),\"\"),\"\"),\"\")),IF(C73=\"\",\"\",IF(AND(Calculos!D33>0.11,Calculos!D33<=0.17),IF(AND(C10<=1.3,C10>1.1),IF(C75>2.5,ROUND(1.49302+(0.96273*C76)-(0.26506*C76^2)-(0.22171*C76^3),2),\"\"),\"\"),\"\")))","v":""},{"$f":"IF(C74<=0.75,IF(C73=\"\",\"\",IF(AND(Calculos!D33>0.11,Calculos!D33<=0.17),IF(AND(C10<=1.3,C10>1.1),IF(C75>2.5,0.8,\"\"),\"\"),\"\")),IF(C73=\"\",\"\",IF(AND(Calculos!D33>0.11,Calculos!D33<=0.17),IF(AND(C10<=1.3,C10>1.1),IF(C75>2.5,ROUND(1.5-(0.4*C76),2),\"\"),\"\"),\"\")))","v":""},{"$f":"IF(C73=\"\",\"\",IF(OR(F68=\"Proceed to the Criterion 5\",F65=\"Proceed to the Criterion 5\",F62=\"Proceed to the Criterion 5\",F59=\"Proceed to the Criterion 5\",H68=\"Proceed to the Criterion 5\",H65=\"Proceed to the Criterion 5\",H62=\"Proceed to the Criterion 5\"),IF(AND(Calculos!D33>0.11,Calculos!D33<=0.17),IF(E76=\"\",\"\",IF(C73<=E76,\"The oil is coherent\",\"\"))),\"\"))","v":""},null,{"$f":"IF(C73=\"\",\"\",IF(OR(F68=\"Proceed to the Criterion 5\",F65=\"Proceed to the Criterion 5\",F62=\"Proceed to the Criterion 5\",F59=\"Proceed to the Criterion 5\",H68=\"Proceed to the Criterion 5\",H65=\"Proceed to the Criterion 5\",H62=\"Proceed to the Criterion 5\"),IF(AND(Calculos!D33>0.11,Calculos!D33<=0.17),IF(D73=\"\",\"\",IF(C73<=D73,\"The oil is coherent\",\"The oil is not coherent\"))),\"\"))","v":""}]
[null,"DECN44p",{"$f":"IF(C73=\"\",\"\",IF('Experimental Data'!E27=\"\",\"\",IF(AND(Calculos!D33>0.11,Calculos!D33<=0.17),Calculos!B38,\"\")))","v":""},{"$f":"IF(C74<=0.75,IF(C73=\"\",\"\",IF(AND(Calculos!D33>0.11,Calculos!D33<=0.17),IF(AND(C10<=1.3,C10>1.1),IF(C75<=2.5,ROUND(1.48462+(1.27562*C76)-(0.17844*C76^2)-(0.38887*C76^3),2),\"\"),\"\"),\"\")),IF(C73=\"\",\"\",IF(AND(Calculos!D33>0.11,Calculos!D33<=0.17),IF(AND(C10<=1.3,C10>1.1),IF(C75<=2.5,ROUND(1.98982+(1.05743*C76)-(1.4205*C76^2)+(0.22074*C76^3),2),\"\"),\"\"),\"\")))","v":""},{"$f":"IF(C74<=0.75,IF(C73=\"\",\"\",IF(AND(Calculos!D33>0.11,Calculos!D33<=0.17),IF(AND(C10<=1.3,C10>1.1),IF(C75<=2.5,ROUND(0.3-(0.2*C76),2),\"\"),\"\"),\"\")),IF(C73=\"\",\"\",IF(AND(Calculos!D33>0.11,Calculos!D33<=0.17),IF(AND(C10<=1.3,C10>1.1),IF(C75<=2.5,0.8,\"\"),\"\"),\"\")))","v":""},{"$f":"IF(C73=\"\",\"\",IF(OR(F68=\"Proceed to the Criterion 5\",F65=\"Proceed to the Criterion 5\",F62=\"Proceed to the Criterion 5\",F59=\"Proceed to the Criterion 5\",H68=\"Proceed to the Criterion 5\",H65=\"Proceed to the Criterion 5\",H62=\"Proceed to the Criterion 5\"),IF(AND(Calculos!D33>0.11,Calculos!D33<=0.17),IF(D77=\"\",\"\",IF(C73<=D77,\"The oil is coherent\",\"The oil is not coherent\"))),\"\"))","v":""},null,{"$f":"IF(C73=\"\",\"\",IF(OR(F68=\"Proceed to the Criterion 5\",F65=\"Proceed to the Criterion 5\",F62=\"Proceed to the Criterion 5\",F59=\"Proceed to the Criterion 5\",H68=\"Proceed to the Criterion 5\",H65=\"Proceed to the Criterion 5\",H62=\"Proceed to the Criterion 5\"),IF(AND(Calculos!D33>0.11,Calculos!D33<=0.17),IF(D74=\"\",\"\",IF(C73<=D74,\"The oil is coherent\",\"The oil is not coherent\"))),\"\"))","v":""}]
[null,null,null,{"$f":"IF(C74<=0.75,\"\",IF(C73=\"\",\"\",IF(AND(Calculos!D33>0.11,Calculos!D33<=0.17),IF(C10<=1.1,IF(C75>3,ROUND(1.49302+(0.96273*C76)-(0.26506*C76^2)-(0.22171*C76^3),2),\"\"),\"\"),\"\")))","v":""},{"$f":"IF(C74<=0.75,\"\",IF(C73=\"\",\"\",IF(AND(Calculos!D33>0.11,Calculos!D33<=0.17),IF(C10<=1.1,IF(C75>3,\"\",\"\"),\"\"),\"\")))","v":""},{"$f":"IF(C73=\"\",\"\",IF(OR(F68=\"Proceed to the Criterion 5\",F65=\"Proceed to the Criterion 5\",F62=\"Proceed to the Criterion 5\",F59=\"Proceed to the Criterion 5\",H68=\"Proceed to the Criterion 5\",H65=\"Proceed to the Criterion 5\",H62=\"Proceed to the Criterion 5\"),IF(AND(Calculos!D33>0.11,Calculos!D33<=0.17),IF(D78=\"\",\"\",IF(C73<=D78,\"The oil is coherent\",\"The oil is not coherent\"))),\"\"))","v":""},null,{"$f":"IF(C73=\"\",\"\",IF(OR(F68=\"Proceed to the Criterion 5\",F65=\"Proceed to the Criterion 5\",F62=\"Proceed to the Criterion 5\",F59=\"Proceed to the Criterion 5\",H68=\"Proceed to the Criterion 5\",H65=\"Proceed to the Criterion 5\",H62=\"Proceed to the Criterion 5\"),IF(AND(Calculos!D33>0.11,Calculos!D33<=0.17),IF(E75=\"\",\"\",IF(C73>D75,\"The oil is not coherent\",\"\"))),\"\"))","v":""}]
[null,null,null,{"$f":"IF(C74<=0.75,IF(C73=\"\",\"\",IF(AND(Calculos!D33>0.11,Calculos!D33<=0.17),IF(C10<=1.1,IF(C75>2,ROUND(1.48462+(1.27562*C76)-(0.17844*C76^2)-(0.38887*C76^3),2),\"\"),\"\"),\"\")),IF(C73=\"\",\"\",IF(AND(Calculos!D33>0.11,Calculos!D33<=0.17),IF(C10<=1.1,IF(AND(C75<=3,C75>2),ROUND(1.89441+(0.47094*C76)-(0.10575*C76^2)-(0.22806*C76^3),2),\"\"),\"\"),\"\")))","v":""},{"$f":"IF(C74<=0.75,IF(C73=\"\",\"\",IF(AND(Calculos!D33>0.11,Calculos!D33<=0.17),IF(C10<=1.1,IF(C75>2,\"\",\"\"),\"\"),\"\")),IF(C73=\"\",\"\",IF(AND(Calculos!D33>0.11,Calculos!D33<=0.17),IF(C10<=1.1,IF(AND(C75<=3,C75>2),\"\",\"\"),\"\"),\"\")))","v":""},{"$f":"IF(C73=\"\",\"\",IF(OR(F68=\"Proceed to the Criterion 5\",F65=\"Proceed to the Criterion 5\",F62=\"Proceed to the Criterion 5\",F59=\"Proceed to the Criterion 5\",H68=\"Proceed to the Criterion 5\",H65=\"Proceed to the Criterion 5\",H62=\"Proceed to the Criterion 5\"),IF(AND(Calculos!D33>0.11,Calculos!D33<=0.17),IF(D79=\"\",\"\",IF(C73<=D79,\"The oil is coherent\",\"The oil is not coherent\"))),\"\"))","v":""},null,{"$f":"IF(C73=\"\",\"\",IF(OR(F68=\"Proceed to the Criterion 5\",F65=\"Proceed to the Criterion 5\",F62=\"Proceed to the Criterion 5\",F59=\"Proceed to the Criterion 5\",H68=\"Proceed to the Criterion 5\",H65=\"Proceed to the Criterion 5\",H62=\"Proceed to the Criterion 5\"),IF(AND(Calculos!D33>0.11,Calculos!D33<=0.17),IF(E75=\"\",\"\",IF(AND(C73<=D75,C73>E75),\"Proceed to the Criterion 6\",\"\"))),\"\"))","v":""}]
[null,null,null,{"$f":"IF(C74<=0.75,IF(C73=\"\",\"\",IF(AND(Calculos!D33>0.11,Calculos!D33<=0.17),IF(C10<=1.1,IF(C75<=2,2.2,\"\"),\"\"),\"\")),IF(C73=\"\",\"\",IF(AND(Calculos!D33>0.11,Calculos!D33<=0.17),IF(C10<=1.1,IF(C75<=2,ROUND(2.00485+(1.9752*C76)-(1.78057*C76^2)-(0.17677*C76^3),2),\"\"),\"\"),\"\")))","v":""},{"$f":"IF(C74<=0.75,IF(C73=\"\",\"\",IF(AND(Calculos!D33>0.11,Calculos!D33<=0.17),IF(C10<=1.1,IF(C75<=2,\"\",\"\"),\"\"),\"\")),IF(C73=\"\",\"\",IF(AND(Calculos!D33>0.11,Calculos!D33<=0.17),IF(C10<=1.1,IF(C75<=2,\"\",\"\"),\"\"),\"\")))","v":""}]
[]
[]
[]
[null,"Criterion 6 R2, DOOL"]
[null,"Parameter","Value","Limit R2",{"$f":"IF(C85=\"\",\"\",IF(OR(F74=\"Proceed to the Criterion 6\",H78=\"Proceed to the Criterion 6\"),IF(AND(Calculos!D33>0.11,Calculos!D33<=0.17),IF(AND(C86>2.5,C10<=1.3,C10>1.1,C87<=0.75),\"The oil is coherent by DOOL>2,5\",\"\")),\"\"))","v":""}]
[null,"R2 =",{"$f":"IF('Experimental Data'!E27=\"\",\"\",IF(AND(Calculos!D33>0.11,Calculos!D33<=0.17),Calculos!B32,\"\"))","v":""},{"$f":"IF(C87<=0.75,IF(C85=\"\",\"\",IF(AND(Calculos!D33>0.11,Calculos!D33<=0.17),IF(AND(C10<=1.3,C10>1.1,C86<=2,C86>1),0.09,\"\"),\"\")),IF(C85=\"\",\"\",IF(AND(Calculos!D33>0.11,Calculos!D33<=0.17),IF(AND(C10<=1.3,C10>1.1,C86<=3,C86>1),0.09,\"\"),\"\")))","v":""},{"$f":"IF(C85=\"\",\"\",IF(OR(F74=\"Proceed to the Criterion 6\",H78=\"Proceed to the Criterion 6\"),IF(AND(Calculos!D33>0.11,Calculos!D33<=0.17),IF(D85=\"\",\"\",IF(C85>=D85,\"The oil is coherent\",\"The oil is not coherent\"))),\"\"))","v":""}]
[null,"DOOL =",{"$f":"IF(C73=\"\",\"\",IF('Experimental Data'!E27=\"\",\"\",IF(AND(Calculos!D33>0.11,Calculos!D33<=0.17),ROUND(Calculos!B58,2),\"\")))","v":""},null,{"$f":"IF(C85=\"\",\"\",IF(OR(F74=\"Proceed to the Criterion 6\",H78=\"Proceed to the Criterion 6\"),IF(AND(Calculos!D33>0.11,Calculos!D33<=0.17),IF(AND(C86<=1.5,C10<=1.3,C10>1.1,C87>0.75),\"The oil is coherent by DOOL<=1,5\",\"\")),\"\"))","v":""}]
[null,"Ln =",{"$f":"IF('Experimental Data'!E27=\"\",\"\",IF(AND(Calculos!D33>0.11,Calculos!D33<=0.17),Calculos!G7,\"\"))","v":""}]

{"sheet":"Criteria for LLLt 0,170-0,250","index":8,"n_rows":84,"n_cols":8,"rows_kept":84,"cut":false,"hidden":false,"merged":[[1,1,1,8]]}
[null,"Criteria for LLL theor. 0,170- 0,250"]
[null,"Calculation Parameters"]
[null,"Sample Code",{"$f":"IF(C6=\"\",\"\",IF('Experimental Data'!F16=\"\",\"\",'Experimental Data'!F16))","v":""},{"$f":"IF(C6=\"\",\"\",IF('Experimental Data'!G16=\"\",\"\",'Experimental Data'!G16))","v":""},{"$f":"IF(C6=\"\",\"\",IF('Experimental Data'!H16=\"\",\"\",'Experimental Data'!H16))","v":""},{"$f":"IF(C6=\"\",\"\",IF('Experimental Data'!I16=\"\",\"\",'Experimental Data'!I16))","v":""},{"$f":"IF(C6=\"\",\"\",IF('Experimental Data'!J16=\"\",\"\",'Experimental Data'!J16))","v":""},{"$f":"IF(C6=\"\",\"\",IF('Experimental Data'!K16=\"\",\"\",'Experimental Data'!K16))","v":""}]
[null,"Oil Category",{"$f":"IF(C3=\"\",\"\",IF('Experimental Data'!F17=\"\",\"\",'Experimental Data'!F17))","v":""},{"$f":"IF(C4=\"\",\"\",IF(C4=\"EV\",\"Virgin Edible Olive Oil\",IF(C4=\"L\",\"Lampant Olive Oil\",IF(C4=\"R\",\"Refined Olive Oil\"))))","v":""}]
[]
[null,"DECN42 =",{"$f":"IF('Experimental Data'!E27=\"\",\"\",IF(AND(Calculos!D33>0.17,Calculos!D33<=0.25),Calculos!M58,\"\"))","v":""},{"$f":"IF('Experimental Data'!E27=\"\",\"\",IF(AND(Calculos!D33>0.17,Calculos!D33<=0.25),IF(C4=\"EV\",0.2,IF(OR(C4=\"R\",C4=\"L\"),0.3,\"\")),\"\"))","v":""},{"$f":"IF(C6=\"\",\"\",IF(C6<=D6,\"Proceed to the Early Criterion\",\"Proceed to the Early Criterion\"))","v":""},null,{"$f":"IF(C6=\"\",\"\",IF(C6>D6,\"Warning, The DECN42 is too high\",\"\"))","v":""}]
[]
[null,"Early Criterion K1"]
[null,"Parameter","Value","Higher Limit","Lower Limit",{"$f":"IF(C10=\"\",\"\",IF(E6=\"Proceed to the Early Criterion\",IF(AND(Calculos!D33>0.17,Calculos!D33<=0.25),IF(E10=\"\",\"\",IF(AND(C10<=D10,C10>E10),\"Proceed to the Criterion 1\",\"\")),\"\"),\"\"))","v":""}]
[null,"K1 =",{"$f":"IF('Experimental Data'!E27=\"\",\"\",IF(AND(Calculos!D33>0.17,Calculos!D33<=0.25),Calculos!J24,\"\"))","v":""},{"$f":"IF(C11<=0.8,IF(C10=\"\",\"\",IF(AND(Calculos!D33>0.17,Calculos!D33<=0.25),IF(C10>1.3,1.75,\"\"),\"\")),IF(C10=\"\",\"\",IF(AND(Calculos!D33>0.17,Calculos!D33<=0.25),IF(C10>1.3,1.75,\"\"),\"\")))","v":""},{"$f":"IF(C11<=0.8,IF(C10=\"\",\"\",IF(AND(Calculos!D33>0.17,Calculos!D33<=0.25),IF(C10>1.3,1.3,\"\"),\"\")),IF(C10=\"\",\"\",IF(AND(Calculos!D33>0.17,Calculos!D33<=0.25),IF(C10>1.3,1.3,\"\"),\"\")))","v":""},{"$f":"IF(C10=\"\",\"\",IF(E6=\"Proceed to the Early Criterion\",IF(AND(Calculos!D33>0.17,Calculos!D33<=0.25),IF(E11=\"\",\"\",IF(AND(C10<=D11,C10>E11),\"Proceed to the Criterion 1\",\"\")),\"\"),\"\"))","v":""}]
[null,"Ln =",{"$f":"IF(C10=\"\",\"\",IF('Experimental Data'!E27=\"\",\"\",IF(AND(Calculos!D33>0.17,Calculos!D33<=0.25),'Experimental Data'!K21,\"\")))","v":""},{"$f":"IF(C11<=0.8,IF(C10=\"\",\"\",IF(AND(Calculos!D33>0.17,Calculos!D33<=0.25),IF(AND(C10>1.15,C10<=1.3),1.3,\"\"),\"\")),IF(C10=\"\",\"\",IF(AND(Calculos!D33>0.17,Calculos!D33<=0.25),IF(AND(C10>1.15,C10<=1.3),1.3,\"\"),\"\")))","v":""},{"$f":"IF(C11<=0.8,IF(C10=\"\",\"\",IF(AND(Calculos!D33>0.17,Calculos!D33<=0.25),IF(AND(C10>1.15,C10<=1.3),1.15,\"\"),\"\")),IF(C10=\"\",\"\",IF(AND(Calculos!D33>0.17,Calculos!D33<=0.25),IF(AND(C10>1.15,C10<=1.3),1.15,\"\"),\"\")))","v":""},{"$f":"IF(C10=\"\",\"\",IF(E6=\"Proceed to the Early Criterion\",IF(AND(Calculos!D33>0.17,Calculos!D33<=0.25),IF(E12=\"\",\"\",IF(AND(C10<=D12,C10>E12),\"Proceed to the Criterion 1\",\"\")),\"\"),\"\"))","v":""}]
[null,null,null,{"$f":"IF(C11<=0.8,IF(C10=\"\",\"\",IF(AND(Calculos!D33>0.17,Calculos!D33<=0.25),IF(C10<=1.15,1.15,\"\"),\"\")),IF(C10=\"\",\"\",IF(AND(Calculos!D33>0.17,Calculos!D33<=0.25),IF(C10<=1.15,1.15,\"\"),\"\")))","v":""},{"$f":"IF(C11<=0.8,IF(C10=\"\",\"\",IF(AND(Calculos!D33>0.17,Calculos!D33<=0.25),IF(C10<=1.15,1,\"\"),\"\")),IF(C10=\"\",\"\",IF(AND(Calculos!D33>0.17,Calculos!D33<=0.25),IF(C10<=1.15,0.95,\"\"),\"\")))","v":""},{"$f":"IF(C10=\"\",\"\",IF(E6=\"Proceed to the Early Criterion\",IF(AND(Calculos!D33>0.17,Calculos!D33<=0.25),IF(E12=\"\",\"\",IF(C10<=E12,\"The oil is coherent\",\"\")),\"\"),\"\"))","v":""},null,{"$f":"IF(C10=\"\",\"\",IF(E6=\"Proceed to the Early Criterion\",IF(AND(Calculos!D33>0.17,Calculos!D33<=0.25),IF(E10=\"\",\"\",IF(C10>D10,\"The oil is not coherent\",\"\")),\"\"),\"\"))","v":""}]
[]
[null,"Criterion 1 DR3"]
[null,"Parameter","Value","Higher Limit","Lower Limit",{"$f":"IF(C16=\"\",\"\",IF(OR(F11=\"Proceed to the Criterion 1\",F10=\"Proceed to the Criterion 1\",F9=\"Proceed to the Criterion 1\"),IF(AND(Calculos!D33>0.17,Calculos!D33<=0.25),IF(E19=\"\",\"\",IF(C16>D19,\"The oil is not coherent\",\"\"))),\"\"))","v":""}]
[null,"DR3 =",{"$f":"IF('Experimental Data'!E27=\"\",\"\",IF(AND(Calculos!D33>0.17,Calculos!D33<=0.25),Calculos!B43,\"\"))","v":""},{"$f":"IF(C17<=0.8,IF(C16=\"\",\"\",IF(AND(Calculos!D33>0.17,Calculos!D33<=0.25),IF(C10>1.3,IF(C19>3,ROUND(-1.27004+(1.28934*C18)-(0.06584*C18^2)-(0.09371*C18^3),2),\"\"),\"\"),\"\")),\"\")","v":""},{"$f":"IF(C17<=0.8,IF(C16=\"\",\"\",IF(AND(Calculos!D33>0.17,Calculos!D33<=0.25),IF(C10>1.3,IF(C19>3,-0.02,\"\"),\"\"),\"\")),\"\")","v":""},{"$f":"IF(C16=\"\",\"\",IF(OR(F11=\"Proceed to the Criterion 1\",F10=\"Proceed to the Criterion 1\",F9=\"Proceed to the Criterion 1\"),IF(AND(Calculos!D33>0.17,Calculos!D33<=0.25),IF(E19=\"\",\"\",IF(AND(C16>E19,C16<=D19),\"Proceed to the Criterion 2\",\"\"))),\"\"))","v":""}]
[null,"Ln =",{"$f":"IF(C16=\"\",\"\",IF('Experimental Data'!E27=\"\",\"\",IF(AND(Calculos!D33>0.17,Calculos!D33<=0.25),'Experimental Data'!K21,\"\")))","v":""},{"$f":"IF(C17<=0.8,IF(C16=\"\",\"\",IF(AND(Calculos!D33>0.17,Calculos!D33<=0.25),IF(C10>1.3,IF(C19<=3,ROUND(-0.02371+(1.17656*C18)-(0.72809*C18^2)+(0.05054*C18^3),2),\"\"),\"\"),\"\")),IF(C16=\"\",\"\",IF(AND(Calculos!D33>0.17,Calculos!D33<=0.25),IF(C10>1.3,ROUND(0.19895+(0.5563*C18)-(0.42617*C18^2)+(0.0544*C18^3),2),\"\"),\"\")))","v":""},{"$f":"IF(C17<=0.8,IF(C16=\"\",\"\",IF(AND(Calculos!D33>0.17,Calculos!D33<=0.25),IF(C10>1.3,IF(C19<=3,-0.1,\"\"),\"\"),\"\")),IF(C16=\"\",\"\",IF(AND(Calculos!D33>0.17,Calculos!D33<=0.25),IF(C10>1.3,-0.05,\"\"),\"\")))","v":""},{"$f":"IF(C16=\"\",\"\",IF(OR(F11=\"Proceed to the Criterion 1\",F10=\"Proceed to the Criterion 1\",F9=\"Proceed to the Criterion 1\"),IF(AND(Calculos!D33>0.17,Calculos!D33<=0.25),IF(E19=\"\",\"\",IF(C16<=E19,\"The oil is coherent\",\"\"))),\"\"))","v":""}]
[null,"DECN44p =",{"$f":"IF(C16=\"\",\"\",IF('Experimental Data'!E27=\"\",\"\",IF(AND(Calculos!D33>0.17,Calculos!D33<=0.25),Calculos!B38,\"\")))","v":""},{"$f":"IF(C17<=0.8,IF(C16=\"\",\"\",IF(AND(Calculos!D33>0.17,Calculos!D33<=0.25),IF(AND(C10<=1.3,C10>1.15),IF(C19>2.5,ROUND(0.17144+(1.10865*C18)-(0.44098*C18^2)-(0.11428*C18^3),2),\"\"),\"\"),\"\")),IF(C16=\"\",\"\",IF(AND(Calculos!D33>0.17,Calculos!D33<=0.25),IF(AND(C10<=1.3,C10>1.15,C19>2.5),ROUND(0.1353+(0.48566*C18)-(0.13986*C18^2)-(0.09866*C18^3),2),\"\"),\"\")))","v":""},{"$f":"IF(C17<=0.8,IF(C16=\"\",\"\",IF(AND(Calculos!D33>0.17,Calculos!D33<=0.25),IF(AND(C10<=1.3,C10>1.15),IF(C19>2.5,ROUND(-0.37273+(0.18182*C18),2),\"\"),\"\"),\"\")),IF(C16=\"\",\"\",IF(AND(Calculos!D33>0.17,Calculos!D33<=0.25),IF(AND(C10<=1.3,C10>1.15,C19>2.5),ROUND(-0.3+(0.06667*C18),2),\"\"),\"\")))","v":""},{"$f":"IF(C16=\"\",\"\",IF(OR(F11=\"Proceed to the Criterion 1\",F10=\"Proceed to the Criterion 1\",F9=\"Proceed to the Criterion 1\"),IF(AND(Calculos!D33>0.17,Calculos!D33<=0.25),IF(E20=\"\",\"\",IF(C16>D20,\"The oil is not coherent\",\"\"))),\"\"))","v":""},null,{"$f":"IF(C16=\"\",\"\",IF(OR(F11=\"Proceed to the Criterion 1\",F10=\"Proceed to the Criterion 1\",F9=\"Proceed to the Criterion 1\"),IF(AND(Calculos!D33>0.17,Calculos!D33<=0.25),IF(E16=\"\",\"\",IF(C16>D16,\"The oil is not coherent\",\"\"))),\"\"))","v":""}]
[null,"DOOL =",{"$f":"IF(C16=\"\",\"\",IF('Experimental Data'!E27=\"\",\"\",IF(AND(Calculos!D33>0.17,Calculos!D33<=0.25),ROUND(Calculos!B58,2),\"\")))","v":""},{"$f":"IF(C17<=0.8,IF(C16=\"\",\"\",IF(AND(Calculos!D33>0.17,Calculos!D33<=0.25),IF(AND(C10<=1.3,C10>1.15),IF(C19<=2.5,ROUND(0.17144+(1.10865*C18)-(0.44098*C18^2)-(0.11428*C18^3),2),\"\"),\"\"),\"\")),IF(C16=\"\",\"\",IF(AND(Calculos!D33>0.17,Calculos!D33<=0.25),IF(AND(C10<=1.3,C10>1.15,C19<=2.5),ROUND(0.29584+(0.76142*C18)-(0.6038*C18^2)+(0.03953*C18^3),2),\"\"),\"\")))","v":""},{"$f":"IF(C17<=0.8,IF(C16=\"\",\"\",IF(AND(Calculos!D33>0.17,Calculos!D33<=0.25),IF(AND(C10<=1.3,C10>1.15),IF(C19<=2.5,ROUND(0.05-(0.09375*C18),2),\"\"),\"\"),\"\")),IF(C16=\"\",\"\",IF(AND(Calculos!D33>0.17,Calculos!D33<=0.25),IF(AND(C10<=1.3,C10>1.15,C19<=2.5),ROUND(0.05-(0.1*C18),2),\"\"),\"\")))","v":""},{"$f":"IF(C16=\"\",\"\",IF(OR(F11=\"Proceed to the Criterion 1\",F10=\"Proceed to the Criterion 1\",F9=\"Proceed to the Criterion 1\"),IF(AND(Calculos!D33>0.17,Calculos!D33<=0.25),IF(E20=\"\",\"\",IF(AND(C16>E20,C16<=D20),\"Proceed to the Criterion 2\",\"\"))),\"\"))","v":""},null,{"$f":"IF(C16=\"\",\"\",IF(OR(F11=\"Proceed to the Criterion 1\",F10=\"Proceed to the Criterion 1\",F9=\"Proceed to the Criterion 1\"),IF(AND(Calculos!D33>0.17,Calculos!D33<=0.25),IF(E16=\"\",\"\",IF(AND(C16>E16,C16<=D16),\"Proceed to the Criterion 2\",\"\"))),\"\"))","v":""}]
[null,null,null,{"$f":"IF(C17<=0.8,IF(C16=\"\",\"\",IF(AND(Calculos!D33>0.17,Calculos!D33<=0.25),IF(C10<=1.15,IF(C19>3,ROUND(0.2074+(0.87466*C18)-(0.30984*C18^2)-(0.11587*C18^3),2),\"\"),\"\"),\"\")),IF(C16=\"\",\"\",IF(AND(Calculos!D33>0.17,Calculos!D33<=0.25),IF(AND(C10<=1.15,C19>3),ROUND(0.1053+(0.48566*C18)-(0.13986*C18^2)+(0.09866*C18^3),2),\"\"),\"\")))","v":""},{"$f":"IF(C17<=0.8,IF(C16=\"\",\"\",IF(AND(Calculos!D33>0.17,Calculos!D33<=0.25),IF(C10<=1.15,IF(C19>3,ROUND(-0.42+(0.3*C18),2),\"\"),\"\"),\"\")),IF(C16=\"\",\"\",IF(AND(Calculos!D33>0.17,Calculos!D33<=0.25),IF(AND(C10<=1.15,C19>3),-0.3,\"\"),\"\")))","v":""},{"$f":"IF(C16=\"\",\"\",IF(OR(F11=\"Proceed to the Criterion 1\",F10=\"Proceed to the Criterion 1\",F9=\"Proceed to the Criterion 1\"),IF(AND(Calculos!D33>0.17,Calculos!D33<=0.25),IF(E20=\"\",\"\",IF(C16<=E20,\"The oil is coherent\",\"\"))),\"\"))","v":""},null,{"$f":"IF(C16=\"\",\"\",IF(OR(F11=\"Proceed to the Criterion 1\",F10=\"Proceed to the Criterion 1\",F9=\"Proceed to the Criterion 1\"),IF(AND(Calculos!D33>0.17,Calculos!D33<=0.25),IF(E16=\"\",\"\",IF(C16<=E16,\"The oil is coherent\",\"\"))),\"\"))","v":""}]
[null,null,null,{"$f":"IF(C17<=0.8,IF(C16=\"\",\"\",IF(AND(Calculos!D33>0.17,Calculos!D33<=0.25),IF(C10<=1.15,IF(AND(C19<=3,C19>2),ROUND(0.45026+(0.41784*C18)+(0.12692*C18^2)-(0.26129*C18^3),2),\"\"),\"\"),\"\")),IF(C16=\"\",\"\",IF(AND(Calculos!D33>0.17,Calculos!D33<=0.25),IF(AND(C10<=1.15,C19<=3,C19>2),ROUND(0.29584+(0.76142*C18)-(0.6038*C18^2)+(0.03953*C18^3),2),\"\"),\"\")))","v":""},{"$f":"IF(C17<=0.8,IF(C16=\"\",\"\",IF(AND(Calculos!D33>0.17,Calculos!D33<=0.25),IF(C10<=1.15,IF(AND(C19<=3,C19>2),ROUND(-0.26111+(0.27778*C18),2),\"\"),\"\"),\"\")),IF(C16=\"\",\"\",IF(AND(Calculos!D33>0.17,Calculos!D33<=0.25),IF(AND(C10<=1.15,C19<=3,C19>2),ROUND(0.1-(0.23333*C18),2),\"\"),\"\")))","v":""},{"$f":"IF(C16=\"\",\"\",IF(OR(F11=\"Proceed to the Criterion 1\",F10=\"Proceed to the Criterion 1\",F9=\"Proceed to the Criterion 1\"),IF(AND(Calculos!D33>0.17,Calculos!D33<=0.25),IF(E21=\"\",\"\",IF(C16>D21,\"The oil is not coherent\",\"\"))),\"\"))","v":""},null,{"$f":"IF(C16=\"\",\"\",IF(OR(F11=\"Proceed to the Criterion 1\",F10=\"Proceed to the Criterion 1\",F9=\"Proceed to the Criterion 1\"),IF(AND(Calculos!D33>0.17,Calculos!D33<=0.25),IF(E17=\"\",\"\",IF(C16>D17,\"The oil is not coherent\",\"\"))),\"\"))","v":""}]
[null,null,null,{"$f":"IF(C17<=0.8,IF(C16=\"\",\"\",IF(AND(Calculos!D33>0.17,Calculos!D33<=0.25),IF(C10<=1.15,IF(C19<=2,ROUND(0.45538+(0.35787*C18)+(0.10462*C18^2)-(0.23046*C18^3),2),\"\"),\"\"),\"\")),IF(C16=\"\",\"\",IF(AND(Calculos!D33>0.17,Calculos!D33<=0.25),IF(AND(C10<=1.15,C19<=2),ROUND(0.29846+(0.6868*C18)-(0.37055*C18^2)-(0.13477*C18^3),2),\"\"),\"\")))","v":""},{"$f":"IF(C17<=0.8,IF(C16=\"\",\"\",IF(AND(Calculos!D33>0.17,Calculos!D33<=0.25),IF(C10<=1.15,IF(C19<=2,ROUND(0+(0.2*C18),2),\"\"),\"\"),\"\")),IF(C16=\"\",\"\",IF(AND(Calculos!D33>0.17,Calculos!D33<=0.25),IF(AND(C10<=1.15,C19<=2),ROUND(0-(0.04615*C18),2),\"\"),\"\")))","v":""},{"$f":"IF(C16=\"\",\"\",IF(OR(F11=\"Proceed to the Criterion 1\",F10=\"Proceed to the Criterion 1\",F9=\"Proceed to the Criterion 1\"),IF(AND(Calculos!D33>0.17,Calculos!D33<=0.25),IF(E21=\"\",\"\",IF(AND(C16>E21,C16<=D21),\"Proceed to the Criterion 2\",\"\"))),\"\"))","v":""},null,{"$f":"IF(C16=\"\",\"\",IF(OR(F11=\"Proceed to the Criterion 1\",F10=\"Proceed to the Criterion 1\",F9=\"Proceed to the Criterion 1\"),IF(AND(Calculos!D33>0.17,Calculos!D33<=0.25),IF(E17=\"\",\"\",IF(AND(C16>E17,C16<=D17),\"Proceed to the Criterion 2\",\"\"))),\"\"))","v":""}]
[null,null,null,null,null,{"$f":"IF(C16=\"\",\"\",IF(OR(F11=\"Proceed to the Criterion 1\",F10=\"Proceed to the Criterion 1\",F9=\"Proceed to the Criterion 1\"),IF(AND(Calculos!D33>0.17,Calculos!D33<=0.25),IF(E21=\"\",\"\",IF(C16<=E21,\"The oil is coherent\",\"\"))),\"\"))","v":""},null,{"$f":"IF(C16=\"\",\"\",IF(OR(F11=\"Proceed to the Criterion 1\",F10=\"Proceed to the Criterion 1\",F9=\"Proceed to the Criterion 1\"),IF(AND(Calculos!D33>0.17,Calculos!D33<=0.25),IF(E17=\"\",\"\",IF(C16<=E17,\"The oil is coherent\",\"\"))),\"\"))","v":""}]
[null,null,null,null,null,{"$f":"IF(C16=\"\",\"\",IF(OR(F11=\"Proceed to the Criterion 1\",F10=\"Proceed to the Criterion 1\",F9=\"Proceed to the Criterion 1\"),IF(AND(Calculos!D33>0.17,Calculos!D33<=0.25),IF(E22=\"\",\"\",IF(C16>D22,\"The oil is not coherent\",\"\"))),\"\"))","v":""},null,{"$f":"IF(C16=\"\",\"\",IF(OR(F11=\"Proceed to the Criterion 1\",F10=\"Proceed to the Criterion 1\",F9=\"Proceed to the Criterion 1\"),IF(AND(Calculos!D33>0.17,Calculos!D33<=0.25),IF(E18=\"\",\"\",IF(C16>D18,\"The oil is not coherent\",\"\"))),\"\"))","v":""}]
[null,null,null,null,null,{"$f":"IF(C16=\"\",\"\",IF(OR(F11=\"Proceed to the Criterion 1\",F10=\"Proceed to the Criterion 1\",F9=\"Proceed to the Criterion 1\"),IF(AND(Calculos!D33>0.17,Calculos!D33<=0.25),IF(E22=\"\",\"\",IF(AND(C16>E22,C16<=D22),\"Proceed to the Criterion 2\",\"\"))),\"\"))","v":""},null,{"$f":"IF(C16=\"\",\"\",IF(OR(F11=\"Proceed to the Criterion 1\",F10=\"Proceed to the Criterion 1\",F9=\"Proceed to the Criterion 1\"),IF(AND(Calculos!D33>0.17,Calculos!D33<=0.25),IF(E18=\"\",\"\",IF(AND(C16>E18,C16<=D18),\"Proceed to the Criterion 2\",\"\"))),\"\"))","v":""}]
[null,null,null,null,null,{"$f":"IF(C16=\"\",\"\",IF(OR(F11=\"Proceed to the Criterion 1\",F10=\"Proceed to the Criterion 1\",F9=\"Proceed to the Criterion 1\"),IF(AND(Calculos!D33>0.17,Calculos!D33<=0.25),IF(E22=\"\",\"\",IF(C16<=E22,\"The oil is coherent\",\"\"))),\"\"))","v":""},null,{"$f":"IF(C16=\"\",\"\",IF(OR(F11=\"Proceed to the Criterion 1\",F10=\"Proceed to the Criterion 1\",F9=\"Proceed to the Criterion 1\"),IF(AND(Calculos!D33>0.17,Calculos!D33<=0.25),IF(E18=\"\",\"\",IF(C16<=E18,\"The oil is coherent\",\"\"))),\"\"))","v":""}]
[]
[null,"Criterion 2 L3 "]
[null,"Parameter","Value","Higher Limit","Lower Limit",{"$f":"IF(C30=\"\",\"\",IF(OR(F25=\"Proceed to the Criterion 2\",F22=\"Proceed to the Criterion 2\",F19=\"Proceed to the Criterion 2\",F16=\"Proceed to the Criterion 2\",H25=\"Proceed to the Criterion 2\",H22=\"Proceed to the Criterion 2\",H19=\"Proceed to the Criterion 2\"),IF(AND(Calculos!D33>0.17,Calculos!D33<=0.25),IF(E33=\"\",\"\",IF(C30>D33,\"The oil is not coherent\",\"\"))),\"\"))","v":""}]
[null,"L3 =",{"$f":"IF('Experimental Data'!E27=\"\",\"\",IF(AND(Calculos!D33>0.17,Calculos!D33<=0.25),Calculos!J19,\"\"))","v":""},{"$f":"IF(C31<=0.8,IF(C30=\"\",\"\",IF(AND(Calculos!D33>0.17,Calculos!D33<=0.25),IF(C10>1.3,IF(C33>3,ROUND(-2.32714+(3.45734*C32)-(1.41667*C32^2)+(0.17361*C32^3),2),\"\"),\"\"),\"\")),\"\")","v":""},{"$f":"IF(C31<=0.8,IF(C30=\"\",\"\",IF(AND(Calculos!D33>0.17,Calculos!D33<=0.25),IF(C10>1.3,IF(C33>3,0.12,\"\"),\"\"),\"\")),\"\")","v":""},{"$f":"IF(C30=\"\",\"\",IF(OR(F25=\"Proceed to the Criterion 2\",F22=\"Proceed to the Criterion 2\",F19=\"Proceed to the Criterion 2\",F16=\"Proceed to the Criterion 2\",H25=\"Proceed to the Criterion 2\",H22=\"Proceed to the Criterion 2\",H19=\"Proceed to the Criterion 2\"),IF(AND(Calculos!D33>0.17,Calculos!D33<=0.25),IF(E33=\"\",\"\",IF(AND(C30>E33,C30<=D33),\"Proceed to the Criterion 3\",\"\"))),\"\"))","v":""}]
[null,"Ln =",{"$f":"IF(C30=\"\",\"\",IF('Experimental Data'!E27=\"\",\"\",IF(AND(Calculos!D33>0.17,Calculos!D33<=0.25),'Experimental Data'!K21,\"\")))","v":""},{"$f":"IF(C31<=0.8,IF(C30=\"\",\"\",IF(AND(Calculos!D33>0.17,Calculos!D33<=0.25),IF(C10>1.3,IF(C33<=3,ROUND(-0.1856+(1.48323*C32)-(0.96131*C32^2)+(0.12153*C32^3),2),\"\"),\"\"),\"\")),IF(C30=\"\",\"\",IF(AND(Calculos!D33>0.17,Calculos!D33<=0.25),IF(C10>1.3,ROUND(0.29727+(0.31489*C32)-(0.18887*C32^2)+(0.01519*C32^3),2),\"\"),\"\")))","v":""},{"$f":"IF(C31<=0.8,IF(C30=\"\",\"\",IF(AND(Calculos!D33>0.17,Calculos!D33<=0.25),IF(C10>1.3,IF(C33<=3,ROUND(0.285-(0.27273*C32),2),\"\"),\"\"),\"\")),IF(C30=\"\",\"\",IF(AND(Calculos!D33>0.17,Calculos!D33<=0.25),IF(C10>1.3,ROUND(0.3375-(0.125*C32),2),\"\"),\"\")))","v":""},{"$f":"IF(C30=\"\",\"\",IF(OR(F25=\"Proceed to the Criterion 2\",F22=\"Proceed to the Criterion 2\",F19=\"Proceed to the Criterion 2\",F16=\"Proceed to the Criterion 2\",H25=\"Proceed to the Criterion 2\",H22=\"Proceed to the Criterion 2\",H19=\"Proceed to the Criterion 2\"),IF(AND(Calculos!D33>0.17,Calculos!D33<=0.25),IF(E33=\"\",\"\",IF(C30<=E33,\"The oil is coherent\",\"\"))),\"\"))","v":""}]
[null,"DECN44p =",{"$f":"IF(C30=\"\",\"\",IF('Experimental Data'!E27=\"\",\"\",IF(AND(Calculos!D33>0.17,Calculos!D33<=0.25),Calculos!B38,\"\")))","v":""},{"$f":"IF(C31<=0.8,IF(C30=\"\",\"\",IF(AND(Calculos!D33>0.17,Calculos!D33<=0.25),IF(AND(C10<=1.3,C10>1.15),IF(C33>2.5,ROUND(0.30396+(0.47098*C32)-(0.09309*C32^2)-(0.12019*C32^3),2),\"\"),\"\"),\"\")),IF(C30=\"\",\"\",IF(AND(Calculos!D33>0.17,Calculos!D33<=0.25),IF(AND(C10<=1.3,C10>1.15,C33>2.5),ROUND(0.29873+(0.5781*C32)-(0.35488*C32^2)+(0.00985*C32^3),2),\"\"),\"\")))","v":""},{"$f":"IF(C31<=0.8,IF(C30=\"\",\"\",IF(AND(Calculos!D33>0.17,Calculos!D33<=0.25),IF(AND(C10<=1.3,C10>1.15),IF(C33>2.5,ROUND(0.35-(0.1*C32),2),\"\"),\"\"),\"\")),IF(C30=\"\",\"\",IF(AND(Calculos!D33>0.17,Calculos!D33<=0.25),IF(AND(C10<=1.3,C10>1.15,C33>2.5),0.22,\"\"),\"\")))","v":""},{"$f":"IF(C30=\"\",\"\",IF(OR(F25=\"Proceed to the Criterion 2\",F22=\"Proceed to the Criterion 2\",F19=\"Proceed to the Criterion 2\",F16=\"Proceed to the Criterion 2\",H25=\"Proceed to the Criterion 2\",H22=\"Proceed to the Criterion 2\",H19=\"Proceed to the Criterion 2\"),IF(AND(Calculos!D33>0.17,Calculos!D33<=0.25),IF(E34=\"\",\"\",IF(C30>D34,\"The oil is not coherent\",\"\"))),\"\"))","v":""},null,{"$f":"IF(C30=\"\",\"\",IF(OR(F25=\"Proceed to the Criterion 2\",F22=\"Proceed to the Criterion 2\",F19=\"Proceed to the Criterion 2\",F16=\"Proceed to the Criterion 2\",H25=\"Proceed to the Criterion 2\",H22=\"Proceed to the Criterion 2\",H19=\"Proceed to the Criterion 2\"),IF(AND(Calculos!D33>0.17,Calculos!D33<=0.25),IF(E30=\"\",\"\",IF(C30>D30,\"The oil is not coherent\",\"\"))),\"\"))","v":""}]
[null,"DOOL =",{"$f":"IF(C30=\"\",\"\",IF('Experimental Data'!E27=\"\",\"\",IF(AND(Calculos!D33>0.17,Calculos!D33<=0.25),ROUND(Calculos!B58,2),\"\")))","v":""},{"$f":"IF(C31<=0.8,IF(C30=\"\",\"\",IF(AND(Calculos!D33>0.17,Calculos!D33<=0.25),IF(AND(C10<=1.3,C10>1.15),IF(C33<=2.5,ROUND(0.18356+(0.68448*C32)-(0.272*C32^2)-(0.06884*C32^3),2),\"\"),\"\"),\"\")),IF(C30=\"\",\"\",IF(AND(Calculos!D33>0.17,Calculos!D33<=0.25),IF(AND(C10<=1.3,C10>1.15,C33<=2.5),ROUND(0.3993+(0.30108*C32)-(0.23789*C32^2)+(0.01368*C32^3),2),\"\"),\"\")))","v":""},{"$f":"IF(C31<=0.8,IF(C30=\"\",\"\",IF(AND(Calculos!D33>0.17,Calculos!D33<=0.25),IF(AND(C10<=1.3,C10>1.15),IF(C33<=2.5,ROUND(0.45-(0.0833*C32),2),\"\"),\"\"),\"\")),IF(C30=\"\",\"\",IF(AND(Calculos!D33>0.17,Calculos!D33<=0.25),IF(AND(C10<=1.3,C10>1.15,C33<=2.5),ROUND(0.35-(0.1154*C32),2),\"\"),\"\")))","v":""},{"$f":"IF(C30=\"\",\"\",IF(OR(F25=\"Proceed to the Criterion 2\",F22=\"Proceed to the Criterion 2\",F19=\"Proceed to the Criterion 2\",F16=\"Proceed to the Criterion 2\",H25=\"Proceed to the Criterion 2\",H22=\"Proceed to the Criterion 2\",H19=\"Proceed to the Criterion 2\"),IF(AND(Calculos!D33>0.17,Calculos!D33<=0.25),IF(E34=\"\",\"\",IF(AND(C30>E34,C30<=D34),\"Proceed to the Criterion 3\",\"\"))),\"\"))","v":""},null,{"$f":"IF(C30=\"\",\"\",IF(OR(F25=\"Proceed to the Criterion 2\",F22=\"Proceed to the Criterion 2\",F19=\"Proceed to the Criterion 2\",F16=\"Proceed to the Criterion 2\",H25=\"Proceed to the Criterion 2\",H22=\"Proceed to the Criterion 2\",H19=\"Proceed to the Criterion 2\"),IF(AND(Calculos!D33>0.17,Calculos!D33<=0.25),IF(E30=\"\",\"\",IF(AND(C30>E30,C30<=D30),\"Proceed to the Criterion 3\",\"\"))),\"\"))","v":""}]
[null,null,null,{"$f":"IF(C31<=0.8,IF(C30=\"\",\"\",IF(AND(Calculos!D33>0.17,Calculos!D33<=0.25),IF(C10<=1.15,IF(C33>3,ROUND(0.30396+(0.47098*C32)-(0.09309*C32^2)-(0.12019*C32^3),2),\"\"),\"\"),\"\")),\"\")","v":""},{"$f":"IF(C31<=0.8,IF(C30=\"\",\"\",IF(AND(Calculos!D33>0.17,Calculos!D33<=0.25),IF(C10<=1.15,IF(C33>3,0.26,\"\"),\"\"),\"\")),\"\")","v":""},{"$f":"IF(C30=\"\",\"\",IF(OR(F25=\"Proceed to the Criterion 2\",F22=\"Proceed to the Criterion 2\",F19=\"Proceed to the Criterion 2\",F16=\"Proceed to the Criterion 2\",H25=\"Proceed to the Criterion 2\",H22=\"Proceed to the Criterion 2\",H19=\"Proceed to the Criterion 2\"),IF(AND(Calculos!D33>0.17,Calculos!D33<=0.25),IF(E34=\"\",\"\",IF(C30<=E34,\"The oil is coherent\",\"\"))),\"\"))","v":""},null,{"$f":"IF(C30=\"\",\"\",IF(OR(F25=\"Proceed to the Criterion 2\",F22=\"Proceed to the Criterion 2\",F19=\"Proceed to the Criterion 2\",F16=\"Proceed to the Criterion 2\",H25=\"Proceed to the Criterion 2\",H22=\"Proceed to the Criterion 2\",H19=\"Proceed to the Criterion 2\"),IF(AND(Calculos!D33>0.17,Calculos!D33<=0.25),IF(E30=\"\",\"\",IF(C30<=E30,\"The oil is coherent\",\"\"))),\"\"))","v":""}]
[null,null,null,{"$f":"IF(C31<=0.8,IF(C30=\"\",\"\",IF(AND(Calculos!D33>0.17,Calculos!D33<=0.25),IF(C10<=1.15,IF(AND(C33<=3,C33>2),ROUND(0.20013+(0.71774*C32)-(0.27943*C32^2)-(0.07503*C32^3),2),\"\"),\"\"),\"\")),IF(C30=\"\",\"\",IF(AND(Calculos!D33>0.17,Calculos!D33<=0.25),IF(AND(C10<=1.15,C33>2),ROUND(0.29591+(0.45833*C32)-(0.24533*C32^2)-(0.01358*C32^3),2),\"\"),\"\")))","v":""},{"$f":"IF(C31<=0.8,IF(C30=\"\",\"\",IF(AND(Calculos!D33>0.17,Calculos!D33<=0.25),IF(C10<=1.15,IF(AND(C33<=3,C33>2),ROUND(0.4-(0.2*C32),2),\"\"),\"\"),\"\")),IF(C30=\"\",\"\",IF(AND(Calculos!D33>0.17,Calculos!D33<=0.25),IF(AND(C10<=1.15,C33>2),ROUND(0.26-(0.07692*C32),2),\"\"),\"\")))","v":""},{"$f":"IF(C30=\"\",\"\",IF(OR(F25=\"Proceed to the Criterion 2\",F22=\"Proceed to the Criterion 2\",F19=\"Proceed to the Criterion 2\",F16=\"Proceed to the Criterion 2\",H25=\"Proceed to the Criterion 2\",H22=\"Proceed to the Criterion 2\",H19=\"Proceed to the Criterion 2\"),IF(AND(Calculos!D33>0.17,Calculos!D33<=0.25),IF(E35=\"\",\"\",IF(C30>D35,\"The oil is not coherent\",\"\"))),\"\"))","v":""},null,{"$f":"IF(C30=\"\",\"\",IF(OR(F25=\"Proceed to the Criterion 2\",F22=\"Proceed to the Criterion 2\",F19=\"Proceed to the Criterion 2\",F16=\"Proceed to the Criterion 2\",H25=\"Proceed to the Criterion 2\",H22=\"Proceed to the Criterion 2\",H19=\"Proceed to the Criterion 2\"),IF(AND(Calculos!D33>0.17,Calculos!D33<=0.25),IF(E31=\"\",\"\",IF(C30>D31,\"The oil is not coherent\",\"\"))),\"\"))","v":""}]
[null,null,null,{"$f":"IF(C31<=0.8,IF(C30=\"\",\"\",IF(AND(Calculos!D33>0.17,Calculos!D33<=0.25),IF(C10<=1.15,IF(C33<=2,ROUND(0.20356+(0.68448*C32)-(0.272*C32^2)-(0.06884*C32^3),2),\"\"),\"\"),\"\")),IF(C30=\"\",\"\",IF(AND(Calculos!D33>0.17,Calculos!D33<=0.25),IF(AND(C10<=1.15,C33<=2),ROUND(0.4427+(0.31584*C32)-(0.25999*C32^2)+(0.01466*C32^3),2),\"\"),\"\")))","v":""},{"$f":"IF(C31<=0.8,IF(C30=\"\",\"\",IF(AND(Calculos!D33>0.17,Calculos!D33<=0.25),IF(C10<=1.15,IF(C33<=2,ROUND(0.465-(0.2875*C32),2),\"\"),\"\"),\"\")),IF(C30=\"\",\"\",IF(AND(Calculos!D33>0.17,Calculos!D33<=0.25),IF(AND(C10<=1.15,C33<=2),ROUND(0.35-(0.1275*C32),2),\"\"),\"\")))","v":""},{"$f":"IF(C30=\"\",\"\",IF(OR(F25=\"Proceed to the Criterion 2\",F22=\"Proceed to the Criterion 2\",F19=\"Proceed to the Criterion 2\",F16=\"Proceed to the Criterion 2\",H25=\"Proceed to the Criterion 2\",H22=\"Proceed to the Criterion 2\",H19=\"Proceed to the Criterion 2\"),IF(AND(Calculos!D33>0.17,Calculos!D33<=0.25),IF(E35=\"\",\"\",IF(AND(C30>E35,C30<=D35),\"Proceed to the Criterion 3\",\"\"))),\"\"))","v":""},null,{"$f":"IF(C30=\"\",\"\",IF(OR(F25=\"Proceed to the Criterion 2\",F22=\"Proceed to the Criterion 2\",F19=\"Proceed to the Criterion 2\",F16=\"Proceed to the Criterion 2\",H25=\"Proceed to the Criterion 2\",H22=\"Proceed to the Criterion 2\",H19=\"Proceed to the Criterion 2\"),IF(AND(Calculos!D33>0.17,Calculos!D33<=0.25),IF(E31=\"\",\"\",IF(AND(C30>E31,C30<=D31),\"Proceed to the Criterion 3\",\"\"))),\"\"))","v":""}]
[null,null,null,null,null,{"$f":"IF(C30=\"\",\"\",IF(OR(F25=\"Proceed to the Criterion 2\",F22=\"Proceed to the Criterion 2\",F19=\"Proceed to the Criterion 2\",F16=\"Proceed to the Criterion 2\",H25=\"Proceed to the Criterion 2\",H22=\"Proceed to the Criterion 2\",H19=\"Proceed to the Criterion 2\"),IF(AND(Calculos!D33>0.17,Calculos!D33<=0.25),IF(E35=\"\",\"\",IF(C30<=E35,\"The oil is coherent\",\"\"))),\"\"))","v":""},null,{"$f":"IF(C30=\"\",\"\",IF(OR(F25=\"Proceed to the Criterion 2\",F22=\"Proceed to the Criterion 2\",F19=\"Proceed to the Criterion 2\",F16=\"Proceed to the Criterion 2\",H25=\"Proceed to the Criterion 2\",H22=\"Proceed to the Criterion 2\",H19=\"Proceed to the Criterion 2\"),IF(AND(Calculos!D33>0.17,Calculos!D33<=0.25),IF(E31=\"\",\"\",IF(C30<=E31,\"The oil is coherent\",\"\"))),\"\"))","v":""}]
[null,null,null,null,null,{"$f":"IF(C30=\"\",\"\",IF(OR(F25=\"Proceed to the Criterion 2\",F22=\"Proceed to the Criterion 2\",F19=\"Proceed to the Criterion 2\",F16=\"Proceed to the Criterion 2\",H25=\"Proceed to the Criterion 2\",H22=\"Proceed to the Criterion 2\",H19=\"Proceed to the Criterion 2\"),IF(AND(Calculos!D33>0.17,Calculos!D33<=0.25),IF(E36=\"\",\"\",IF(C30>D36,\"The oil is not coherent\",\"\"))),\"\"))","v":""},null,{"$f":"IF(C30=\"\",\"\",IF(OR(F25=\"Proceed to the Criterion 2\",F22=\"Proceed to the Criterion 2\",F19=\"Proceed to the Criterion 2\",F16=\"Proceed to the Criterion 2\",H25=\"Proceed to the Criterion 2\",H22=\"Proceed to the Criterion 2\",H19=\"Proceed to the Criterion 2\"),IF(AND(Calculos!D33>0.17,Calculos!D33<=0.25),IF(E32=\"\",\"\",IF(C30>D32,\"The oil is not coherent\",\"\"))),\"\"))","v":""}]
[null,null,null,null,null,{"$f":"IF(C30=\"\",\"\",IF(OR(F25=\"Proceed to the Criterion 2\",F22=\"Proceed to the Criterion 2\",F19=\"Proceed to the Criterion 2\",F16=\"Proceed to the Criterion 2\",H25=\"Proceed to the Criterion 2\",H22=\"Proceed to the Criterion 2\",H19=\"Proceed to the Criterion 2\"),IF(AND(Calculos!D33>0.17,Calculos!D33<=0.25),IF(E36=\"\",\"\",IF(AND(C30>E36,C30<=D36),\"Proceed to the Criterion 3\",\"\"))),\"\"))","v":""},null,{"$f":"IF(C30=\"\",\"\",IF(OR(F25=\"Proceed to the Criterion 2\",F22=\"Proceed to the Criterion 2\",F19=\"Proceed to the Criterion 2\",F16=\"Proceed to the Criterion 2\",H25=\"Proceed to the Criterion 2\",H22=\"Proceed to the Criterion 2\",H19=\"Proceed to the Criterion 2\"),IF(AND(Calculos!D33>0.17,Calculos!D33<=0.25),IF(E32=\"\",\"\",IF(AND(C30>E32,C30<=D32),\"Proceed to the Criterion 3\",\"\"))),\"\"))","v":""}]
[null,null,null,null,null,{"$f":"IF(C30=\"\",\"\",IF(OR(F25=\"Proceed to the Criterion 2\",F22=\"Proceed to the Criterion 2\",F19=\"Proceed to the Criterion 2\",F16=\"Proceed to the Criterion 2\",H25=\"Proceed to the Criterion 2\",H22=\"Proceed to the Criterion 2\",H19=\"Proceed to the Criterion 2\"),IF(AND(Calculos!D33>0.17,Calculos!D33<=0.25),IF(E36=\"\",\"\",IF(C30<=E36,\"The oil is coherent\",\"\"))),\"\"))","v":""},null,{"$f":"IF(C30=\"\",\"\",IF(OR(F25=\"Proceed to the Criterion 2\",F22=\"Proceed to the Criterion 2\",F19=\"Proceed to the Criterion 2\",F16=\"Proceed to the Criterion 2\",H25=\"Proceed to the Criterion 2\",H22=\"Proceed to the Criterion 2\",H19=\"Proceed to the Criterion 2\"),IF(AND(Calculos!D33>0.17,Calculos!D33<=0.25),IF(E32=\"\",\"\",IF(C30<=E32,\"The oil is coherent\",\"\"))),\"\"))","v":""}]
[]
[null,"Criterion 3 R1 exp."]
[null,"Parameter","Value","Higher Limit","Lower Limit",{"$f":"IF(C44=\"\",\"\",IF(OR(F39=\"Proceed to the Criterion 3\",F36=\"Proceed to the Criterion 3\",F33=\"Proceed to the Criterion 3\",F30=\"Proceed to the Criterion 3\",H39=\"Proceed to the Criterion 3\",H36=\"Proceed to the Criterion 3\",H33=\"Proceed to the Criterion 3\"),IF(AND(Calculos!D33>0.17,Calculos!D33<=0.25),IF(E47=\"\",\"\",IF(C44>D47,\"The oil is not coherent\",\"\")),\"\"),\"\"))","v":""}]
[null,"R1 exp =",{"$f":"IF('Experimental Data'!E27=\"\",\"\",IF(AND(Calculos!D33>0.17,Calculos!D33<=0.25),Calculos!B19,\"\"))","v":""},{"$f":"IF(C46<=0.8,IF(C44=\"\",\"\",IF(AND(Calculos!D33>0.17,Calculos!D33<=0.25),IF(C10>1.3,IF(C47>3,0.76,\"\"),\"\"),\"\")),\"\")","v":""},{"$f":"IF(C46<=0.8,IF(C44=\"\",\"\",IF(AND(Calculos!D33>0.17,Calculos!D33<=0.25),IF(C10>1.3,IF(C47>3,0.65,\"\"),\"\"),\"\")),\"\")","v":""},{"$f":"IF(C44=\"\",\"\",IF(OR(F39=\"Proceed to the Criterion 3\",F36=\"Proceed to the Criterion 3\",F33=\"Proceed to the Criterion 3\",F30=\"Proceed to the Criterion 3\",H39=\"Proceed to the Criterion 3\",H36=\"Proceed to the Criterion 3\",H33=\"Proceed to the Criterion 3\"),IF(AND(Calculos!D33>0.17,Calculos!D33<=0.25),IF(E47=\"\",\"\",IF(AND(C44<=D47,C44>E47),\"Proceed to the Criterion 4\",\"\")),\"\"),\"\"))","v":""}]
[null,"DECN44p =",{"$f":"IF(C44=\"\",\"\",IF('Experimental Data'!E27=\"\",\"\",IF(AND(Calculos!D33>0.17,Calculos!D33<=0.25),Calculos!B38,\"\")))","v":""},{"$f":"IF(C46<=0.8,IF(C44=\"\",\"\",IF(AND(Calculos!D33>0.17,Calculos!D33<=0.25),IF(C10>1.3,IF(C47<=3,ROUND(0.40016+(1.01051*C45)-(0.49802*C45^2)-(0.01473*C45^3),2),\"\"),\"\"),\"\")),IF(C44=\"\",\"\",IF(AND(Calculos!D33>0.17,Calculos!D33<=0.25),IF(C10>1.3,ROUND(0.65274+(0.25559*C45)-(0.10633*C45^2)-(0.00296*C45^3),2),\"\"),\"\")))","v":""},{"$f":"IF(C46<=0.8,IF(C44=\"\",\"\",IF(AND(Calculos!D33>0.17,Calculos!D33<=0.25),IF(C10>1.3,IF(C47<=3,ROUND(0.76667-(0.08333*C45),2),\"\"),\"\"),\"\")),IF(C44=\"\",\"\",IF(AND(Calculos!D33>0.17,Calculos!D33<=0.25),IF(C10>1.3,ROUND(0.7-(0.04*C45),2),\"\"),\"\")))","v":""},{"$f":"IF(C44=\"\",\"\",IF(OR(F39=\"Proceed to the Criterion 3\",F36=\"Proceed to the Criterion 3\",F33=\"Proceed to the Criterion 3\",F30=\"Proceed to the Criterion 3\",H39=\"Proceed to the Criterion 3\",H36=\"Proceed to the Criterion 3\",H33=\"Proceed to the Criterion 3\"),IF(AND(Calculos!D33>0.17,Calculos!D33<=0.25),IF(E47=\"\",\"\",IF(C44<=E47,\"The oil is coherent\",\"\")),\"\"),\"\"))","v":""}]
[null,"Ln =",{"$f":"IF(C44=\"\",\"\",IF('Experimental Data'!E27=\"\",\"\",IF(AND(Calculos!D33>0.17,Calculos!D33<=0.25),'Experimental Data'!K21,\"\")))","v":""},{"$f":"IF(C46<=0.8,IF(C44=\"\",\"\",IF(AND(Calculos!D33>0.17,Calculos!D33<=0.25),IF(AND(C10<=1.3,C10>1.15),IF(C47>2.5,ROUND(0.69838+(0.62802*C45)-(0.29341*C45^2)-(0.03618*C45^3),2),\"\"),\"\"),\"\")),IF(C44=\"\",\"\",IF(AND(Calculos!D33>0.17,Calculos!D33<=0.25),IF(AND(C10<=1.3,C10>1.15,C47>2.5),ROUND(0.70126+(0.43219*C45)-(0.2095*C45^2)-(0.02817*C45^3),2),\"\"),\"\")))","v":""},{"$f":"IF(C46<=0.8,IF(C44=\"\",\"\",IF(AND(Calculos!D33>0.17,Calculos!D33<=0.25),IF(AND(C10<=1.3,C10>1.15),IF(C47>2.5,ROUND(0.7-(0.04286*C45)-(0.29341*C45^2)-(0.03618*C45^3),2),\"\"),\"\"),\"\")),IF(C44=\"\",\"\",IF(AND(Calculos!D33>0.17,Calculos!D33<=0.25),IF(AND(C10<=1.3,C10>1.15,C47>2.5),0.65,\"\"),\"\")))","v":""},{"$f":"IF(C44=\"\",\"\",IF(OR(F39=\"Proceed to the Criterion 3\",F36=\"Proceed to the Criterion 3\",F33=\"Proceed to the Criterion 3\",F30=\"Proceed to the Criterion 3\",H39=\"Proceed to the Criterion 3\",H36=\"Proceed to the Criterion 3\",H33=\"Proceed to the Criterion 3\"),IF(AND(Calculos!D33>0.17,Calculos!D33<=0.25),IF(E48=\"\",\"\",IF(C44>D48,\"The oil is not coherent\",\"\")),\"\"),\"\"))","v":""},null,{"$f":"IF(C44=\"\",\"\",IF(OR(F39=\"Proceed to the Criterion 3\",F36=\"Proceed to the Criterion 3\",F33=\"Proceed to the Criterion 3\",F30=\"Proceed to the Criterion 3\",H39=\"Proceed to the Criterion 3\",H36=\"Proceed to the Criterion 3\",H33=\"Proceed to the Criterion 3\"),IF(AND(Calculos!D33>0.17,Calculos!D33<=0.25),IF(E44=\"\",\"\",IF(C44>D44,\"The oil is not coherent\",\"\")),\"\"),\"\"))","v":""}]
[null,"DOOL =",{"$f":"IF(C44=\"\",\"\",IF('Experimental Data'!E27=\"\",\"\",IF(AND(Calculos!D33>0.17,Calculos!D33<=0.25),ROUND(Calculos!B58,2),\"\")))","v":""},{"$f":"IF(C46<=0.8,IF(C44=\"\",\"\",IF(AND(Calculos!D33>0.17,Calculos!D33<=0.25),IF(AND(C10<=1.3,C10>1.15),IF(C47<=2.5,ROUND(0.702+(0.53733*C45)-(0.1959*C45^2)-(0.06254*C45^3),2),\"\"),\"\"),\"\")),IF(C44=\"\",\"\",IF(AND(Calculos!D33>0.17,Calculos!D33<=0.25),IF(AND(C10<=1.3,C10>1.15,C47<=2.5),ROUND(0.70168+(0.38448*C45)-(0.18226*C45^2)-(0.02938*C45^3),2),\"\"),\"\")))","v":""},{"$f":"IF(C46<=0.8,IF(C44=\"\",\"\",IF(AND(Calculos!D33>0.17,Calculos!D33<=0.25),IF(AND(C10<=1.3,C10>1.15),IF(C47<=2.5,ROUND(0.75-(0.07857*C45),2),\"\"),\"\"),\"\")),IF(C44=\"\",\"\",IF(AND(Calculos!D33>0.17,Calculos!D33<=0.25),IF(AND(C10<=1.3,C10>1.15,C47<=2.5),ROUND(0.7-(0.9615*C45),2),\"\"),\"\")))","v":""},{"$f":"IF(C44=\"\",\"\",IF(OR(F39=\"Proceed to the Criterion 3\",F36=\"Proceed to the Criterion 3\",F33=\"Proceed to the Criterion 3\",F30=\"Proceed to the Criterion 3\",H39=\"Proceed to the Criterion 3\",H36=\"Proceed to the Criterion 3\",H33=\"Proceed to the Criterion 3\"),IF(AND(Calculos!D33>0.17,Calculos!D33<=0.25),IF(E48=\"\",\"\",IF(AND(C44<=D48,C44>E48),\"Proceed to the Criterion 4\",\"\")),\"\"),\"\"))","v":""},null,{"$f":"IF(C44=\"\",\"\",IF(OR(F39=\"Proceed to the Criterion 3\",F36=\"Proceed to the Criterion 3\",F33=\"Proceed to the Criterion 3\",F30=\"Proceed to the Criterion 3\",H39=\"Proceed to the Criterion 3\",H36=\"Proceed to the Criterion 3\",H33=\"Proceed to the Criterion 3\"),IF(AND(Calculos!D33>0.17,Calculos!D33<=0.25),IF(E44=\"\",\"\",IF(AND(C44<=D44,C44>E44),\"Proceed to the Criterion 4\",\"\")),\"\"),\"\"))","v":""}]
[null,null,null,{"$f":"IF(C46<=0.8,IF(C44=\"\",\"\",IF(AND(Calculos!D33>0.17,Calculos!D33<=0.25),IF(C10<=1.15,IF(C47>3,ROUND(0.79862+(0.41561*C45)-(0.2322*C45^2)-(0.02274*C45^3),2),\"\"),\"\"),\"\")),\"\")","v":""},{"$f":"IF(C46<=0.8,IF(C44=\"\",\"\",IF(AND(Calculos!D33>0.17,Calculos!D33<=0.25),IF(C10<=1.15,IF(C47>3,0.7,\"\"),\"\"),\"\")),\"\")","v":""},{"$f":"IF(C44=\"\",\"\",IF(OR(F39=\"Proceed to the Criterion 3\",F36=\"Proceed to the Criterion 3\",F33=\"Proceed to the Criterion 3\",F30=\"Proceed to the Criterion 3\",H39=\"Proceed to the Criterion 3\",H36=\"Proceed to the Criterion 3\",H33=\"Proceed to the Criterion 3\"),IF(AND(Calculos!D33>0.17,Calculos!D33<=0.25),IF(E48=\"\",\"\",IF(C44<=E48,\"The oil is coherent\",\"\")),\"\"),\"\"))","v":""},null,{"$f":"IF(C44=\"\",\"\",IF(OR(F39=\"Proceed to the Criterion 3\",F36=\"Proceed to the Criterion 3\",F33=\"Proceed to the Criterion 3\",F30=\"Proceed to the Criterion 3\",H39=\"Proceed to the Criterion 3\",H36=\"Proceed to the Criterion 3\",H33=\"Proceed to the Criterion 3\"),IF(AND(Calculos!D33>0.17,Calculos!D33<=0.25),IF(E44=\"\",\"\",IF(C44<=E44,\"The oil is coherent\",\"\")),\"\"),\"\"))","v":""}]
[null,null,null,{"$f":"IF(C46<=0.8,IF(C44=\"\",\"\",IF(AND(Calculos!D33>0.17,Calculos!D33<=0.25),IF(C10<=1.15,IF(AND(C47<=3,C47>2),ROUND(0.69838+(0.62802*C45)-(0.29341*C45^2)-(0.03618*C45^3),2),\"\"),\"\"),\"\")),IF(C44=\"\",\"\",IF(AND(Calculos!D33>0.17,Calculos!D33<=0.25),IF(AND(C10<=1.15,C47>2),ROUND(0.70126+(0.43219*C45)-(0.2095*C45^2)-(0.02817*C45^3),2),\"\"),\"\")))","v":""},{"$f":"IF(C46<=0.8,IF(C44=\"\",\"\",IF(AND(Calculos!D33>0.17,Calculos!D33<=0.25),IF(C10<=1.15,IF(AND(C47<=3,C47>2),0.62,\"\"),\"\"),\"\")),IF(C44=\"\",\"\",IF(AND(Calculos!D33>0.17,Calculos!D33<=0.25),IF(AND(C10<=1.15,C47>2),ROUND(0.65-(0.07692*C45),2),\"\"),\"\")))","v":""},{"$f":"IF(C44=\"\",\"\",IF(OR(F39=\"Proceed to the Criterion 3\",F36=\"Proceed to the Criterion 3\",F33=\"Proceed to the Criterion 3\",F30=\"Proceed to the Criterion 3\",H39=\"Proceed to the Criterion 3\",H36=\"Proceed to the Criterion 3\",H33=\"Proceed to the Criterion 3\"),IF(AND(Calculos!D33>0.17,Calculos!D33<=0.25),IF(E49=\"\",\"\",IF(C44>D49,\"The oil is not coherent\",\"\")),\"\"),\"\"))","v":""},null,{"$f":"IF(C44=\"\",\"\",IF(OR(F39=\"Proceed to the Criterion 3\",F36=\"Proceed to the Criterion 3\",F33=\"Proceed to the Criterion 3\",F30=\"Proceed to the Criterion 3\",H39=\"Proceed to the Criterion 3\",H36=\"Proceed to the Criterion 3\",H33=\"Proceed to the Criterion 3\"),IF(AND(Calculos!D33>0.17,Calculos!D33<=0.25),IF(E45=\"\",\"\",IF(C44>D45,\"The oil is not coherent\",\"\")),\"\"),\"\"))","v":""}]
[null,null,null,{"$f":"IF(C46<=0.8,IF(C44=\"\",\"\",IF(AND(Calculos!D33>0.17,Calculos!D33<=0.25),IF(C10<=1.15,IF(C47<=2,ROUND(0.69975+(0.54629*C45)-(0.14436*C45^2)-(0.14319*C45^3),2),\"\"),\"\"),\"\")),IF(C44=\"\",\"\",IF(AND(Calculos!D33>0.17,Calculos!D33<=0.25),IF(AND(C10<=1.15,C47<=2),ROUND(0.75409+(0.41814*C45)-(0.21527*C45^2)-(0.05638*C45^3),2),\"\"),\"\")))","v":""},{"$f":"IF(C46<=0.8,IF(C44=\"\",\"\",IF(AND(Calculos!D33>0.17,Calculos!D33<=0.25),IF(C10<=1.15,IF(C47<=2,ROUND(0.90714-(0.21429*C45),2),\"\"),\"\"),\"\")),IF(C44=\"\",\"\",IF(AND(Calculos!D33>0.17,Calculos!D33<=0.25),IF(AND(C10<=1.15,C47<=2),0.55,\"\"),\"\")))","v":""},{"$f":"IF(C44=\"\",\"\",IF(OR(F39=\"Proceed to the Criterion 3\",F36=\"Proceed to the Criterion 3\",F33=\"Proceed to the Criterion 3\",F30=\"Proceed to the Criterion 3\",H39=\"Proceed to the Criterion 3\",H36=\"Proceed to the Criterion 3\",H33=\"Proceed to the Criterion 3\"),IF(AND(Calculos!D33>0.17,Calculos!D33<=0.25),IF(E49=\"\",\"\",IF(AND(C44<=D49,C44>E49),\"Proceed to the Criterion 4\",\"\")),\"\"),\"\"))","v":""},null,{"$f":"IF(C44=\"\",\"\",IF(OR(F39=\"Proceed to the Criterion 3\",F36=\"Proceed to the Criterion 3\",F33=\"Proceed to the Criterion 3\",F30=\"Proceed to the Criterion 3\",H39=\"Proceed to the Criterion 3\",H36=\"Proceed to the Criterion 3\",H33=\"Proceed to the Criterion 3\"),IF(AND(Calculos!D33>0.17,Calculos!D33<=0.25),IF(E45=\"\",\"\",IF(AND(C44<=D45,C44>E45),\"Proceed to the Criterion 4\",\"\")),\"\"),\"\"))","v":""}]
[null,null,null,null,null,{"$f":"IF(C44=\"\",\"\",IF(OR(F39=\"Proceed to the Criterion 3\",F36=\"Proceed to the Criterion 3\",F33=\"Proceed to the Criterion 3\",F30=\"Proceed to the Criterion 3\",H39=\"Proceed to the Criterion 3\",H36=\"Proceed to the Criterion 3\",H33=\"Proceed to the Criterion 3\"),IF(AND(Calculos!D33>0.17,Calculos!D33<=0.25),IF(E49=\"\",\"\",IF(C44<=E49,\"The oil is coherent\",\"\")),\"\"),\"\"))","v":""},null,{"$f":"IF(C44=\"\",\"\",IF(OR(F39=\"Proceed to the Criterion 3\",F36=\"Proceed to the Criterion 3\",F33=\"Proceed to the Criterion 3\",F30=\"Proceed to the Criterion 3\",H39=\"Proceed to the Criterion 3\",H36=\"Proceed to the Criterion 3\",H33=\"Proceed to the Criterion 3\"),IF(AND(Calculos!D33>0.17,Calculos!D33<=0.25),IF(E45=\"\",\"\",IF(C44<=E45,\"The oil is coherent\",\"\")),\"\"),\"\"))","v":""}]
[null,null,null,null,null,{"$f":"IF(C44=\"\",\"\",IF(OR(F39=\"Proceed to the Criterion 3\",F36=\"Proceed to the Criterion 3\",F33=\"Proceed to the Criterion 3\",F30=\"Proceed to the Criterion 3\",H39=\"Proceed to the Criterion 3\",H36=\"Proceed to the Criterion 3\",H33=\"Proceed to the Criterion 3\"),IF(AND(Calculos!D33>0.17,Calculos!D33<=0.25),IF(E50=\"\",\"\",IF(C44>D50,\"The oil is not coherent\",\"\")),\"\"),\"\"))","v":""},null,{"$f":"IF(C44=\"\",\"\",IF(OR(F39=\"Proceed to the Criterion 3\",F36=\"Proceed to the Criterion 3\",F33=\"Proceed to the Criterion 3\",F30=\"Proceed to the Criterion 3\",H39=\"Proceed to the Criterion 3\",H36=\"Proceed to the Criterion 3\",H33=\"Proceed to the Criterion 3\"),IF(AND(Calculos!D33>0.17,Calculos!D33<=0.25),IF(E46=\"\",\"\",IF(C44>D46,\"The oil is not coherent\",\"\")),\"\"),\"\"))","v":""}]
[null,null,null,null,null,{"$f":"IF(C44=\"\",\"\",IF(OR(F39=\"Proceed to the Criterion 3\",F36=\"Proceed to the Criterion 3\",F33=\"Proceed to the Criterion 3\",F30=\"Proceed to the Criterion 3\",H39=\"Proceed to the Criterion 3\",H36=\"Proceed to the Criterion 3\",H33=\"Proceed to the Criterion 3\"),IF(AND(Calculos!D33>0.17,Calculos!D33<=0.25),IF(E50=\"\",\"\",IF(AND(C44<=D50,C44>E50),\"Proceed to the Criterion 4\",\"\")),\"\"),\"\"))","v":""},null,{"$f":"IF(C44=\"\",\"\",IF(OR(F39=\"Proceed to the Criterion 3\",F36=\"Proceed to the Criterion 3\",F33=\"Proceed to the Criterion 3\",F30=\"Proceed to the Criterion 3\",H39=\"Proceed to the Criterion 3\",H36=\"Proceed to the Criterion 3\",H33=\"Proceed to the Criterion 3\"),IF(AND(Calculos!D33>0.17,Calculos!D33<=0.25),IF(E46=\"\",\"\",IF(AND(C44<=D46,C44>E46),\"Proceed to the Criterion 4\",\"\")),\"\"),\"\"))","v":""}]
[null,null,null,null,null,{"$f":"IF(C44=\"\",\"\",IF(OR(F39=\"Proceed to the Criterion 3\",F36=\"Proceed to the Criterion 3\",F33=\"Proceed to the Criterion 3\",F30=\"Proceed to the Criterion 3\",H39=\"Proceed to the Criterion 3\",H36=\"Proceed to the Criterion 3\",H33=\"Proceed to the Criterion 3\"),IF(AND(Calculos!D33>0.17,Calculos!D33<=0.25),IF(E50=\"\",\"\",IF(C44<=E50,\"The oil is coherent\",\"\")),\"\"),\"\"))","v":""},null,{"$f":"IF(C44=\"\",\"\",IF(OR(F39=\"Proceed to the Criterion 3\",F36=\"Proceed to the Criterion 3\",F33=\"Proceed to the Criterion 3\",F30=\"Proceed to the Criterion 3\",H39=\"Proceed to the Criterion 3\",H36=\"Proceed to the Criterion 3\",H33=\"Proceed to the Criterion 3\"),IF(AND(Calculos!D33>0.17,Calculos!D33<=0.25),IF(E46=\"\",\"\",IF(C44<=E46,\"The oil is coherent\",\"\")),\"\"),\"\"))","v":""}]
[]
[null,"Criterion 4 DR1"]
[null,"Parameter","Value","Higher Limit","Lower Limit",{"$f":"IF(C58=\"\",\"\",IF(OR(F53=\"Proceed to the Criterion 4\",F50=\"Proceed to the Criterion 4\",F47=\"Proceed to the Criterion 4\",F44=\"Proceed to the Criterion 4\",H53=\"Proceed to the Criterion 4\",H50=\"Proceed to the Criterion 4\",H47=\"Proceed to the Criterion 4\"),IF(AND(Calculos!D33>0.17,Calculos!D33<=0.25),IF(D61=\"\",\"\",IF(C58>D61,\"The oil is not coherent\",\"\"))),\"\"))","v":""}]
[null,"DR1 =",{"$f":"IF('Experimental Data'!E27=\"\",\"\",IF(AND(Calculos!D33>0.17,Calculos!D33<=0.25),Calculos!B20,\"\"))","v":""},{"$f":"IF(C60<=0.8,IF(C58=\"\",\"\",IF(AND(Calculos!D33>0.17,Calculos!D33<=0.25),IF(C10>1.3,IF(C61>3,ROUND(-1.95355+(2.781744*C59)-(0.93586*C59^2)+(0.07081*C59^3),2),\"\"),\"\"),\"\")),\"\")","v":""},{"$f":"IF(C60<=0.8,IF(C58=\"\",\"\",IF(AND(Calculos!D33>0.17,Calculos!D33<=0.25),IF(C10>1.3,IF(C61>3,0.25,\"\"),\"\"),\"\")),\"\")","v":""},{"$f":"IF(C58=\"\",\"\",IF(OR(F53=\"Proceed to the Criterion 4\",F50=\"Proceed to the Criterion 4\",F47=\"Proceed to the Criterion 4\",F44=\"Proceed to the Criterion 4\",H53=\"Proceed to the Criterion 4\",H50=\"Proceed to the Criterion 4\",H47=\"Proceed to the Criterion 4\"),IF(AND(Calculos!D33>0.17,Calculos!D33<=0.25),IF(E61=\"\",\"\",IF(AND(C58>E61,C58<=D61),\"Proceed to the Criterion 5\",\"\"))),\"\"))","v":""}]
[null,"DECN44p =",{"$f":"IF(C58=\"\",\"\",IF('Experimental Data'!E27=\"\",\"\",IF(AND(Calculos!D33>0.17,Calculos!D33<=0.25),Calculos!B38,\"\")))","v":""},{"$f":"IF(C60<=0.8,IF(C58=\"\",\"\",IF(AND(Calculos!D33>0.17,Calculos!D33<=0.25),IF(C10>1.3,IF(C61<=3,ROUND(-0.07321+(0.98194*C59)-(0.3869*C59^2)-(0.06944*C59^3),2),\"\"),\"\"),\"\")),IF(C58=\"\",\"\",IF(AND(Calculos!D33>0.17,Calculos!D33<=0.25),IF(C10>1.3,ROUND(0.2988+(0.24837*C59)-(0.18047*C59^2)+(0.02927*C59^3),2),\"\"),\"\")))","v":""},{"$f":"IF(C60<=0.8,IF(C58=\"\",\"\",IF(AND(Calculos!D33>0.17,Calculos!D33<=0.25),IF(C10>1.3,IF(C61<=3,ROUND(0.46-(0.15714*C59),2),\"\"),\"\"),\"\")),IF(C58=\"\",\"\",IF(AND(Calculos!D33>0.17,Calculos!D33<=0.25),IF(C10>1.3,ROUND(0.29-(0.05*C59),2),\"\"),\"\")))","v":""},{"$f":"IF(C58=\"\",\"\",IF(OR(F53=\"Proceed to the Criterion 4\",F50=\"Proceed to the Criterion 4\",F47=\"Proceed to the Criterion 4\",F44=\"Proceed to the Criterion 4\",H53=\"Proceed to the Criterion 4\",H50=\"Proceed to the Criterion 4\",H47=\"Proceed to the Criterion 4\"),IF(AND(Calculos!D33>0.17,Calculos!D33<=0.25),IF(E61=\"\",\"\",IF(C58<=E61,\"The oil is coherent\",\"\"))),\"\"))","v":""}]
[null,"Ln =",{"$f":"IF(C58=\"\",\"\",IF('Experimental Data'!E27=\"\",\"\",IF(AND(Calculos!D33>0.17,Calculos!D33<=0.25),'Experimental Data'!K21,\"\")))","v":""},{"$f":"IF(C60<=0.8,IF(C58=\"\",\"\",IF(AND(Calculos!D33>0.17,Calculos!D33<=0.25),IF(AND(C10<=1.3,C10>1.15),IF(C61>2.5,ROUND(0.29526+(0.50194*C59)-(0.13535*C59^2)-(0.09623*C59^3),2),\"\"),\"\"),\"\")),IF(C58=\"\",\"\",IF(AND(Calculos!D33>0.17,Calculos!D33<=0.25),IF(AND(C10<=1.3,C10>1.15),IF(C61>2.5,ROUND(0.35462+(0.33098*C59)-(0.18925*C59^2)-(0.007536*C59^3),2),\"\"),\"\"),\"\")))","v":""},{"$f":"IF(C60<=0.8,IF(C58=\"\",\"\",IF(AND(Calculos!D33>0.17,Calculos!D33<=0.25),IF(AND(C10<=1.3,C10>1.15),IF(C61>2.5,ROUND(0.31091-(0.03636*C59),2),\"\"),\"\"),\"\")),IF(C58=\"\",\"\",IF(AND(Calculos!D33>0.17,Calculos!D33<=0.25),IF(AND(C10<=1.3,C10>1.15),IF(C61>2.5,0.22,\"\"),\"\"),\"\")))","v":""},{"$f":"IF(C58=\"\",\"\",IF(OR(F53=\"Proceed to the Criterion 4\",F50=\"Proceed to the Criterion 4\",F47=\"Proceed to the Criterion 4\",F44=\"Proceed to the Criterion 4\",H53=\"Proceed to the Criterion 4\",H50=\"Proceed to the Criterion 4\",H47=\"Proceed to the Criterion 4\"),IF(AND(Calculos!D33>0.17,Calculos!D33<=0.25),IF(D62=\"\",\"\",IF(C58>D62,\"The oil is not coherent\",\"\"))),\"\"))","v":""},null,{"$f":"IF(C58=\"\",\"\",IF(OR(F53=\"Proceed to the Criterion 4\",F50=\"Proceed to the Criterion 4\",F47=\"Proceed to the Criterion 4\",F44=\"Proceed to the Criterion 4\",H53=\"Proceed to the Criterion 4\",H50=\"Proceed to the Criterion 4\",H47=\"Proceed to the Criterion 4\"),IF(AND(Calculos!D33>0.17,Calculos!D33<=0.25),IF(D58=\"\",\"\",IF(C58>D58,\"The oil is not coherent\",\"\"))),\"\"))","v":""}]
[null,"DOOL =",{"$f":"IF(C58=\"\",\"\",IF('Experimental Data'!E27=\"\",\"\",IF(AND(Calculos!D33>0.17,Calculos!D33<=0.25),ROUND(Calculos!B58,2),\"\")))","v":""},{"$f":"IF(C60<=0.8,IF(C58=\"\",\"\",IF(AND(Calculos!D33>0.17,Calculos!D33<=0.25),IF(AND(C10<=1.3,C10>1.15),IF(C61<=2.5,ROUND(0.13723+(0.97213*C59)-(0.62801*C59^2)+(0.06056*C59^3),2),\"\"),\"\"),\"\")),IF(C58=\"\",\"\",IF(AND(Calculos!D33>0.17,Calculos!D33<=0.25),IF(AND(C10<=1.3,C10>1.15),IF(C61<=2.5,ROUND(0.3529+(0.36987*C59)-(0.27156*C59^2)+(0.00728*C59^3),2),\"\"),\"\"),\"\")))","v":""},{"$f":"IF(C60<=0.8,IF(C58=\"\",\"\",IF(AND(Calculos!D33>0.17,Calculos!D33<=0.25),IF(AND(C10<=1.3,C10>1.15),IF(C61<=2.5,ROUND(0.45-(0.15*C59),2),\"\"),\"\"),\"\")),IF(C58=\"\",\"\",IF(AND(Calculos!D33>0.17,Calculos!D33<=0.25),IF(AND(C10<=1.3,C10>1.15),IF(C61<=2.5,0.2,\"\"),\"\"),\"\")))","v":""},{"$f":"IF(C58=\"\",\"\",IF(OR(F53=\"Proceed to the Criterion 4\",F50=\"Proceed to the Criterion 4\",F47=\"Proceed to the Criterion 4\",F44=\"Proceed to the Criterion 4\",H53=\"Proceed to the Criterion 4\",H50=\"Proceed to the Criterion 4\",H47=\"Proceed to the Criterion 4\"),IF(AND(Calculos!D33>0.17,Calculos!D33<=0.25),IF(E62=\"\",\"\",IF(AND(C58>E62,C58<=D62),\"Proceed to the Criterion 5\",\"\"))),\"\"))","v":""},null,{"$f":"IF(C58=\"\",\"\",IF(OR(F53=\"Proceed to the Criterion 4\",F50=\"Proceed to the Criterion 4\",F47=\"Proceed to the Criterion 4\",F44=\"Proceed to the Criterion 4\",H53=\"Proceed to the Criterion 4\",H50=\"Proceed to the Criterion 4\",H47=\"Proceed to the Criterion 4\"),IF(AND(Calculos!D33>0.17,Calculos!D33<=0.25),IF(E58=\"\",\"\",IF(AND(C58>E58,C58<=D58),\"Proceed to the Criterion 5\",\"\"))),\"\"))","v":""}]
[null,null,null,{"$f":"IF(C60<=0.8,IF(C58=\"\",\"\",IF(AND(Calculos!D33>0.17,Calculos!D33<=0.25),IF(C10<=1.15,IF(C61>3,ROUND(0.11192+(1.15161*C59)-(0.90811*C59^2)+(0.14598*C59^3),2),\"\"),\"\"),\"\")),\"\")","v":""},{"$f":"IF(C60<=0.8,IF(C58=\"\",\"\",IF(AND(Calculos!D33>0.17,Calculos!D33<=0.25),IF(C10<=1.15,IF(C61>3,ROUND(0.27273+(0.09091*C59),2),\"\"),\"\"),\"\")),\"\")","v":""},{"$f":"IF(C58=\"\",\"\",IF(OR(F53=\"Proceed to the Criterion 4\",F50=\"Proceed to the Criterion 4\",F47=\"Proceed to the Criterion 4\",F44=\"Proceed to the Criterion 4\",H53=\"Proceed to the Criterion 4\",H50=\"Proceed to the Criterion 4\",H47=\"Proceed to the Criterion 4\"),IF(AND(Calculos!D33>0.17,Calculos!D33<=0.25),IF(E62=\"\",\"\",IF(C58<=E62,\"The oil is coherent\",\"\"))),\"\"))","v":""},null,{"$f":"IF(C58=\"\",\"\",IF(OR(F53=\"Proceed to the Criterion 4\",F50=\"Proceed to the Criterion 4\",F47=\"Proceed to the Criterion 4\",F44=\"Proceed to the Criterion 4\",H53=\"Proceed to the Criterion 4\",H50=\"Proceed to the Criterion 4\",H47=\"Proceed to the Criterion 4\"),IF(AND(Calculos!D33>0.17,Calculos!D33<=0.25),IF(E58=\"\",\"\",IF(C58<=E58,\"The oil is coherent\",\"\"))),\"\"))","v":""}]
[null,null,null,{"$f":"IF(C60<=0.8,IF(C58=\"\",\"\",IF(AND(Calculos!D33>0.17,Calculos!D33<=0.25),IF(C10<=1.15,IF(AND(C61<=3,C61>2),ROUND(0.13302+(0.94356*C59)-(0.51121*C59^2)+(0.00472*C59^3),2),\"\"),\"\"),\"\")),IF(C58=\"\",\"\",IF(AND(Calculos!D33>0.17,Calculos!D33<=0.25),IF(AND(C10<=1.15,C61>2),ROUND(0.29661+(0.38301*C59)-(0.18167*C59^2)-(0.01748*C59^3),2),\"\"),\"\")))","v":""},{"$f":"IF(C60<=0.8,IF(C58=\"\",\"\",IF(AND(Calculos!D33>0.17,Calculos!D33<=0.25),IF(C10<=1.15,IF(AND(C61<=3,C61>2),ROUND(0.46-(0.3*C59),2),\"\"),\"\"),\"\")),IF(C58=\"\",\"\",IF(AND(Calculos!D33>0.17,Calculos!D33<=0.25),IF(AND(C10<=1.15,C61>2),ROUND(0.25-(0.02*C59),2),\"\"),\"\")))","v":""},{"$f":"IF(C58=\"\",\"\",IF(OR(F53=\"Proceed to the Criterion 4\",F50=\"Proceed to the Criterion 4\",F47=\"Proceed to the Criterion 4\",F44=\"Proceed to the Criterion 4\",H53=\"Proceed to the Criterion 4\",H50=\"Proceed to the Criterion 4\",H47=\"Proceed to the Criterion 4\"),IF(AND(Calculos!D33>0.17,Calculos!D33<=0.25),IF(D63=\"\",\"\",IF(C58>D63,\"The oil is not coherent\",\"\"))),\"\"))","v":""},null,{"$f":"IF(C58=\"\",\"\",IF(OR(F53=\"Proceed to the Criterion 4\",F50=\"Proceed to the Criterion 4\",F47=\"Proceed to the Criterion 4\",F44=\"Proceed to the Criterion 4\",H53=\"Proceed to the Criterion 4\",H50=\"Proceed to the Criterion 4\",H47=\"Proceed to the Criterion 4\"),IF(AND(Calculos!D33>0.17,Calculos!D33<=0.25),IF(D59=\"\",\"\",IF(C58>D59,\"The oil is not coherent\",\"\"))),\"\"))","v":""}]
[null,null,null,{"$f":"IF(C60<=0.8,IF(C58=\"\",\"\",IF(AND(Calculos!D33>0.17,Calculos!D33<=0.25),IF(C10<=1.15,IF(C61<=2,ROUND(0.12405+(1.01867*C59)-(0.59795*C59^2)+(0.07114*C59^3),2),\"\"),\"\"),\"\")),IF(C58=\"\",\"\",IF(AND(Calculos!D33>0.17,Calculos!D33<=0.25),IF(AND(C10<=1.15,C61<=2),ROUND(0.3529+(0.36987*C59)-(0.27156*C59^2)+(0.00728*C59^3),2),\"\"),\"\")))","v":""},{"$f":"IF(C60<=0.8,IF(C58=\"\",\"\",IF(AND(Calculos!D33>0.17,Calculos!D33<=0.25),IF(C10<=1.15,IF(C61<=2,ROUND(0.4-(0.25*C59),2),\"\"),\"\"),\"\")),IF(C58=\"\",\"\",IF(AND(Calculos!D33>0.17,Calculos!D33<=0.25),IF(AND(C10<=1.15,C61<=2),ROUND(0.3-(0.1*C59),2),\"\"),\"\")))","v":""},{"$f":"IF(C58=\"\",\"\",IF(OR(F53=\"Proceed to the Criterion 4\",F50=\"Proceed to the Criterion 4\",F47=\"Proceed to the Criterion 4\",F44=\"Proceed to the Criterion 4\",H53=\"Proceed to the Criterion 4\",H50=\"Proceed to the Criterion 4\",H47=\"Proceed to the Criterion 4\"),IF(AND(Calculos!D33>0.17,Calculos!D33<=0.25),IF(E63=\"\",\"\",IF(AND(C58>E63,C58<=D63),\"Proceed to the Criterion 5\",\"\"))),\"\"))","v":""},null,{"$f":"IF(C58=\"\",\"\",IF(OR(F53=\"Proceed to the Criterion 4\",F50=\"Proceed to the Criterion 4\",F47=\"Proceed to the Criterion 4\",F44=\"Proceed to the Criterion 4\",H53=\"Proceed to the Criterion 4\",H50=\"Proceed to the Criterion 4\",H47=\"Proceed to the Criterion 4\"),IF(AND(Calculos!D33>0.17,Calculos!D33<=0.25),IF(E59=\"\",\"\",IF(AND(C58>E59,C58<=D59),\"Proceed to the Criterion 5\",\"\"))),\"\"))","v":""}]
[null,null,null,null,null,{"$f":"IF(C58=\"\",\"\",IF(OR(F53=\"Proceed to the Criterion 4\",F50=\"Proceed to the Criterion 4\",F47=\"Proceed to the Criterion 4\",F44=\"Proceed to the Criterion 4\",H53=\"Proceed to the Criterion 4\",H50=\"Proceed to the Criterion 4\",H47=\"Proceed to the Criterion 4\"),IF(AND(Calculos!D33>0.17,Calculos!D33<=0.25),IF(E63=\"\",\"\",IF(C58<=E63,\"The oil is coherent\",\"\"))),\"\"))","v":""},null,{"$f":"IF(C58=\"\",\"\",IF(OR(F53=\"Proceed to the Criterion 4\",F50=\"Proceed to the Criterion 4\",F47=\"Proceed to the Criterion 4\",F44=\"Proceed to the Criterion 4\",H53=\"Proceed to the Criterion 4\",H50=\"Proceed to the Criterion 4\",H47=\"Proceed to the Criterion 4\"),IF(AND(Calculos!D33>0.17,Calculos!D33<=0.25),IF(E59=\"\",\"\",IF(C58<=E59,\"The oil is coherent\",\"\"))),\"\"))","v":""}]
[null,null,null,null,null,{"$f":"IF(C58=\"\",\"\",IF(OR(F53=\"Proceed to the Criterion 4\",F50=\"Proceed to the Criterion 4\",F47=\"Proceed to the Criterion 4\",F44=\"Proceed to the Criterion 4\",H53=\"Proceed to the Criterion 4\",H50=\"Proceed to the Criterion 4\",H47=\"Proceed to the Criterion 4\"),IF(AND(Calculos!D33>0.17,Calculos!D33<=0.25),IF(D64=\"\",\"\",IF(C58>D64,\"The oil is not coherent\",\"\"))),\"\"))","v":""},null,{"$f":"IF(C58=\"\",\"\",IF(OR(F53=\"Proceed to the Criterion 4\",F50=\"Proceed to the Criterion 4\",F47=\"Proceed to the Criterion 4\",F44=\"Proceed to the Criterion 4\",H53=\"Proceed to the Criterion 4\",H50=\"Proceed to the Criterion 4\",H47=\"Proceed to the Criterion 4\"),IF(AND(Calculos!D33>0.17,Calculos!D33<=0.25),IF(D60=\"\",\"\",IF(C58>D60,\"The oil is not coherent\",\"\"))),\"\"))","v":""}]
[null,null,null,null,null,{"$f":"IF(C58=\"\",\"\",IF(OR(F53=\"Proceed to the Criterion 4\",F50=\"Proceed to the Criterion 4\",F47=\"Proceed to the Criterion 4\",F44=\"Proceed to the Criterion 4\",H53=\"Proceed to the Criterion 4\",H50=\"Proceed to the Criterion 4\",H47=\"Proceed to the Criterion 4\"),IF(AND(Calculos!D33>0.17,Calculos!D33<=0.25),IF(E64=\"\",\"\",IF(AND(C58>E64,C58<=D64),\"Proceed to the Criterion 5\",\"\"))),\"\"))","v":""},null,{"$f":"IF(C58=\"\",\"\",IF(OR(F53=\"Proceed to the Criterion 4\",F50=\"Proceed to the Criterion 4\",F47=\"Proceed to the Criterion 4\",F44=\"Proceed to the Criterion 4\",H53=\"Proceed to the Criterion 4\",H50=\"Proceed to the Criterion 4\",H47=\"Proceed to the Criterion 4\"),IF(AND(Calculos!D33>0.17,Calculos!D33<=0.25),IF(E60=\"\",\"\",IF(AND(C58>E60,C58<=D60),\"Proceed to the Criterion 5\",\"\"))),\"\"))","v":""}]
[null,null,null,null,null,{"$f":"IF(C58=\"\",\"\",IF(OR(F53=\"Proceed to the Criterion 4\",F50=\"Proceed to the Criterion 4\",F47=\"Proceed to the Criterion 4\",F44=\"Proceed to the Criterion 4\",H53=\"Proceed to the Criterion 4\",H50=\"Proceed to the Criterion 4\",H47=\"Proceed to the Criterion 4\"),IF(AND(Calculos!D33>0.17,Calculos!D33<=0.25),IF(E64=\"\",\"\",IF(C58<=E64,\"The oil is coherent\",\"\"))),\"\"))","v":""},null,{"$f":"IF(C58=\"\",\"\",IF(OR(F53=\"Proceed to the Criterion 4\",F50=\"Proceed to the Criterion 4\",F47=\"Proceed to the Criterion 4\",F44=\"Proceed to the Criterion 4\",H53=\"Proceed to the Criterion 4\",H50=\"Proceed to the Criterion 4\",H47=\"Proceed to the Criterion 4\"),IF(AND(Calculos!D33>0.17,Calculos!D33<=0.25),IF(E60=\"\",\"\",IF(C58<=E60,\"The oil is coherent\",\"\"))),\"\"))","v":""}]
[]
[null,"Criterion 5 L4"]
[null,"Parameter","Value","Higher Limit","Lower Limit",{"$f":"IF(C72=\"\",\"\",IF(OR(F67=\"Proceed to the Criterion 5\",F64=\"Proceed to the Criterion 5\",F61=\"Proceed to the Criterion 5\",F58=\"Proceed to the Criterion 5\",H67=\"Proceed to the Criterion 5\",H64=\"Proceed to the Criterion 5\",H61=\"Proceed to the Criterion 5\"),IF(AND(Calculos!D33>0.17,Calculos!D33<=0.25),IF(E75=\"\",\"\",IF(C72>D75,\"The oil is not coherent\",\"\"))),\"\"))","v":""}]
[null,"L4 =",{"$f":"IF('Experimental Data'!E27=\"\",\"\",IF(AND(Calculos!D33>0.17,Calculos!D33<=0.25),Calculos!J22,\"\"))","v":""},{"$f":"IF(C73<=0.8,IF(C72=\"\",\"\",IF(AND(Calculos!D33>0.17,Calculos!D33<=0.25),IF(C10>1.3,IF(C75>3,ROUND(-5.44389+(7.57362*C74)-(2.52533*C74^2)+(0.16919*C74^3),2),\"\"),\"\"),\"\")),\"\")","v":""},{"$f":"IF(C73<=0.8,IF(C72=\"\",\"\",IF(AND(Calculos!D33>0.17,Calculos!D33<=0.25),IF(C10>1.3,IF(C75>3,\"\",\"\"),\"\"),\"\")),\"\")","v":""},{"$f":"IF(C72=\"\",\"\",IF(OR(F67=\"Proceed to the Criterion 5\",F64=\"Proceed to the Criterion 5\",F61=\"Proceed to the Criterion 5\",F58=\"Proceed to the Criterion 5\",H67=\"Proceed to the Criterion 5\",H64=\"Proceed to the Criterion 5\",H61=\"Proceed to the Criterion 5\"),IF(AND(Calculos!D33>0.17,Calculos!D33<=0.25),IF(E75=\"\",\"\",IF(AND(C72>E75,C72<=D75),\"Proceed to the Criterion 6\",\"\"))),\"\"))","v":""},null,{"$f":"IF(C72=\"\",\"\",IF(OR(F67=\"Proceed to the Criterion 5\",F64=\"Proceed to the Criterion 5\",F61=\"Proceed to the Criterion 5\",F58=\"Proceed to the Criterion 5\",H67=\"Proceed to the Criterion 5\",H64=\"Proceed to the Criterion 5\",H61=\"Proceed to the Criterion 5\"),IF(AND(Calculos!D33>0.17,Calculos!D33<=0.25),IF(D72=\"\",\"\",IF(C72<=D72,\"The oil is coherent\",\"The oil is not coherent\"))),\"\"))","v":""}]
[null,"Ln =",{"$f":"IF(C72=\"\",\"\",IF('Experimental Data'!E27=\"\",\"\",IF(AND(Calculos!D33>0.17,Calculos!D33<=0.25),'Experimental Data'!K21,\"\")))","v":""},{"$f":"IF(C73<=0.8,IF(C72=\"\",\"\",IF(AND(Calculos!D33>0.17,Calculos!D33<=0.25),IF(C10>1.3,IF(C75<=3,ROUND(0.03429+(2.08858*C74)-(1.15659*C74^2)+(0.03446*C74^3),2),\"\"),\"\"),\"\")),IF(C72=\"\",\"\",IF(AND(Calculos!D33>0.17,Calculos!D33<=0.25),IF(C10>1.3,ROUND(0.90178+(0.86095*C74)-(0.67206*C74^2)+(0.09275*C74^3),2),\"\"),\"\")))","v":""},{"$f":"IF(C73<=0.8,IF(C72=\"\",\"\",IF(AND(Calculos!D33>0.17,Calculos!D33<=0.25),IF(C10>1.3,IF(C75<=3,\"\",\"\"),\"\"),\"\")),IF(C72=\"\",\"\",IF(AND(Calculos!D33>0.17,Calculos!D33<=0.25),IF(C10>1.3,\"\",\"\"),\"\")))","v":""},{"$f":"IF(C72=\"\",\"\",IF(OR(F67=\"Proceed to the Criterion 5\",F64=\"Proceed to the Criterion 5\",F61=\"Proceed to the Criterion 5\",F58=\"Proceed to the Criterion 5\",H67=\"Proceed to the Criterion 5\",H64=\"Proceed to the Criterion 5\",H61=\"Proceed to the Criterion 5\"),IF(AND(Calculos!D33>0.17,Calculos!D33<=0.25),IF(E75=\"\",\"\",IF(C72<=E75,\"The oil is coherent\",\"\"))),\"\"))","v":""},null,{"$f":"IF(C72=\"\",\"\",IF(OR(F67=\"Proceed to the Criterion 5\",F64=\"Proceed to the Criterion 5\",F61=\"Proceed to the Criterion 5\",F58=\"Proceed to the Criterion 5\",H67=\"Proceed to the Criterion 5\",H64=\"Proceed to the Criterion 5\",H61=\"Proceed to the Criterion 5\"),IF(AND(Calculos!D33>0.17,Calculos!D33<=0.25),IF(D73=\"\",\"\",IF(C72<=D73,\"The oil is coherent\",\"The oil is not coherent\"))),\"\"))","v":""}]
[null,"DECN44p =",{"$f":"IF(C16=\"\",\"\",IF('Experimental Data'!E27=\"\",\"\",IF(AND(Calculos!D33>0.17,Calculos!D33<=0.25),Calculos!B38,\"\")))","v":""},{"$f":"IF(C73<=0.8,IF(C72=\"\",\"\",IF(AND(Calculos!D33>0.17,Calculos!D33<=0.25),IF(AND(C10<=1.3,C10>1.15),IF(C75>2.5,ROUND(0.91032+(0.60805*C74)+(0.33947*C74^2)-(0.44389*C74^3),2),\"\"),\"\"),\"\")),IF(C72=\"\",\"\",IF(AND(Calculos!D33>0.17,Calculos!D33<=0.25),IF(AND(C10<=1.3,C10>1.15,C75>2.5),ROUND(0.8877+(1.38527*C74)-(0.76759*C74^2)-(0.01876*C74^3),2),\"\"),\"\")))","v":""},{"$f":"IF(C73<=0.8,IF(C72=\"\",\"\",IF(AND(Calculos!D33>0.17,Calculos!D33<=0.25),IF(AND(C10<=1.3,C10>1.15),IF(C75>2.5,ROUND(0.55-(0.10714*C74),2),\"\"),\"\"),\"\")),IF(C72=\"\",\"\",IF(AND(Calculos!D33>0.17,Calculos!D33<=0.25),IF(AND(C10<=1.3,C10>1.15,C75>2.5),ROUND(1.2-(0.4*C74),2),\"\"),\"\")))","v":""},{"$f":"IF(C72=\"\",\"\",IF(OR(F67=\"Proceed to the Criterion 5\",F64=\"Proceed to the Criterion 5\",F61=\"Proceed to the Criterion 5\",F58=\"Proceed to the Criterion 5\",H67=\"Proceed to the Criterion 5\",H64=\"Proceed to the Criterion 5\",H61=\"Proceed to the Criterion 5\"),IF(AND(Calculos!D33>0.17,Calculos!D33<=0.25),IF(D76=\"\",\"\",IF(C72<=D76,\"The oil is coherent\",\"The oil is not coherent\"))),\"\"))","v":""},null,{"$f":"IF(C72=\"\",\"\",IF(OR(F67=\"Proceed to the Criterion 5\",F64=\"Proceed to the Criterion 5\",F61=\"Proceed to the Criterion 5\",F58=\"Proceed to the Criterion 5\",H67=\"Proceed to the Criterion 5\",H64=\"Proceed to the Criterion 5\",H61=\"Proceed to the Criterion 5\"),IF(AND(Calculos!D33>0.17,Calculos!D33<=0.25),IF(E74=\"\",\"\",IF(C72>D74,\"The oil is not coherent\",\"\"))),\"\"))","v":""}]
[null,"DOOL =",{"$f":"IF(C16=\"\",\"\",IF('Experimental Data'!E27=\"\",\"\",IF(AND(Calculos!D33>0.17,Calculos!D33<=0.25),ROUND(Calculos!B58,2),\"\")))","v":""},{"$f":"IF(C73<=0.8,IF(C72=\"\",\"\",IF(AND(Calculos!D33>0.17,Calculos!D33<=0.25),IF(AND(C10<=1.3,C10>1.15),IF(C75<=2.5,ROUND(0.5994+(1.37371*C74)-(0.28448*C74^2)-(0.28177*C74^3),2),\"\"),\"\"),\"\")),IF(C72=\"\",\"\",IF(AND(Calculos!D33>0.17,Calculos!D33<=0.25),IF(AND(C10<=1.3,C10>1.15,C75<=2.5),ROUND(1.31488+(0.93395*C74)-(0.61147*C74^2)-(0.02343*C74^3),2),\"\"),\"\")))","v":""},{"$f":"IF(C73<=0.8,IF(C72=\"\",\"\",IF(AND(Calculos!D33>0.17,Calculos!D33<=0.25),IF(AND(C10<=1.3,C10>1.15),IF(C75<=2.5,ROUND(0.80833-(0.29167*C74),2),\"\"),\"\"),\"\")),IF(C72=\"\",\"\",IF(AND(Calculos!D33>0.17,Calculos!D33<=0.25),IF(AND(C10<=1.3,C10>1.15,C75<=2.5),ROUND(1.3-(0.4667*C74),2),\"\"),\"\")))","v":""},{"$f":"IF(C72=\"\",\"\",IF(OR(F67=\"Proceed to the Criterion 5\",F64=\"Proceed to the Criterion 5\",F61=\"Proceed to the Criterion 5\",F58=\"Proceed to the Criterion 5\",H67=\"Proceed to the Criterion 5\",H64=\"Proceed to the Criterion 5\",H61=\"Proceed to the Criterion 5\"),IF(AND(Calculos!D33>0.17,Calculos!D33<=0.25),IF(D77=\"\",\"\",IF(C72<=D77,\"The oil is coherent\",\"The oil is not coherent\"))),\"\"))","v":""},null,{"$f":"IF(C72=\"\",\"\",IF(OR(F67=\"Proceed to the Criterion 5\",F64=\"Proceed to the Criterion 5\",F61=\"Proceed to the Criterion 5\",F58=\"Proceed to the Criterion 5\",H67=\"Proceed to the Criterion 5\",H64=\"Proceed to the Criterion 5\",H61=\"Proceed to the Criterion 5\"),IF(AND(Calculos!D33>0.17,Calculos!D33<=0.25),IF(E74=\"\",\"\",IF(AND(C72>E74,C72<=D74),\"Proceed to the Criterion 6\",\"\"))),\"\"))","v":""}]
[null,null,null,{"$f":"IF(C73<=0.8,IF(C72=\"\",\"\",IF(AND(Calculos!D33>0.17,Calculos!D33<=0.25),IF(C10<=1.15,IF(C75>3,ROUND(0.91032+(0.60805*C74)+(0.33947*C74^2)-(0.44389*C74^3),2),\"\"),\"\"),\"\")),\"\")","v":""},{"$f":"IF(C73<=0.8,IF(C72=\"\",\"\",IF(AND(Calculos!D33>0.17,Calculos!D33<=0.25),IF(C10<=1.15,IF(C75>3,\"\",\"\"),\"\"),\"\")),\"\")","v":""},{"$f":"IF(C72=\"\",\"\",IF(OR(F67=\"Proceed to the Criterion 5\",F64=\"Proceed to the Criterion 5\",F61=\"Proceed to the Criterion 5\",F58=\"Proceed to the Criterion 5\",H67=\"Proceed to the Criterion 5\",H64=\"Proceed to the Criterion 5\",H61=\"Proceed to the Criterion 5\"),IF(AND(Calculos!D33>0.17,Calculos!D33<=0.25),IF(D78=\"\",\"\",IF(C72<=D78,\"The oil is coherent\",\"The oil is not coherent\"))),\"\"))","v":""},null,{"$f":"IF(C72=\"\",\"\",IF(OR(F67=\"Proceed to the Criterion 5\",F64=\"Proceed to the Criterion 5\",F61=\"Proceed to the Criterion 5\",F58=\"Proceed to the Criterion 5\",H67=\"Proceed to the Criterion 5\",H64=\"Proceed to the Criterion 5\",H61=\"Proceed to the Criterion 5\"),IF(AND(Calculos!D33>0.17,Calculos!D33<=0.25),IF(E74=\"\",\"\",IF(C72<=E74,\"The oil is coherent\",\"\"))),\"\"))","v":""}]
[null,null,null,{"$f":"IF(C73<=0.8,IF(C72=\"\",\"\",IF(AND(Calculos!D33>0.17,Calculos!D33<=0.25),IF(C10<=1.15,IF(AND(C75<=3,C75>2),ROUND(0.5994+(1.37371*C74)-(0.28448*C74^2)-(0.28177*C74^3),2),\"\"),\"\"),\"\")),IF(C72=\"\",\"\",IF(AND(Calculos!D33>0.17,Calculos!D33<=0.25),IF(AND(C10<=1.15,C75>2),ROUND(1.09974+(1.09861*C74)-(0.51647*C74^2)-(0.09199*C74^3),2),\"\"),\"\")))","v":""},{"$f":"IF(C73<=0.8,IF(C72=\"\",\"\",IF(AND(Calculos!D33>0.17,Calculos!D33<=0.25),IF(C10<=1.15,IF(AND(C75<=3,C75>2),\"\",\"\"),\"\"),\"\")),IF(C72=\"\",\"\",IF(AND(Calculos!D33>0.17,Calculos!D33<=0.25),IF(AND(C10<=1.15,C75>2),\"\",\"\"),\"\")))","v":""}]
[null,null,null,{"$f":"IF(C73<=0.8,IF(C72=\"\",\"\",IF(AND(Calculos!D33>0.17,Calculos!D33<=0.25),IF(C10<=1.15,IF(C75<=2,ROUND(0.39426+(1.85439*C74)-(0.73331*C74^2)-(0.2303*C74^3),2),\"\"),\"\"),\"\")),IF(C72=\"\",\"\",IF(AND(Calculos!D33>0.17,Calculos!D33<=0.25),IF(AND(C10<=1.15,C75<=2),ROUND(1.26039+(0.9819*C74)-(0.59516*C74^2)-(0.1515*C74^3),2),\"\"),\"\")))","v":""},{"$f":"IF(C73<=0.8,IF(C72=\"\",\"\",IF(AND(Calculos!D33>0.17,Calculos!D33<=0.25),IF(C10<=1.15,IF(C75<=2,\"\",\"\"),\"\"),\"\")),IF(C72=\"\",\"\",IF(AND(Calculos!D33>0.17,Calculos!D33<=0.25),IF(AND(C10<=1.15,C75<=2),\"\",\"\"),\"\")))","v":""}]
[]
[null,"Criterion 6 R2, DOOL"]
[null,"Parameter","Value","Limit R2",{"$f":"IF(C82=\"\",\"\",IF(OR(F72=\"Proceed to the Criterion 6\",H75=\"Proceed to the Criterion 6\"),IF(AND(Calculos!D33>0.17,Calculos!D33<=0.25),IF(AND(C10<=1.3,C10>1.15,C83>=2),\"The oil is coherent by DOOL>2\",\"\")),\"\"))","v":""}]
[null,"R2 =",{"$f":"IF('Experimental Data'!E27=\"\",\"\",IF(AND(Calculos!D33>0.17,Calculos!D33<=0.25),Calculos!B32,\"\"))","v":""},{"$f":"IF(C84<=0.8,IF(C82=\"\",\"\",IF(AND(Calculos!D33>0.17,Calculos!D33<=0.25),IF(AND(C10<=1.3,C10>1.15,C83<=2),0.095,\"\"),\"\")),IF(C82=\"\",\"\",IF(AND(Calculos!D33>0.17,Calculos!D33<=0.25),IF(AND(C10<=1.3,C10>1.15,C83<=2),0.09,\"\"),\"\")))","v":""},{"$f":"IF(C82=\"\",\"\",IF(OR(F72=\"Proceed to the Criterion 6\",H75=\"Proceed to the Criterion 6\"),IF(AND(Calculos!D33>0.17,Calculos!D33<=0.25),IF(D82=\"\",\"\",IF(C82>=D82,\"The oil is coherent\",\"The oil is not coherent\"))),\"\"))","v":""}]
[null,"DOOL =",{"$f":"IF(C16=\"\",\"\",IF('Experimental Data'!E27=\"\",\"\",IF(AND(Calculos!D33>0.17,Calculos!D33<=0.25),ROUND(Calculos!B58,2),\"\")))","v":""}]
[null,"Ln =",{"$f":"IF(C72=\"\",\"\",IF('Experimental Data'!E27=\"\",\"\",IF(AND(Calculos!D33>0.17,Calculos!D33<=0.25),'Experimental Data'!K21,\"\")))","v":""}]

{"sheet":"Criteria for LLLt 0,250-0,350","index":9,"n_rows":84,"n_cols":8,"rows_kept":84,"cut":false,"hidden":false,"merged":[[1,1,1,8]]}
[null,"Criteria for LLL theor. 0,25-0,35"]
[null,"Calculation Parameters"]
[null,"Sample Code",{"$f":"IF(C6=\"\",\"\",IF('Experimental Data'!F16=\"\",\"\",'Experimental Data'!F16))","v":""},{"$f":"IF(C6=\"\",\"\",IF('Experimental Data'!G16=\"\",\"\",'Experimental Data'!G16))","v":""},{"$f":"IF(C6=\"\",\"\",IF('Experimental Data'!H16=\"\",\"\",'Experimental Data'!H16))","v":""},{"$f":"IF(C6=\"\",\"\",IF('Experimental Data'!I16=\"\",\"\",'Experimental Data'!I16))","v":""},{"$f":"IF(C6=\"\",\"\",IF('Experimental Data'!J16=\"\",\"\",'Experimental Data'!J16))","v":""},{"$f":"IF(C6=\"\",\"\",IF('Experimental Data'!K16=\"\",\"\",'Experimental Data'!K16))","v":""}]
[null,"Oil Category",{"$f":"IF(C3=\"\",\"\",IF('Experimental Data'!F17=\"\",\"\",'Experimental Data'!F17))","v":""},{"$f":"IF(C4=\"\",\"\",IF(C4=\"EV\",\"Virgin Edible Olive Oil\",IF(C4=\"L\",\"Lampant Olive Oil\",IF(C4=\"R\",\"Refined Olive Oil\"))))","v":""}]
[]
[null,"DECN42 =",{"$f":"IF('Experimental Data'!E27=\"\",\"\",IF(AND(Calculos!D33>0.25,Calculos!D33<=0.35),Calculos!M58,\"\"))","v":""},{"$f":"IF('Experimental Data'!E27=\"\",\"\",IF(AND(Calculos!D33>0.25,Calculos!D33<=0.35),IF(C4=\"EV\",0.2,IF(OR(C4=\"R\",C4=\"L\"),0.3,\"\")),\"\"))","v":""},{"$f":"IF(C6=\"\",\"\",IF(C6<=D6,\"Proceed to the Criterion 1\",\"Proceed to the Criterion 1\"))","v":""},null,{"$f":"IF(C6=\"\",\"\",IF(C6>D6,\"Warning, The DECN42 is too high\",\"\"))","v":""}]
[]
[null,"Early Criterion K1"]
[null,"Parameter","Value","Higher Limit","Lower Limit",{"$f":"IF(C10=\"\",\"\",IF(E6=\"Proceed to the Criterion 1\",IF(AND(Calculos!D33>0.25,Calculos!D33<=0.35),IF(E11=\"\",\"\",IF(C10>D11,\"The oil is not coherent\",\"\")),\"\"),\"\"))","v":""}]
[null,"K1",{"$f":"IF('Experimental Data'!E27=\"\",\"\",IF(AND(Calculos!D33>0.25,Calculos!D33<=0.35),Calculos!J24,\"\"))","v":""},{"$f":"IF(C10=\"\",\"\",IF(AND(Calculos!D33>0.25,Calculos!D33<=0.35),IF(AND(C11>1,C10>1.2),1.65,\"\"),\"\"))","v":""},{"$f":"IF(C10=\"\",\"\",IF(AND(Calculos!D33>0.25,Calculos!D33<=0.35),IF(AND(C11>1,C10>1.2),1.2,\"\"),\"\"))","v":""},{"$f":"IF(C10=\"\",\"\",IF(E6=\"Proceed to the Criterion 1\",IF(AND(Calculos!D33>0.25,Calculos!D33<=0.35),IF(E11=\"\",\"\",IF(AND(C10<=D11,C10>E11),\"Proceed to the Criterion 1\",\"\")),\"\"),\"\"))","v":""}]
[null,"DECN44p",{"$f":"IF(C10=\"\",\"\",IF('Experimental Data'!E27=\"\",\"\",IF(AND(Calculos!D33>0.25,Calculos!D33<=0.35),Calculos!B38,\"\")))","v":""},{"$f":"IF(C10=\"\",\"\",IF(AND(Calculos!D33>0.25,Calculos!D33<=0.35),IF(AND(C11>1,C10<=1.2),1.2,\"\"),\"\"))","v":""},{"$f":"IF(C10=\"\",\"\",IF(AND(Calculos!D33>0.25,Calculos!D33<=0.35),IF(AND(C11>1,C10<=1.2),1.05,\"\"),\"\"))","v":""},{"$f":"IF(C10=\"\",\"\",IF(E6=\"Proceed to the Criterion 1\",IF(AND(Calculos!D33>0.25,Calculos!D33<=0.35),IF(E11=\"\",\"\",IF(C10<=E11,\"The oil is coherent\",\"\")),\"\"),\"\"))","v":""}]
[null,"DLLL =",{"$f":"IF('Experimental Data'!E27=\"\",\"\",IF(AND(Calculos!D33>0.25,Calculos!D33<=0.35),ROUND(Calculos!B21,2),\"\"))","v":""},{"$f":"IF(C12<=0,IF(C10=\"\",\"\",IF(AND(Calculos!D33>0.25,Calculos!D33<=0.35),IF(C11<=1,1.25,\"\"),\"\")),IF(C10=\"\",\"\",IF(AND(Calculos!D33>0.25,Calculos!D33<=0.35),IF(C11<=1,1.45,\"\"),\"\")))","v":""},{"$f":"IF(C12<=0,IF(C10=\"\",\"\",IF(AND(Calculos!D33>0.25,Calculos!D33<=0.35),IF(C11<=1,1,\"\"),\"\")),IF(C10=\"\",\"\",IF(AND(Calculos!D33>0.25,Calculos!D33<=0.35),IF(C11<=1,1.05,\"\"),\"\")))","v":""},{"$f":"IF(C10=\"\",\"\",IF(E6=\"Proceed to the Criterion 1\",IF(AND(Calculos!D33>0.25,Calculos!D33<=0.35),IF(E12=\"\",\"\",IF(C10>D12,\"The oil is not coherent\",\"\")),\"\"),\"\"))","v":""},null,{"$f":"IF(C10=\"\",\"\",IF(E6=\"Proceed to the Criterion 1\",IF(AND(Calculos!D33>0.25,Calculos!D33<=0.35),IF(E10=\"\",\"\",IF(C10>D10,\"The oil is not coherent\",\"\")),\"\"),\"\"))","v":""}]
[null,null,null,null,null,{"$f":"IF(C10=\"\",\"\",IF(E6=\"Proceed to the Criterion 1\",IF(AND(Calculos!D33>0.25,Calculos!D33<=0.35),IF(E12=\"\",\"\",IF(AND(C10<=D12,C10>E12),\"Proceed to the Criterion 1\",\"\")),\"\"),\"\"))","v":""},null,{"$f":"IF(C10=\"\",\"\",IF(E6=\"Proceed to the Criterion 1\",IF(AND(Calculos!D33>0.25,Calculos!D33<=0.35),IF(E10=\"\",\"\",IF(AND(C10<=D10,C10>E10),\"Proceed to the Criterion 1\",\"\")),\"\"),\"\"))","v":""}]
[null,null,null,null,null,{"$f":"IF(C10=\"\",\"\",IF(E6=\"Proceed to the Criterion 1\",IF(AND(Calculos!D33>0.25,Calculos!D33<=0.35),IF(E12=\"\",\"\",IF(C10<=E12,\"The oil is coherent\",\"\")),\"\"),\"\"))","v":""},null,{"$f":"IF(C10=\"\",\"\",IF(E6=\"Proceed to the Criterion 1\",IF(AND(Calculos!D33>0.25,Calculos!D33<=0.35),IF(E10=\"\",\"\",IF(C10<=E10,\"The oil is coherent\",\"\")),\"\"),\"\"))","v":""}]
[]
[null,"Criterion 1 DR3"]
[null,"Parameter","Value","Higher Limit","Lower Limit",{"$f":"IF(C18=\"\",\"\",IF(OR(F13=\"Proceed to the Criterion 1\",F10=\"Proceed to the Criterion 1\",H13=\"Proceed to the Criterion 1\"),IF(AND(Calculos!D33>0.25,Calculos!D33<=0.35),IF(E21=\"\",\"\",IF(C18>D21,\"The oil is not coherent\",\"\"))),\"\"))","v":""},null,{"$f":"IF(C18=\"\",\"\",IF(OR(F13=\"Proceed to the Criterion 1\",F10=\"Proceed to the Criterion 1\",H13=\"Proceed to the Criterion 1\"),IF(AND(Calculos!D33>0.25,Calculos!D33<=0.35),IF(D18=\"\",\"\",IF(C18>D18,\"The oil is not coherent\",\"\"))),\"\"))","v":""}]
[null,"DR3 =",{"$f":"IF('Experimental Data'!E27=\"\",\"\",IF(AND(Calculos!D33>0.25,Calculos!D33<=0.35),Calculos!B43,\"\"))","v":""},{"$f":"IF(C10<=1.2,IF(C18=\"\",\"\",IF(AND(Calculos!D33>0.25,Calculos!D33<=0.35),IF(AND(C20>1,C19>3),ROUND(0.56488-(0.03819*C20)+(0.01488*C20^2)-(0.08681*C20^3),2),\"\"),\"\")),IF(C18=\"\",\"\",IF(AND(Calculos!D33>0.25,Calculos!D33<=0.35),IF(AND(C20>1,C19>3.5),ROUND(-12.85+(15.16667*C20)-(5.3125*C20^2)+(0.52083*C20^3),2),\"\"),\"\")))","v":""},{"$f":"IF(C10<=1.2,IF(C18=\"\",\"\",IF(AND(Calculos!D33>0.25,Calculos!D33<=0.35),IF(AND(C20>1,C19>3),ROUND(0.9285-(0.7857*C20),2),\"\"),\"\")),IF(C18=\"\",\"\",IF(AND(Calculos!D33>0.25,Calculos!D33<=0.35),IF(AND(C20>1,C19>3.5),-0.05,\"\"),\"\")))","v":""},{"$f":"IF(C18=\"\",\"\",IF(OR(F13=\"Proceed to the Criterion 1\",F10=\"Proceed to the Criterion 1\",H13=\"Proceed to the Criterion 1\"),IF(AND(Calculos!D33>0.25,Calculos!D33<=0.35),IF(D21=\"\",\"\",IF(AND(C18>E21,C18<=D21),\"Proceed to the Criterion 2\",\"\"))),\"\"))","v":""},null,{"$f":"IF(C18=\"\",\"\",IF(OR(F13=\"Proceed to the Criterion 1\",F10=\"Proceed to the Criterion 1\",H13=\"Proceed to the Criterion 1\"),IF(AND(Calculos!D33>0.25,Calculos!D33<=0.35),IF(D18=\"\",\"\",IF(AND(C18>E18,C18<=D18),\"Proceed to the Criterion 2\",\"\"))),\"\"))","v":""}]
[null,"DOOL =",{"$f":"IF('Experimental Data'!E27=\"\",\"\",IF(AND(Calculos!D33>0.25,Calculos!D33<=0.35),ROUND(Calculos!B58,2),\"\"))","v":""},{"$f":"IF(C10<=1.2,IF(C18=\"\",\"\",IF(AND(Calculos!D33>0.25,Calculos!D33<=0.35),IF(AND(C20>1,C19<=3,C19>2),ROUND(-0.64114+(3.64066*C20)-(2.54134*C20^2)+(0.42909*C20^3),2),\"\"),\"\")),IF(C18=\"\",\"\",IF(AND(Calculos!D33>0.25,Calculos!D33<=0.35),IF(AND(C20>1,C19<=3.5,C19>2.5),ROUND(-0.64114+(3.64066*C20)-(2.54134*C20^2)+(0.42909*C20^3),2),\"\"),\"\")))","v":""},{"$f":"IF(C10<=1.2,IF(C18=\"\",\"\",IF(AND(Calculos!D33>0.25,Calculos!D33<=0.35),IF(AND(C20>1,C19<=3,C19>2),ROUND(0.6642-(0.6428*C20),2),\"\"),\"\")),IF(C18=\"\",\"\",IF(AND(Calculos!D33>0.25,Calculos!D33<=0.35),IF(AND(C20>1,C19<=3.5,C19>2.5),ROUND(0.7714-(0.7143*C20),2),\"\"),\"\")))","v":""},{"$f":"IF(C18=\"\",\"\",IF(OR(F13=\"Proceed to the Criterion 1\",F10=\"Proceed to the Criterion 1\",H13=\"Proceed to the Criterion 1\"),IF(AND(Calculos!D33>0.25,Calculos!D33<=0.35),IF(E21=\"\",\"\",IF(C18<=E21,\"The oil is coherent\",\"\"))),\"\"))","v":""},null,{"$f":"IF(C18=\"\",\"\",IF(OR(F13=\"Proceed to the Criterion 1\",F10=\"Proceed to the Criterion 1\",H13=\"Proceed to the Criterion 1\"),IF(AND(Calculos!D33>0.25,Calculos!D33<=0.35),IF(E18=\"\",\"\",IF(C18<=E18,\"The oil is coherent\",\"\"))),\"\"))","v":""}]
[null,"DECN44p",{"$f":"IF('Experimental Data'!E27=\"\",\"\",IF(AND(Calculos!D33>0.25,Calculos!D33<=0.35),Calculos!B38,\"\"))","v":""},{"$f":"IF(C10<=1.2,IF(C18=\"\",\"\",IF(AND(Calculos!D33>0.25,Calculos!D33<=0.35),IF(AND(C20>1,C19<=2),ROUND(-3.24869+(10.47589*C20)-(8.06194*C20^2)+(1.71541*C20^3),2),\"\"),\"\")),IF(C18=\"\",\"\",IF(AND(Calculos!D33>0.25,Calculos!D33<=0.35),IF(AND(C20>1,C19<=2.5),ROUND(-1.53722+(6.01176*C20)-(4.49202*C20^2)+(0.90447*C20^3),2),\"\"),\"\")))","v":""},{"$f":"IF(C10<=1.2,IF(C18=\"\",\"\",IF(AND(Calculos!D33>0.25,Calculos!D33<=0.35),IF(AND(C20>1,C19<=2),ROUND(0.6142-(0.6428*C20),2),\"\"),\"\")),IF(C18=\"\",\"\",IF(AND(Calculos!D33>0.25,Calculos!D33<=0.35),IF(AND(C20>1,C19<=2.5),ROUND(0.6571-(0.5714*C20),2),\"\"),\"\")))","v":""},{"$f":"IF(C18=\"\",\"\",IF(OR(F13=\"Proceed to the Criterion 1\",F10=\"Proceed to the Criterion 1\",H13=\"Proceed to the Criterion 1\"),IF(AND(Calculos!D33>0.25,Calculos!D33<=0.35),IF(D22=\"\",\"\",IF(C18>D22,\"The oil is not coherent\",\"\"))),\"\"))","v":""},null,{"$f":"IF(C18=\"\",\"\",IF(OR(F13=\"Proceed to the Criterion 1\",F10=\"Proceed to the Criterion 1\",H13=\"Proceed to the Criterion 1\"),IF(AND(Calculos!D33>0.25,Calculos!D33<=0.35),IF(D19=\"\",\"\",IF(C18>D19,\"The oil is not coherent\",\"\"))),\"\"))","v":""}]
[null,"DLLL =",{"$f":"IF('Experimental Data'!E27=\"\",\"\",IF(AND(Calculos!D33>0.25,Calculos!D33<=0.35),ROUND(Calculos!B21,2),\"\"))","v":""},{"$f":"IF(C21<=0,IF(C18=\"\",\"\",IF(AND(Calculos!D33>0.25,Calculos!D33<=0.35),IF(AND(C20<=1,C19>5),-0.25,\"\"),\"\")),\"\")","v":""},{"$f":"IF(C21<=0,IF(C18=\"\",\"\",IF(AND(Calculos!D33>0.25,Calculos!D33<=0.35),IF(AND(C20<=1,C19>5),-1.1,\"\"),\"\")),\"\")","v":""},{"$f":"IF(C18=\"\",\"\",IF(OR(F13=\"Proceed to the Criterion 1\",F10=\"Proceed to the Criterion 1\",H13=\"Proceed to the Criterion 1\"),IF(AND(Calculos!D33>0.25,Calculos!D33<=0.35),IF(D22=\"\",\"\",IF(AND(C18>E22,C18<=D22),\"Proceed to the Criterion 2\",\"\"))),\"\"))","v":""},null,{"$f":"IF(C18=\"\",\"\",IF(OR(F13=\"Proceed to the Criterion 1\",F10=\"Proceed to the Criterion 1\",H13=\"Proceed to the Criterion 1\"),IF(AND(Calculos!D33>0.25,Calculos!D33<=0.35),IF(D19=\"\",\"\",IF(AND(C18>E19,C18<=D19),\"Proceed to the Criterion 2\",\"\"))),\"\"))","v":""}]
[null,null,null,{"$f":"IF(C21<=0,IF(C18=\"\",\"\",IF(AND(Calculos!D33>0.25,Calculos!D33<=0.35),IF(AND(C20<=1,C19>3.5,C19<=5),-0.2,\"\"),\"\")),IF(C18=\"\",\"\",IF(AND(Calculos!D33>0.25,Calculos!D33<=0.35),IF(AND(C20<=1,C19>3.5),ROUND(-0.50628+(4.25883*C20)-(5.75362*C20^2)+(0.30494*C20^3),2),\"\"),\"\")))","v":""},{"$f":"IF(C21<=0,IF(C18=\"\",\"\",IF(AND(Calculos!D33>0.25,Calculos!D33<=0.35),IF(AND(C20<=1,C19>3.5,C19<=5),-0.7,\"\"),\"\")),IF(C18=\"\",\"\",IF(AND(Calculos!D33>0.25,Calculos!D33<=0.35),IF(AND(C20<=1,C19>3.5),-0.7,\"\"),\"\")))","v":""},{"$f":"IF(C18=\"\",\"\",IF(OR(F13=\"Proceed to the Criterion 1\",F10=\"Proceed to the Criterion 1\",H13=\"Proceed to the Criterion 1\"),IF(AND(Calculos!D33>0.25,Calculos!D33<=0.35),IF(D22=\"\",\"\",IF(C18<=E22,\"The oil is coherent\",\"\"))),\"\"))","v":""},null,{"$f":"IF(C18=\"\",\"\",IF(OR(F13=\"Proceed to the Criterion 1\",F10=\"Proceed to the Criterion 1\",H13=\"Proceed to the Criterion 1\"),IF(AND(Calculos!D33>0.25,Calculos!D33<=0.35),IF(E19=\"\",\"\",IF(C18<=E19,\"The oil is coherent\",\"\"))),\"\"))","v":""}]
[null,null,null,{"$f":"IF(C21<=0,IF(C18=\"\",\"\",IF(AND(Calculos!D33>0.25,Calculos!D33<=0.35),IF(AND(C20<=1,C19<=3.5),0.6,\"\"),\"\")),IF(C18=\"\",\"\",IF(AND(Calculos!D33>0.25,Calculos!D33<=0.35),IF(AND(C20<=1,C19<=3.5),ROUND(-0.48991+(4.76584*C20)-(4.47417*C20^2)+(1.0233*C20^3),2),\"\"),\"\")))","v":""},{"$f":"IF(C21<=0,IF(C18=\"\",\"\",IF(AND(Calculos!D33>0.25,Calculos!D33<=0.35),IF(AND(C20<=1,C19<=3.5),ROUND(-0.2084+(0.4167*C20),2),\"\"),\"\")),IF(C18=\"\",\"\",IF(AND(Calculos!D33>0.25,Calculos!D33<=0.35),IF(AND(C20<=1,C19<=3.5),ROUND(0.5-(0.5*C20),2),\"\"),\"\")))","v":""},{"$f":"IF(C18=\"\",\"\",IF(OR(F13=\"Proceed to the Criterion 1\",F10=\"Proceed to the Criterion 1\",H13=\"Proceed to the Criterion 1\"),IF(AND(Calculos!D33>0.25,Calculos!D33<=0.35),IF(D23=\"\",\"\",IF(C18>D23,\"The oil is not coherent\",\"\"))),\"\"))","v":""},null,{"$f":"IF(C18=\"\",\"\",IF(OR(F13=\"Proceed to the Criterion 1\",F10=\"Proceed to the Criterion 1\",H13=\"Proceed to the Criterion 1\"),IF(AND(Calculos!D33>0.25,Calculos!D33<=0.35),IF(D20=\"\",\"\",IF(C18>D20,\"The oil is not coherent\",\"\"))),\"\"))","v":""}]
[null,null,null,null,null,{"$f":"IF(C18=\"\",\"\",IF(OR(F13=\"Proceed to the Criterion 1\",F10=\"Proceed to the Criterion 1\",H13=\"Proceed to the Criterion 1\"),IF(AND(Calculos!D33>0.25,Calculos!D33<=0.35),IF(D23=\"\",\"\",IF(AND(C18>E23,C18<=D23),\"Proceed to the Criterion 2\",\"\"))),\"\"))","v":""},null,{"$f":"IF(C18=\"\",\"\",IF(OR(F13=\"Proceed to the Criterion 1\",F10=\"Proceed to the Criterion 1\",H13=\"Proceed to the Criterion 1\"),IF(AND(Calculos!D33>0.25,Calculos!D33<=0.35),IF(D20=\"\",\"\",IF(AND(C18>E20,C18<=D20),\"Proceed to the Criterion 2\",\"\"))),\"\"))","v":""}]
[null,null,null,null,null,{"$f":"IF(C18=\"\",\"\",IF(OR(F13=\"Proceed to the Criterion 1\",F10=\"Proceed to the Criterion 1\",H13=\"Proceed to the Criterion 1\"),IF(AND(Calculos!D33>0.25,Calculos!D33<=0.35),IF(E23=\"\",\"\",IF(C18<=E23,\"The oil is coherent\",\"\"))),\"\"))","v":""},null,{"$f":"IF(C18=\"\",\"\",IF(OR(F13=\"Proceed to the Criterion 1\",F10=\"Proceed to the Criterion 1\",H13=\"Proceed to the Criterion 1\"),IF(AND(Calculos!D33>0.25,Calculos!D33<=0.35),IF(E20=\"\",\"\",IF(C18<=E20,\"The oil is coherent\",\"\"))),\"\"))","v":""}]
[]
[null,"Criterion 2 L3 "]
[null,"Parameter","Value","Higher Limit","Lower Limit",{"$f":"IF(C29=\"\",\"\",IF(OR(F24=\"Proceed to the Criterion 2\",F21=\"Proceed to the Criterion 2\",F18=\"Proceed to the Criterion 2\",H24=\"Proceed to the Criterion 2\",H21=\"Proceed to the Criterion 2\",H18=\"Proceed to the Criterion 2\"),IF(AND(Calculos!D33>0.25,Calculos!D33<=0.35),IF(E32=\"\",\"\",IF(C29>D32,\"The oil is not coherent\",\"\"))),\"\"))","v":""},null,{"$f":"IF(C29=\"\",\"\",IF(OR(F24=\"Proceed to the Criterion 2\",F21=\"Proceed to the Criterion 2\",F18=\"Proceed to the Criterion 2\",H24=\"Proceed to the Criterion 2\",H21=\"Proceed to the Criterion 2\",H18=\"Proceed to the Criterion 2\"),IF(AND(Calculos!D33>0.25,Calculos!D33<=0.35),IF(E29=\"\",\"\",IF(C29>D29,\"The oil is not coherent\",\"\"))),\"\"))","v":""}]
[null,"L3 =",{"$f":"IF('Experimental Data'!E27=\"\",\"\",IF(AND(Calculos!D33>0.25,Calculos!D33<=0.35),Calculos!J19,\"\"))","v":""},{"$f":"IF(C10<=1.2,IF(C29=\"\",\"\",IF(AND(Calculos!D33>0.25,Calculos!D33<=0.35),IF(AND(C31>1,C30>3),ROUND(0.17169+(0.63858*C31)-(0.4104*C31^2)+(0.04451*C31^3),2),\"\"),\"\")),IF(C29=\"\",\"\",IF(AND(Calculos!D33>0.25,Calculos!D33<=0.35),IF(AND(C31>1,C30>3.5),ROUND(-7.12+(9.03333*C31)-(3.5*C31^2)+(0.41667*C31^3),2),\"\"),\"\")))","v":""},{"$f":"IF(C10<=1.2,IF(C29=\"\",\"\",IF(AND(Calculos!D33>0.25,Calculos!D33<=0.35),IF(AND(C31>1,C30>3),ROUND(0.58-(0.2875*C31),2),\"\"),\"\")),IF(C29=\"\",\"\",IF(AND(Calculos!D33>0.25,Calculos!D33<=0.35),IF(AND(C31>1,C30>3.5),0.12,\"\"),\"\")))","v":""},{"$f":"IF(C29=\"\",\"\",IF(OR(F24=\"Proceed to the Criterion 2\",F21=\"Proceed to the Criterion 2\",F18=\"Proceed to the Criterion 2\",H24=\"Proceed to the Criterion 2\",H21=\"Proceed to the Criterion 2\",H18=\"Proceed to the Criterion 2\"),IF(AND(Calculos!D33>0.25,Calculos!D33<=0.35),IF(E32=\"\",\"\",IF(AND(C29>E32,C29<=D32),\"Proceed to the Criterion 3\",\"\"))),\"\"))","v":""},null,{"$f":"IF(C29=\"\",\"\",IF(OR(F24=\"Proceed to the Criterion 2\",F21=\"Proceed to the Criterion 2\",F18=\"Proceed to the Criterion 2\",H24=\"Proceed to the Criterion 2\",H21=\"Proceed to the Criterion 2\",H18=\"Proceed to the Criterion 2\"),IF(AND(Calculos!D33>0.25,Calculos!D33<=0.35),IF(E29=\"\",\"\",IF(AND(C29>E29,C29<=D29),\"Proceed to the Criterion 3\",\"\"))),\"\"))","v":""}]
[null,"DOOL =",{"$f":"IF('Experimental Data'!E27=\"\",\"\",IF(AND(Calculos!D33>0.25,Calculos!D33<=0.35),ROUND(Calculos!B58,2),\"\"))","v":""},{"$f":"IF(C10<=1.2,IF(C29=\"\",\"\",IF(AND(Calculos!D33>0.25,Calculos!D33<=0.35),IF(AND(C31>1,C30<=3,C30>2),ROUND(-0.12731+(1.36987*C31)-(0.91475*C31^2)+(0.15099*C31^3),2),\"\"),\"\")),IF(C29=\"\",\"\",IF(AND(Calculos!D33>0.25,Calculos!D33<=0.35),IF(AND(C31>1,C30<=3.5,C30>2.5),ROUND(-0.12731+(1.36987*C31)-(0.91475*C31^2)+(0.15099*C31^3),2),\"\"),\"\")))","v":""},{"$f":"IF(C10<=1.2,IF(C29=\"\",\"\",IF(AND(Calculos!D33>0.25,Calculos!D33<=0.35),IF(AND(C31>1,C30<=3,C30>2),ROUND(0.2229-(0.0286*C31),2),\"\"),\"\")),IF(C29=\"\",\"\",IF(AND(Calculos!D33>0.25,Calculos!D33<=0.35),IF(AND(C31>1,C30<=3.5,C30>2.5),ROUND(0.4171-(0.1714*C31),2),\"\"),\"\")))","v":""},{"$f":"IF(C29=\"\",\"\",IF(OR(F24=\"Proceed to the Criterion 2\",F21=\"Proceed to the Criterion 2\",F18=\"Proceed to the Criterion 2\",H24=\"Proceed to the Criterion 2\",H21=\"Proceed to the Criterion 2\",H18=\"Proceed to the Criterion 2\"),IF(AND(Calculos!D33>0.25,Calculos!D33<=0.35),IF(E32=\"\",\"\",IF(C29<=E32,\"The oil is coherent\",\"\"))),\"\"))","v":""},null,{"$f":"IF(C29=\"\",\"\",IF(OR(F24=\"Proceed to the Criterion 2\",F21=\"Proceed to the Criterion 2\",F18=\"Proceed to the Criterion 2\",H24=\"Proceed to the Criterion 2\",H21=\"Proceed to the Criterion 2\",H18=\"Proceed to the Criterion 2\"),IF(AND(Calculos!D33>0.25,Calculos!D33<=0.35),IF(E29=\"\",\"\",IF(C29<=E29,\"The oil is coherent\",\"\"))),\"\"))","v":""}]
[null,"DECN44p",{"$f":"IF('Experimental Data'!E27=\"\",\"\",IF(AND(Calculos!D33>0.25,Calculos!D33<=0.35),Calculos!B38,\"\"))","v":""},{"$f":"IF(C10<=1.2,IF(C29=\"\",\"\",IF(AND(Calculos!D33>0.25,Calculos!D33<=0.35),IF(AND(C31>1,C30<=2),ROUND(0.09884+(0.70244*C31)-(0.29619*C31^2)-(0.05958*C31^3),2),\"\"),\"\")),IF(C29=\"\",\"\",IF(AND(Calculos!D33>0.25,Calculos!D33<=0.35),IF(AND(C31>1,C30<=2.5),ROUND(0.15906+(0.51557*C31)-(0.07697*C31^2)-(0.1195*C31^3),2),\"\"),\"\")))","v":""},{"$f":"IF(C10<=1.2,IF(C29=\"\",\"\",IF(AND(Calculos!D33>0.25,Calculos!D33<=0.35),IF(AND(C31>1,C30<=2),0.18,\"\"),\"\")),IF(C29=\"\",\"\",IF(AND(Calculos!D33>0.25,Calculos!D33<=0.35),IF(AND(C31>1,C30<=2.5),ROUND(0.4171-(0.1714*C31),2),\"\"),\"\")))","v":""},{"$f":"IF(C29=\"\",\"\",IF(OR(F24=\"Proceed to the Criterion 2\",F21=\"Proceed to the Criterion 2\",F18=\"Proceed to the Criterion 2\",H24=\"Proceed to the Criterion 2\",H21=\"Proceed to the Criterion 2\",H18=\"Proceed to the Criterion 2\"),IF(AND(Calculos!D33>0.25,Calculos!D33<=0.35),IF(E33=\"\",\"\",IF(C29>D33,\"The oil is not coherent\",\"\"))),\"\"))","v":""},null,{"$f":"IF(C29=\"\",\"\",IF(OR(F24=\"Proceed to the Criterion 2\",F21=\"Proceed to the Criterion 2\",F18=\"Proceed to the Criterion 2\",H24=\"Proceed to the Criterion 2\",H21=\"Proceed to the Criterion 2\",H18=\"Proceed to the Criterion 2\"),IF(AND(Calculos!D33>0.25,Calculos!D33<=0.35),IF(E30=\"\",\"\",IF(C29>D30,\"The oil is not coherent\",\"\"))),\"\"))","v":""}]
[null,"DLLL =",{"$f":"IF('Experimental Data'!E27=\"\",\"\",IF(AND(Calculos!D33>0.25,Calculos!D33<=0.35),ROUND(Calculos!B21,2),\"\"))","v":""},{"$f":"IF(C32<=0,IF(C29=\"\",\"\",IF(AND(Calculos!D33>0.25,Calculos!D33<=0.35),IF(AND(C31<=1,C30>5),ROUND(0.28315-(0.11368*C18)-(0.16676*C18^2)-(0.02457*C18^3),2),\"\"),\"\")),\"\")","v":""},{"$f":"IF(C32<=0,IF(C29=\"\",\"\",IF(AND(Calculos!D33>0.25,Calculos!D33<=0.35),IF(AND(C31<=1,C30>5),0.1,\"\"),\"\")),\"\")","v":""},{"$f":"IF(C29=\"\",\"\",IF(OR(F24=\"Proceed to the Criterion 2\",F21=\"Proceed to the Criterion 2\",F18=\"Proceed to the Criterion 2\",H24=\"Proceed to the Criterion 2\",H21=\"Proceed to the Criterion 2\",H18=\"Proceed to the Criterion 2\"),IF(AND(Calculos!D33>0.25,Calculos!D33<=0.35),IF(E33=\"\",\"\",IF(AND(C29>E33,C29<=D33),\"Proceed to the Criterion 3\",\"\"))),\"\"))","v":""},null,{"$f":"IF(C29=\"\",\"\",IF(OR(F24=\"Proceed to the Criterion 2\",F21=\"Proceed to the Criterion 2\",F18=\"Proceed to the Criterion 2\",H24=\"Proceed to the Criterion 2\",H21=\"Proceed to the Criterion 2\",H18=\"Proceed to the Criterion 2\"),IF(AND(Calculos!D33>0.25,Calculos!D33<=0.35),IF(E30=\"\",\"\",IF(AND(C29>E30,C29<=D30),\"Proceed to the Criterion 3\",\"\"))),\"\"))","v":""}]
[null,null,null,{"$f":"IF(C32<=0,IF(C29=\"\",\"\",IF(AND(Calculos!D33>0.25,Calculos!D33<=0.35),IF(AND(C31<=1,C30<=5,C30>3.5),ROUND(0.32785-(0.18934*C18)-(0.08268*C18^2)+(0.05466*C18^3),2),\"\"),\"\")),IF(C29=\"\",\"\",IF(AND(Calculos!D33>0.25,Calculos!D33<=0.35),IF(AND(C31<=1,C30>3.5),ROUND(0.10029+(1.69881*C31)-(2.69643*C31^2)+(0.83333*C31^3),2),\"\"),\"\")))","v":""},{"$f":"IF(C32<=0,IF(C29=\"\",\"\",IF(AND(Calculos!D33>0.25,Calculos!D33<=0.35),IF(AND(C31<=1,C30<=5,C30>3.5),0.1,\"\"),\"\")),IF(C29=\"\",\"\",IF(AND(Calculos!D33>0.25,Calculos!D33<=0.35),IF(AND(C31<=1,C30>3.5),0.2,\"\"),\"\")))","v":""},{"$f":"IF(C29=\"\",\"\",IF(OR(F24=\"Proceed to the Criterion 2\",F21=\"Proceed to the Criterion 2\",F18=\"Proceed to the Criterion 2\",H24=\"Proceed to the Criterion 2\",H21=\"Proceed to the Criterion 2\",H18=\"Proceed to the Criterion 2\"),IF(AND(Calculos!D33>0.25,Calculos!D33<=0.35),IF(E33=\"\",\"\",IF(C29<=E33,\"The oil is coherent\",\"\"))),\"\"))","v":""},null,{"$f":"IF(C29=\"\",\"\",IF(OR(F24=\"Proceed to the Criterion 2\",F21=\"Proceed to the Criterion 2\",F18=\"Proceed to the Criterion 2\",H24=\"Proceed to the Criterion 2\",H21=\"Proceed to the Criterion 2\",H18=\"Proceed to the Criterion 2\"),IF(AND(Calculos!D33>0.25,Calculos!D33<=0.35),IF(E30=\"\",\"\",IF(C29<=E30,\"The oil is coherent\",\"\"))),\"\"))","v":""}]
[null,null,null,{"$f":"IF(C32<=0,IF(C29=\"\",\"\",IF(AND(Calculos!D33>0.25,Calculos!D33<=0.35),IF(AND(C31<=1,C30<=3.5),0.35,\"\"),\"\")),IF(C29=\"\",\"\",IF(AND(Calculos!D33>0.25,Calculos!D33<=0.35),IF(AND(C31<=1,C30<=3.5),ROUND(-0.04564+(1.67045*C31)-(1.27714*C31^2)+(0.2069*C31^3),2),\"\"),\"\")))","v":""},{"$f":"IF(C32<=0,IF(C29=\"\",\"\",IF(AND(Calculos!D33>0.25,Calculos!D33<=0.35),IF(AND(C31<=1,C30<=3.5),0.1,\"\"),\"\")),IF(C29=\"\",\"\",IF(AND(Calculos!D33>0.25,Calculos!D33<=0.35),IF(AND(C31<=1,C30<=3.5),ROUND(0.39-(0.225*C31),2),\"\"),\"\")))","v":""},{"$f":"IF(C29=\"\",\"\",IF(OR(F24=\"Proceed to the Criterion 2\",F21=\"Proceed to the Criterion 2\",F18=\"Proceed to the Criterion 2\",H24=\"Proceed to the Criterion 2\",H21=\"Proceed to the Criterion 2\",H18=\"Proceed to the Criterion 2\"),IF(AND(Calculos!D33>0.25,Calculos!D33<=0.35),IF(E34=\"\",\"\",IF(C29>D34,\"The oil is not coherent\",\"\"))),\"\"))","v":""},null,{"$f":"IF(C29=\"\",\"\",IF(OR(F24=\"Proceed to the Criterion 2\",F21=\"Proceed to the Criterion 2\",F18=\"Proceed to the Criterion 2\",H24=\"Proceed to the Criterion 2\",H21=\"Proceed to the Criterion 2\",H18=\"Proceed to the Criterion 2\"),IF(AND(Calculos!D33>0.25,Calculos!D33<=0.35),IF(E31=\"\",\"\",IF(C29>D31,\"The oil is not coherent\",\"\"))),\"\"))","v":""}]
[null,null,null,null,null,{"$f":"IF(C29=\"\",\"\",IF(OR(F24=\"Proceed to the Criterion 2\",F21=\"Proceed to the Criterion 2\",F18=\"Proceed to the Criterion 2\",H24=\"Proceed to the Criterion 2\",H21=\"Proceed to the Criterion 2\",H18=\"Proceed to the Criterion 2\"),IF(AND(Calculos!D33>0.25,Calculos!D33<=0.35),IF(E34=\"\",\"\",IF(AND(C29>E34,C29<=D34),\"Proceed to the Criterion 3\",\"\"))),\"\"))","v":""},null,{"$f":"IF(C29=\"\",\"\",IF(OR(F24=\"Proceed to the Criterion 2\",F21=\"Proceed to the Criterion 2\",F18=\"Proceed to the Criterion 2\",H24=\"Proceed to the Criterion 2\",H21=\"Proceed to the Criterion 2\",H18=\"Proceed to the Criterion 2\"),IF(AND(Calculos!D33>0.25,Calculos!D33<=0.35),IF(E31=\"\",\"\",IF(AND(C29>E31,C29<=D31),\"Proceed to the Criterion 3\",\"\"))),\"\"))","v":""}]
[null,null,null,null,null,{"$f":"IF(C29=\"\",\"\",IF(OR(F24=\"Proceed to the Criterion 2\",F21=\"Proceed to the Criterion 2\",F18=\"Proceed to the Criterion 2\",H24=\"Proceed to the Criterion 2\",H21=\"Proceed to the Criterion 2\",H18=\"Proceed to the Criterion 2\"),IF(AND(Calculos!D33>0.25,Calculos!D33<=0.35),IF(E34=\"\",\"\",IF(C29<=E34,\"The oil is coherent\",\"\"))),\"\"))","v":""},null,{"$f":"IF(C29=\"\",\"\",IF(OR(F24=\"Proceed to the Criterion 2\",F21=\"Proceed to the Criterion 2\",F18=\"Proceed to the Criterion 2\",H24=\"Proceed to the Criterion 2\",H21=\"Proceed to the Criterion 2\",H18=\"Proceed to the Criterion 2\"),IF(AND(Calculos!D33>0.25,Calculos!D33<=0.35),IF(E31=\"\",\"\",IF(C29<=E31,\"The oil is coherent\",\"\"))),\"\"))","v":""}]
[]
[]
[null,"Criterion 3 R1 exp."]
[null,"Parameter","Value","Higher Limit","Lower Limit",{"$f":"IF(C41=\"\",\"\",IF(OR(F35=\"Proceed to the Criterion 3\",F32=\"Proceed to the Criterion 3\",F29=\"Proceed to the Criterion 3\",H35=\"Proceed to the Criterion 3\",H32=\"Proceed to the Criterion 3\",H29=\"Proceed to the Criterion 3\"),IF(AND(Calculos!D33>0.25,Calculos!D33<=0.35),IF(E43=\"\",\"\",IF(C41>D43,\"The oil is not coherent\",\"\"))),\"\"))","v":""}]
[null,"R1 exp.",{"$f":"IF('Experimental Data'!E27=\"\",\"\",IF(AND(Calculos!D33>0.25,Calculos!D33<=0.35),Calculos!B19,\"\"))","v":""},{"$f":"IF(C10<=1.2,IF(C41=\"\",\"\",IF(AND(Calculos!D33>0.25,Calculos!D33<=0.35),IF(AND(C42>1,C43>3),ROUND(0.31874+(1.12332*C42)-(0.6069*C42^2)+(0.06039*C42^3),2),\"\"),\"\")),\"\")","v":""},{"$f":"IF(C10<=1.2,IF(C41=\"\",\"\",IF(AND(Calculos!D33>0.25,Calculos!D33<=0.35),IF(AND(C42>1,C43>3),ROUND(0.31874+(1.12332*C42)-(0.6069*C42^2)+(0.06039*C42^3),2),\"\"),\"\")),\"\")","v":""},{"$f":"IF(C41=\"\",\"\",IF(OR(F35=\"Proceed to the Criterion 3\",F32=\"Proceed to the Criterion 3\",F29=\"Proceed to the Criterion 3\",H35=\"Proceed to the Criterion 3\",H32=\"Proceed to the Criterion 3\",H29=\"Proceed to the Criterion 3\"),IF(AND(Calculos!D33>0.25,Calculos!D33<=0.35),IF(E43=\"\",\"\",IF(AND(C41<=D43,C41>E43),\"Proceed to the Criterion 4\",\"\"))),\"\"))","v":""}]
[null,"DECN44p",{"$f":"IF('Experimental Data'!E27=\"\",\"\",IF(AND(Calculos!D33>0.25,Calculos!D33<=0.35),Calculos!B38,\"\"))","v":""},{"$f":"IF(C10<=1.2,IF(C41=\"\",\"\",IF(AND(Calculos!D33>0.25,Calculos!D33<=0.35),IF(AND(C42>1,C43<=3,C43>2),ROUND(0.34823+(1.5512*C42)-(1.10555*C42^2)+(0.19935*C42^3),2),\"\"),\"\")),IF(C41=\"\",\"\",IF(AND(Calculos!D33>0.25,Calculos!D33<=0.35),IF(AND(C42>1,C43>3.5),0.78,\"\"),\"\")))","v":""},{"$f":"IF(C10<=1.2,IF(C41=\"\",\"\",IF(AND(Calculos!D33>0.25,Calculos!D33<=0.35),IF(AND(C42>1,C43<=3,C43>2),ROUND(0.7571-(0.0714*C42),2),\"\"),\"\")),IF(C41=\"\",\"\",IF(AND(Calculos!D33>0.25,Calculos!D33<=0.35),IF(AND(C42>1,C43>3.5),0.66,\"\"),\"\")))","v":""},{"$f":"IF(C41=\"\",\"\",IF(OR(F35=\"Proceed to the Criterion 3\",F32=\"Proceed to the Criterion 3\",F29=\"Proceed to the Criterion 3\",H35=\"Proceed to the Criterion 3\",H32=\"Proceed to the Criterion 3\",H29=\"Proceed to the Criterion 3\"),IF(AND(Calculos!D33>0.25,Calculos!D33<=0.35),IF(E43=\"\",\"\",IF(C41<=E43,\"The oil is coherent\",\"\"))),\"\"))","v":""}]
[null,"DOOL =",{"$f":"IF('Experimental Data'!E27=\"\",\"\",IF(AND(Calculos!D33>0.25,Calculos!D33<=0.35),ROUND(Calculos!B58,2),\"\"))","v":""},{"$f":"IF(C10<=1.2,IF(C41=\"\",\"\",IF(AND(Calculos!D33>0.25,Calculos!D33<=0.35),IF(AND(C42>1,C43<=2),ROUND(-0.04784+(2.76112*C42)-(2.09579*C42^2)+(0.4115*C42^3),2),\"\"),\"\")),IF(C41=\"\",\"\",IF(AND(Calculos!D33>0.25,Calculos!D33<=0.35),IF(AND(C42>1,C43<=3.5),ROUND(0.34823+(1.5512*C42)-(1.10555*C42^2)+(0.19935*C42^3),2),\"\"),\"\")))","v":""},{"$f":"IF(C10<=1.2,IF(C41=\"\",\"\",IF(AND(Calculos!D33>0.25,Calculos!D33<=0.35),IF(AND(C42>1,C43<=2),0.65,\"\"),\"\")),IF(C41=\"\",\"\",IF(AND(Calculos!D33>0.25,Calculos!D33<=0.35),IF(AND(C42>1,C43<=3.5),ROUND(0.8643-(0.1429*C42),2),\"\"),\"\")))","v":""},{"$f":"IF(C41=\"\",\"\",IF(OR(F35=\"Proceed to the Criterion 3\",F32=\"Proceed to the Criterion 3\",F29=\"Proceed to the Criterion 3\",H35=\"Proceed to the Criterion 3\",H32=\"Proceed to the Criterion 3\",H29=\"Proceed to the Criterion 3\"),IF(AND(Calculos!D33>0.25,Calculos!D33<=0.35),IF(E44=\"\",\"\",IF(C41>D44,\"The oil is not coherent\",\"\"))),\"\"))","v":""}]
[null,"DLLL =",{"$f":"IF('Experimental Data'!E27=\"\",\"\",IF(AND(Calculos!D33>0.25,Calculos!D33<=0.35),ROUND(Calculos!B21,2),\"\"))","v":""},{"$f":"IF(C44<=0,IF(C41=\"\",\"\",IF(AND(Calculos!D33>0.25,Calculos!D33<=0.35),IF(AND(C42<=1,C43>3.5),ROUND(0.79697-(0.20363*C18)-(0.0639*C18^2)+(0.00559*C18^3),2),\"\"),\"\")),\"\")","v":""},{"$f":"IF(C44<=0,IF(C41=\"\",\"\",IF(AND(Calculos!D33>0.25,Calculos!D33<=0.35),IF(AND(C42<=1,C43>3.5),0.75,\"\"),\"\")),\"\")","v":""},{"$f":"IF(C41=\"\",\"\",IF(OR(F35=\"Proceed to the Criterion 3\",F32=\"Proceed to the Criterion 3\",F29=\"Proceed to the Criterion 3\",H35=\"Proceed to the Criterion 3\",H32=\"Proceed to the Criterion 3\",H29=\"Proceed to the Criterion 3\"),IF(AND(Calculos!D33>0.25,Calculos!D33<=0.35),IF(E44=\"\",\"\",IF(AND(C41<=D44,C41>E44),\"Proceed to the Criterion 4\",\"\"))),\"\"))","v":""}]
[null,null,null,{"$f":"IF(C44<=0,IF(C41=\"\",\"\",IF(AND(Calculos!D33>0.25,Calculos!D33<=0.35),IF(AND(C42<=1,C43<=3.5,C43>2),ROUND(0.81467-(0.18712*C18)-(0.26358*C18^2)-(0.04086*C18^3),2),\"\"),\"\")),IF(C41=\"\",\"\",IF(AND(Calculos!D33>0.25,Calculos!D33<=0.35),IF(AND(C42<=1,C43>3.5),ROUND(0.79959+(0.5806*C42)-(0.82763*C42^2)-(0.08732*C42^3),2),\"\"),\"\")))","v":""},{"$f":"IF(C44<=0,IF(C41=\"\",\"\",IF(AND(Calculos!D33>0.25,Calculos!D33<=0.35),IF(AND(C42<=1,C43<=3.5,C43>2),0.65,\"\"),\"\")),IF(C41=\"\",\"\",IF(AND(Calculos!D33>0.25,Calculos!D33<=0.35),IF(AND(C42<=1,C43>3.5),0.7,\"\"),\"\")))","v":""},{"$f":"IF(C41=\"\",\"\",IF(OR(F35=\"Proceed to the Criterion 3\",F32=\"Proceed to the Criterion 3\",F29=\"Proceed to the Criterion 3\",H35=\"Proceed to the Criterion 3\",H32=\"Proceed to the Criterion 3\",H29=\"Proceed to the Criterion 3\"),IF(AND(Calculos!D33>0.25,Calculos!D33<=0.35),IF(E44=\"\",\"\",IF(C41<=E44,\"The oil is coherent\",\"\"))),\"\"))","v":""}]
[null,null,null,{"$f":"IF(C44<=0,IF(C41=\"\",\"\",IF(AND(Calculos!D33>0.25,Calculos!D33<=0.35),IF(AND(C42<=1,C43<=2),1,\"\"),\"\")),IF(C41=\"\",\"\",IF(AND(Calculos!D33>0.25,Calculos!D33<=0.35),IF(AND(C42<=1,C43<=3.5),ROUND(0.49951+(1.79809*C42)-(1.55*C42^2)+(0.30411*C42^3),2),\"\"),\"\")))","v":""},{"$f":"IF(C44<=0,IF(C41=\"\",\"\",IF(AND(Calculos!D33>0.25,Calculos!D33<=0.35),IF(AND(C42<=1,C43<=2),0.65,\"\"),\"\")),IF(C41=\"\",\"\",IF(AND(Calculos!D33>0.25,Calculos!D33<=0.35),IF(AND(C42<=1,C43<=3.5),ROUND(0.985-(0.3625*C42),2),\"\"),\"\")))","v":""},{"$f":"IF(C41=\"\",\"\",IF(OR(F35=\"Proceed to the Criterion 3\",F32=\"Proceed to the Criterion 3\",F29=\"Proceed to the Criterion 3\",H35=\"Proceed to the Criterion 3\",H32=\"Proceed to the Criterion 3\",H29=\"Proceed to the Criterion 3\"),IF(AND(Calculos!D33>0.25,Calculos!D33<=0.35),IF(E45=\"\",\"\",IF(C41>D45,\"The oil is not coherent\",\"\"))),\"\"))","v":""},null,{"$f":"IF(C41=\"\",\"\",IF(OR(F35=\"Proceed to the Criterion 3\",F32=\"Proceed to the Criterion 3\",F29=\"Proceed to the Criterion 3\",H35=\"Proceed to the Criterion 3\",H32=\"Proceed to the Criterion 3\",H29=\"Proceed to the Criterion 3\"),IF(AND(Calculos!D33>0.25,Calculos!D33<=0.35),IF(E41=\"\",\"\",IF(C41>D41,\"The oil is not coherent\",\"\"))),\"\"))","v":""}]
[null,null,null,null,null,{"$f":"IF(C41=\"\",\"\",IF(OR(F35=\"Proceed to the Criterion 3\",F32=\"Proceed to the Criterion 3\",F29=\"Proceed to the Criterion 3\",H35=\"Proceed to the Criterion 3\",H32=\"Proceed to the Criterion 3\",H29=\"Proceed to the Criterion 3\"),IF(AND(Calculos!D33>0.25,Calculos!D33<=0.35),IF(E45=\"\",\"\",IF(AND(C41<=D45,C41>E45),\"Proceed to the Criterion 4\",\"\"))),\"\"))","v":""},null,{"$f":"IF(C41=\"\",\"\",IF(OR(F35=\"Proceed to the Criterion 3\",F32=\"Proceed to the Criterion 3\",F29=\"Proceed to the Criterion 3\",H35=\"Proceed to the Criterion 3\",H32=\"Proceed to the Criterion 3\",H29=\"Proceed to the Criterion 3\"),IF(AND(Calculos!D33>0.25,Calculos!D33<=0.35),IF(E41=\"\",\"\",IF(AND(C41<=D41,C41>E41),\"Proceed to the Criterion 4\",\"\"))),\"\"))","v":""}]
[null,null,null,null,null,{"$f":"IF(C41=\"\",\"\",IF(OR(F35=\"Proceed to the Criterion 3\",F32=\"Proceed to the Criterion 3\",F29=\"Proceed to the Criterion 3\",H35=\"Proceed to the Criterion 3\",H32=\"Proceed to the Criterion 3\",H29=\"Proceed to the Criterion 3\"),IF(AND(Calculos!D33>0.25,Calculos!D33<=0.35),IF(E45=\"\",\"\",IF(C41<=E45,\"The oil is coherent\",\"\"))),\"\"))","v":""},null,{"$f":"IF(C41=\"\",\"\",IF(OR(F35=\"Proceed to the Criterion 3\",F32=\"Proceed to the Criterion 3\",F29=\"Proceed to the Criterion 3\",H35=\"Proceed to the Criterion 3\",H32=\"Proceed to the Criterion 3\",H29=\"Proceed to the Criterion 3\"),IF(AND(Calculos!D33>0.25,Calculos!D33<=0.35),IF(E41=\"\",\"\",IF(C41<=E41,\"The oil is coherent\",\"\"))),\"\"))","v":""}]
[null,null,null,null,null,{"$f":"IF(C41=\"\",\"\",IF(OR(F35=\"Proceed to the Criterion 3\",F32=\"Proceed to the Criterion 3\",F29=\"Proceed to the Criterion 3\",H35=\"Proceed to the Criterion 3\",H32=\"Proceed to the Criterion 3\",H29=\"Proceed to the Criterion 3\"),IF(AND(Calculos!D33>0.25,Calculos!D33<=0.35),IF(E46=\"\",\"\",IF(C41>D46,\"The oil is not coherent\",\"\"))),\"\"))","v":""},null,{"$f":"IF(C41=\"\",\"\",IF(OR(F35=\"Proceed to the Criterion 3\",F32=\"Proceed to the Criterion 3\",F29=\"Proceed to the Criterion 3\",H35=\"Proceed to the Criterion 3\",H32=\"Proceed to the Criterion 3\",H29=\"Proceed to the Criterion 3\"),IF(AND(Calculos!D33>0.25,Calculos!D33<=0.35),IF(E42=\"\",\"\",IF(C41>D42,\"The oil is not coherent\",\"\"))),\"\"))","v":""}]
[null,null,null,null,null,{"$f":"IF(C41=\"\",\"\",IF(OR(F35=\"Proceed to the Criterion 3\",F32=\"Proceed to the Criterion 3\",F29=\"Proceed to the Criterion 3\",H35=\"Proceed to the Criterion 3\",H32=\"Proceed to the Criterion 3\",H29=\"Proceed to the Criterion 3\"),IF(AND(Calculos!D33>0.25,Calculos!D33<=0.35),IF(E46=\"\",\"\",IF(AND(C41<=D46,C41>E46),\"Proceed to the Criterion 4\",\"\"))),\"\"))","v":""},null,{"$f":"IF(C41=\"\",\"\",IF(OR(F35=\"Proceed to the Criterion 3\",F32=\"Proceed to the Criterion 3\",F29=\"Proceed to the Criterion 3\",H35=\"Proceed to the Criterion 3\",H32=\"Proceed to the Criterion 3\",H29=\"Proceed to the Criterion 3\"),IF(AND(Calculos!D33>0.25,Calculos!D33<=0.35),IF(E42=\"\",\"\",IF(AND(C41<=D42,C41>E42),\"Proceed to the Criterion 4\",\"\"))),\"\"))","v":""}]
[null,null,null,null,null,{"$f":"IF(C41=\"\",\"\",IF(OR(F35=\"Proceed to the Criterion 3\",F32=\"Proceed to the Criterion 3\",F29=\"Proceed to the Criterion 3\",H35=\"Proceed to the Criterion 3\",H32=\"Proceed to the Criterion 3\",H29=\"Proceed to the Criterion 3\"),IF(AND(Calculos!D33>0.25,Calculos!D33<=0.35),IF(E46=\"\",\"\",IF(C41<=E46,\"The oil is coherent\",\"\"))),\"\"))","v":""},null,{"$f":"IF(C41=\"\",\"\",IF(OR(F35=\"Proceed to the Criterion 3\",F32=\"Proceed to the Criterion 3\",F29=\"Proceed to the Criterion 3\",H35=\"Proceed to the Criterion 3\",H32=\"Proceed to the Criterion 3\",H29=\"Proceed to the Criterion 3\"),IF(AND(Calculos!D33>0.25,Calculos!D33<=0.35),IF(E42=\"\",\"\",IF(C41<=E42,\"The oil is coherent\",\"\"))),\"\"))","v":""}]
[]
[null,"Criterion 4 DR1"]
[null,"Parameter","Value","Higher Limit","Lower Limit",{"$f":"IF(C55=\"\",\"\",IF(OR(F50=\"Proceed to the Criterion 4\",F47=\"Proceed to the Criterion 4\",F44=\"Proceed to the Criterion 4\",F41=\"Proceed to the Criterion 4\",H50=\"Proceed to the Criterion 4\",H47=\"Proceed to the Criterion 4\"),IF(AND(Calculos!D33>0.25,Calculos!D33<=0.35),IF(E57=\"\",\"\",IF(C55>D57,\"The oil is not coherent\",\"\"))),\"\"))","v":""}]
[null,"DR1",{"$f":"IF('Experimental Data'!E27=\"\",\"\",IF(AND(Calculos!D33>0.25,Calculos!D33<=0.35),Calculos!B20,\"\"))","v":""},{"$f":"IF(C10<=1.2,IF(C55=\"\",\"\",IF(AND(Calculos!D33>0.25,Calculos!D33<=0.35),IF(AND(C57>1,C56>3),ROUND(-0.09331+(1.37903*C57)-(0.96078*C57^2)+(0.17266*C57^3),2),\"\"),\"\")),IF(C55=\"\",\"\",IF(AND(Calculos!D33>0.25,Calculos!D33<=0.35),IF(AND(C57>1,C56>3.5),ROUND(-6.93+(10.125*C57)-(4.5*C57^2)+(0.625*C57^3),2),\"\"),\"\")))","v":""},{"$f":"IF(C10<=1.2,IF(C55=\"\",\"\",IF(AND(Calculos!D33>0.25,Calculos!D33<=0.35),IF(AND(C57>1,C56>3),ROUND(0.48-(0.15*C57),2),\"\"),\"\")),IF(C55=\"\",\"\",IF(AND(Calculos!D33>0.25,Calculos!D33<=0.35),IF(AND(C57>1,C56>3.5),0.24,\"\"),\"\")))","v":""},{"$f":"IF(C55=\"\",\"\",IF(OR(F50=\"Proceed to the Criterion 4\",F47=\"Proceed to the Criterion 4\",F44=\"Proceed to the Criterion 4\",F41=\"Proceed to the Criterion 4\",H50=\"Proceed to the Criterion 4\",H47=\"Proceed to the Criterion 4\"),IF(AND(Calculos!D33>0.25,Calculos!D33<=0.35),IF(E57=\"\",\"\",IF(AND(C55<=D57,C55>E57),\"Proceed to the Criterion 5\",\"\"))),\"\"))","v":""}]
[null,"DOOL =",{"$f":"IF('Experimental Data'!E27=\"\",\"\",IF(AND(Calculos!D33>0.25,Calculos!D33<=0.35),ROUND(Calculos!B58,2),\"\"))","v":""},{"$f":"IF(C10<=1.2,IF(C55=\"\",\"\",IF(AND(Calculos!D33>0.25,Calculos!D33<=0.35),IF(AND(C57>1,C56<=3,C56>2),ROUND(-0.09331+(1.37903*C57)-(0.96078*C57^2)+(0.17266*C57^3),2),\"\"),\"\")),IF(C55=\"\",\"\",IF(AND(Calculos!D33>0.25,Calculos!D33<=0.35),IF(AND(C57>1,C56<=3.5,C56>2.5),ROUND(-0.09331+(1.37903*C57)-(0.96078*C57^2)+(0.17266*C57^3),2),\"\"),\"\")))","v":""},{"$f":"IF(C10<=1.2,IF(C55=\"\",\"\",IF(AND(Calculos!D33>0.25,Calculos!D33<=0.35),IF(AND(C57>1,C56<=3,C56>2),ROUND(0.2571-(0.0714*C57),2),\"\"),\"\")),IF(C55=\"\",\"\",IF(AND(Calculos!D33>0.25,Calculos!D33<=0.35),IF(AND(C57>1,C56<=3.5,C56>2.5),ROUND(0.46-(0.2*C57),2),\"\"),\"\")))","v":""},{"$f":"IF(C55=\"\",\"\",IF(OR(F50=\"Proceed to the Criterion 4\",F47=\"Proceed to the Criterion 4\",F44=\"Proceed to the Criterion 4\",F41=\"Proceed to the Criterion 4\",H50=\"Proceed to the Criterion 4\",H47=\"Proceed to the Criterion 4\"),IF(AND(Calculos!D33>0.25,Calculos!D33<=0.35),IF(E57=\"\",\"\",IF(C55<=E57,\"The oil is coherent\",\"\"))),\"\"))","v":""}]
[null,"DECN44p",{"$f":"IF('Experimental Data'!E27=\"\",\"\",IF(AND(Calculos!D33>0.25,Calculos!D33<=0.35),Calculos!B38,\"\"))","v":""},{"$f":"IF(C10<=1.2,IF(C55=\"\",\"\",IF(AND(Calculos!D33>0.25,Calculos!D33<=0.35),IF(AND(C57>1,C56<=2),ROUND(-0.78434+(3.14515*C57)-(2.32731*C57^2)+(0.46386*C57^3),2),\"\"),\"\")),IF(C55=\"\",\"\",IF(AND(Calculos!D33>0.25,Calculos!D33<=0.35),IF(AND(C57>1,C56<=2.5),ROUND(-0.57312+(2.63236*C57)-(1.97839*C57^2)+(0.41774*C57^3),2),\"\"),\"\")))","v":""},{"$f":"IF(C10<=1.2,IF(C55=\"\",\"\",IF(AND(Calculos!D33>0.25,Calculos!D33<=0.35),IF(AND(C57>1,C56<=2),0.18,\"\"),\"\")),IF(C55=\"\",\"\",IF(AND(Calculos!D33>0.25,Calculos!D33<=0.35),IF(AND(C57>1,C56<=2.5),ROUND(0.5443-(0.2429*C57),2),\"\"),\"\")))","v":""},{"$f":"IF(C55=\"\",\"\",IF(OR(F50=\"Proceed to the Criterion 4\",F47=\"Proceed to the Criterion 4\",F44=\"Proceed to the Criterion 4\",F41=\"Proceed to the Criterion 4\",H50=\"Proceed to the Criterion 4\",H47=\"Proceed to the Criterion 4\"),IF(AND(Calculos!D33>0.25,Calculos!D33<=0.35),IF(E58=\"\",\"\",IF(C55>D58,\"The oil is not coherent\",\"\"))),\"\"))","v":""},null,{"$f":"IF(C55=\"\",\"\",IF(OR(F50=\"Proceed to the Criterion 4\",F47=\"Proceed to the Criterion 4\",F44=\"Proceed to the Criterion 4\",F41=\"Proceed to the Criterion 4\",H50=\"Proceed to the Criterion 4\",H47=\"Proceed to the Criterion 4\"),IF(AND(Calculos!D33>0.25,Calculos!D33<=0.35),IF(E55=\"\",\"\",IF(C55>D55,\"The oil is not coherent\",\"\"))),\"\"))","v":""}]
[null,"DLLL =",{"$f":"IF('Experimental Data'!E27=\"\",\"\",IF(AND(Calculos!D33>0.25,Calculos!D33<=0.35),ROUND(Calculos!B21,2),\"\"))","v":""},{"$f":"IF(C58<=0,IF(C55=\"\",\"\",IF(AND(Calculos!D33>0.25,Calculos!D33<=0.35),IF(AND(C57<=1,C56>3.5),ROUND(0.24829-(0.14048*C18)-(0.14714*C18^2)-(0.00667*C18^3),2),\"\"),\"\")),IF(C55=\"\",\"\",IF(AND(Calculos!D33>0.25,Calculos!D33<=0.35),IF(AND(C57<=1,C56>3.5),ROUND(0.15014+(1.09107*C57)-(1.53571*C57^2)+(0.3125*C57^3),2),\"\"),\"\")))","v":""},{"$f":"IF(C58<=0,IF(C55=\"\",\"\",IF(AND(Calculos!D33>0.25,Calculos!D33<=0.35),IF(AND(C57<=1,C56>3.5),0,\"\"),\"\")),IF(C55=\"\",\"\",IF(AND(Calculos!D33>0.25,Calculos!D33<=0.35),IF(AND(C57<=1,C56>3.5),0.15,\"\"),\"\")))","v":""},{"$f":"IF(C55=\"\",\"\",IF(OR(F50=\"Proceed to the Criterion 4\",F47=\"Proceed to the Criterion 4\",F44=\"Proceed to the Criterion 4\",F41=\"Proceed to the Criterion 4\",H50=\"Proceed to the Criterion 4\",H47=\"Proceed to the Criterion 4\"),IF(AND(Calculos!D33>0.25,Calculos!D33<=0.35),IF(E58=\"\",\"\",IF(AND(C55<=D58,C55>E58),\"Proceed to the Criterion 5\",\"\"))),\"\"))","v":""},null,{"$f":"IF(C55=\"\",\"\",IF(OR(F50=\"Proceed to the Criterion 4\",F47=\"Proceed to the Criterion 4\",F44=\"Proceed to the Criterion 4\",F41=\"Proceed to the Criterion 4\",H50=\"Proceed to the Criterion 4\",H47=\"Proceed to the Criterion 4\"),IF(AND(Calculos!D33>0.25,Calculos!D33<=0.35),IF(E55=\"\",\"\",IF(AND(C55<=D55,C55>E55),\"Proceed to the Criterion 5\",\"\"))),\"\"))","v":""}]
[null,null,null,{"$f":"IF(C58<=0,IF(C55=\"\",\"\",IF(AND(Calculos!D33>0.25,Calculos!D33<=0.35),IF(AND(C57<=1,C56<=3.5),ROUND(0.31+(0.06333*C18)-(0.1*C18^2)+(0.02667*C18^3),2),\"\"),\"\")),IF(C55=\"\",\"\",IF(AND(Calculos!D33>0.25,Calculos!D33<=0.35),IF(AND(C57<=1,C56<=3.5),ROUND(-0.04571+(1.56349*C57)-(0.97917*C57^2)+(0.03472*C57^3),2),\"\"),\"\")))","v":""},{"$f":"IF(C58<=0,IF(C55=\"\",\"\",IF(AND(Calculos!D33>0.25,Calculos!D33<=0.35),IF(AND(C57<=1,C56<=3.5),0.1,\"\"),\"\")),IF(C55=\"\",\"\",IF(AND(Calculos!D33>0.25,Calculos!D33<=0.35),IF(AND(C57<=1,C56<=3.5),ROUND(0.35-(0.175*C57),2),\"\"),\"\")))","v":""},{"$f":"IF(C55=\"\",\"\",IF(OR(F50=\"Proceed to the Criterion 4\",F47=\"Proceed to the Criterion 4\",F44=\"Proceed to the Criterion 4\",F41=\"Proceed to the Criterion 4\",H50=\"Proceed to the Criterion 4\",H47=\"Proceed to the Criterion 4\"),IF(AND(Calculos!D33>0.25,Calculos!D33<=0.35),IF(E58=\"\",\"\",IF(C55<=E58,\"The oil is coherent\",\"\"))),\"\"))","v":""},null,{"$f":"IF(C55=\"\",\"\",IF(OR(F50=\"Proceed to the Criterion 4\",F47=\"Proceed to the Criterion 4\",F44=\"Proceed to the Criterion 4\",F41=\"Proceed to the Criterion 4\",H50=\"Proceed to the Criterion 4\",H47=\"Proceed to the Criterion 4\"),IF(AND(Calculos!D33>0.25,Calculos!D33<=0.35),IF(E55=\"\",\"\",IF(C55<=E55,\"The oil is coherent\",\"\"))),\"\"))","v":""}]
[null,null,null,null,null,{"$f":"IF(C55=\"\",\"\",IF(OR(F50=\"Proceed to the Criterion 4\",F47=\"Proceed to the Criterion 4\",F44=\"Proceed to the Criterion 4\",F41=\"Proceed to the Criterion 4\",H50=\"Proceed to the Criterion 4\",H47=\"Proceed to the Criterion 4\"),IF(AND(Calculos!D33>0.25,Calculos!D33<=0.35),IF(E59=\"\",\"\",IF(C55>D59,\"The oil is not coherent\",\"\"))),\"\"))","v":""},null,{"$f":"IF(C55=\"\",\"\",IF(OR(F50=\"Proceed to the Criterion 4\",F47=\"Proceed to the Criterion 4\",F44=\"Proceed to the Criterion 4\",F41=\"Proceed to the Criterion 4\",H50=\"Proceed to the Criterion 4\",H47=\"Proceed to the Criterion 4\"),IF(AND(Calculos!D33>0.25,Calculos!D33<=0.35),IF(E56=\"\",\"\",IF(C55>D56,\"The oil is not coherent\",\"\"))),\"\"))","v":""}]
[null,null,null,null,null,{"$f":"IF(C55=\"\",\"\",IF(OR(F50=\"Proceed to the Criterion 4\",F47=\"Proceed to the Criterion 4\",F44=\"Proceed to the Criterion 4\",F41=\"Proceed to the Criterion 4\",H50=\"Proceed to the Criterion 4\",H47=\"Proceed to the Criterion 4\"),IF(AND(Calculos!D33>0.25,Calculos!D33<=0.35),IF(E59=\"\",\"\",IF(AND(C55<=D59,C55>E59),\"Proceed to the Criterion 5\",\"\"))),\"\"))","v":""},null,{"$f":"IF(C55=\"\",\"\",IF(OR(F50=\"Proceed to the Criterion 4\",F47=\"Proceed to the Criterion 4\",F44=\"Proceed to the Criterion 4\",F41=\"Proceed to the Criterion 4\",H50=\"Proceed to the Criterion 4\",H47=\"Proceed to the Criterion 4\"),IF(AND(Calculos!D33>0.25,Calculos!D33<=0.35),IF(E56=\"\",\"\",IF(AND(C55<=D56,C55>E56),\"Proceed to the Criterion 5\",\"\"))),\"\"))","v":""}]
[null,null,null,null,null,{"$f":"IF(C55=\"\",\"\",IF(OR(F50=\"Proceed to the Criterion 4\",F47=\"Proceed to the Criterion 4\",F44=\"Proceed to the Criterion 4\",F41=\"Proceed to the Criterion 4\",H50=\"Proceed to the Criterion 4\",H47=\"Proceed to the Criterion 4\"),IF(AND(Calculos!D33>0.25,Calculos!D33<=0.35),IF(E59=\"\",\"\",IF(C55<=E59,\"The oil is coherent\",\"\"))),\"\"))","v":""},null,{"$f":"IF(C55=\"\",\"\",IF(OR(F50=\"Proceed to the Criterion 4\",F47=\"Proceed to the Criterion 4\",F44=\"Proceed to the Criterion 4\",F41=\"Proceed to the Criterion 4\",H50=\"Proceed to the Criterion 4\",H47=\"Proceed to the Criterion 4\"),IF(AND(Calculos!D33>0.25,Calculos!D33<=0.35),IF(E56=\"\",\"\",IF(C55<=E56,\"The oil is coherent\",\"\"))),\"\"))","v":""}]
[]
[null,"Criterion 5 L4"]
[null,"Parameter","Value","Higher Limit","Lower Limit",{"$f":"IF(C66=\"\",\"\",IF(OR(F61=\"Proceed to the Criterion 5\",F58=\"Proceed to the Criterion 5\",F55=\"Proceed to the Criterion 5\",H61=\"Proceed to the Criterion 5\",H58=\"Proceed to the Criterion 5\"),IF(AND(Calculos!D33>0.25,Calculos!D33<=0.35),IF(D67=\"\",\"\",IF(C66<=D67,\"The oil is coherent\",\"The oil is not coherent\"))),\"\"))","v":""}]
[null,"L4 =",{"$f":"IF('Experimental Data'!E27=\"\",\"\",IF(AND(Calculos!D33>0.25,Calculos!D33<=0.35),Calculos!J22,\"\"))","v":""},{"$f":"IF(C10<=1.2,\"\",IF(C66=\"\",\"\",IF(AND(Calculos!D33>0.25,Calculos!D33<=0.35),IF(AND(C68>1,C67>3.5),ROUND(-34.1+(47.375*C68)-(21.25*C68^2)+(3.125*C68^3),2),\"\"),\"\")))","v":""},{"$f":"IF(C10<=1.2,\"\",IF(C66=\"\",\"\",IF(AND(Calculos!D33>0.25,Calculos!D33<=0.35),IF(AND(C68>1,C67>3.5),0.3,\"\"),\"\")))","v":""},{"$f":"IF(C66=\"\",\"\",IF(OR(F61=\"Proceed to the Criterion 5\",F58=\"Proceed to the Criterion 5\",F55=\"Proceed to the Criterion 5\",H61=\"Proceed to the Criterion 5\",H58=\"Proceed to the Criterion 5\"),IF(AND(Calculos!D33>0.25,Calculos!D33<=0.35),IF(D68=\"\",\"\",IF(C66<=D68,\"The oil is coherent\",\"The oil is not coherent\"))),\"\"))","v":""}]
[null,"DOOL =",{"$f":"IF('Experimental Data'!E27=\"\",\"\",IF(AND(Calculos!D33>0.25,Calculos!D33<=0.35),ROUND(Calculos!B58,2),\"\"))","v":""},{"$f":"IF(C10<=1.2,IF(C66=\"\",\"\",IF(AND(Calculos!D33>0.25,Calculos!D33<=0.35),IF(AND(C68>1,C67>2),ROUND(1.23727-(0.42232*C68)+(0.51962*C68^2)-(0.25568*C68^3),2),\"\"),\"\")),IF(C66=\"\",\"\",IF(AND(Calculos!D33>0.25,Calculos!D33<=0.35),IF(AND(C68>1,C67<=3.5,C67>2.5),ROUND(1.47515-(1.1124*C68)+(1.03057*C68^2)-(0.36774*C68^3),2),\"\"),\"\")))","v":""},{"$f":"IF(C10<=1.2,IF(C66=\"\",\"\",IF(AND(Calculos!D33>0.25,Calculos!D33<=0.35),IF(AND(C68>1,C67>2),\"\",\"\"),\"\")),IF(C66=\"\",\"\",IF(AND(Calculos!D33>0.25,Calculos!D33<=0.35),IF(AND(C68>1,C67<=3.5,C67>2.5),ROUND(1.0429-(0.4286*C68),2),\"\"),\"\")))","v":""},{"$f":"IF(C66=\"\",\"\",IF(OR(F61=\"Proceed to the Criterion 5\",F58=\"Proceed to the Criterion 5\",F55=\"Proceed to the Criterion 5\",H61=\"Proceed to the Criterion 5\",H58=\"Proceed to the Criterion 5\"),IF(AND(Calculos!D33>0.25,Calculos!D33<=0.35),IF(E69=\"\",\"\",IF(C66>D69,\"The oil is not coherent\",\"\"))),\"\"))","v":""},null,{"$f":"IF(C66=\"\",\"\",IF(OR(F61=\"Proceed to the Criterion 5\",F58=\"Proceed to the Criterion 5\",F55=\"Proceed to the Criterion 5\",H61=\"Proceed to the Criterion 5\",H58=\"Proceed to the Criterion 5\"),IF(AND(Calculos!D33>0.25,Calculos!D33<=0.35),IF(E66=\"\",\"\",IF(C66>D66,\"The oil is not coherent\",\"\"))),\"\"))","v":""}]
[null,"DECN44p",{"$f":"IF('Experimental Data'!E27=\"\",\"\",IF(AND(Calculos!D33>0.25,Calculos!D33<=0.35),Calculos!B38,\"\"))","v":""},{"$f":"IF(C10<=1.2,IF(C66=\"\",\"\",IF(AND(Calculos!D33>0.25,Calculos!D33<=0.35),IF(AND(C68>1,C67<=2),ROUND(1.22405-(0.50437*C68)+(0.78423*C68^2)-(0.43403*C68^3),2),\"\"),\"\")),IF(C66=\"\",\"\",IF(AND(Calculos!D33>0.25,Calculos!D33<=0.35),IF(AND(C68>1,C67<=2.5),ROUND(1.34111-(1.01038*C68)+(1.25843*C68^2)-(0.56134*C68^3),2),\"\"),\"\")))","v":""},{"$f":"IF(C10<=1.2,IF(C66=\"\",\"\",IF(AND(Calculos!D33>0.25,Calculos!D33<=0.35),IF(AND(C68>1,C67<=2),\"\",\"\"),\"\")),IF(C66=\"\",\"\",IF(AND(Calculos!D33>0.25,Calculos!D33<=0.35),IF(AND(C68>1,C67<=2.5),ROUND(0.9857-(0.3571*C68),2),\"\"),\"\")))","v":""},{"$f":"IF(C66=\"\",\"\",IF(OR(F61=\"Proceed to the Criterion 5\",F58=\"Proceed to the Criterion 5\",F55=\"Proceed to the Criterion 5\",H61=\"Proceed to the Criterion 5\",H58=\"Proceed to the Criterion 5\"),IF(AND(Calculos!D33>0.25,Calculos!D33<=0.35),IF(E69=\"\",\"\",IF(AND(C66>E69,C66<=D69),\"Proceed to the Criterion 6\",\"\"))),\"\"))","v":""},null,{"$f":"IF(C66=\"\",\"\",IF(OR(F61=\"Proceed to the Criterion 5\",F58=\"Proceed to the Criterion 5\",F55=\"Proceed to the Criterion 5\",H61=\"Proceed to the Criterion 5\",H58=\"Proceed to the Criterion 5\"),IF(AND(Calculos!D33>0.25,Calculos!D33<=0.35),IF(E66=\"\",\"\",IF(AND(C66>E66,C66<=D66),\"Proceed to the Criterion 6\",\"\"))),\"\"))","v":""}]
[null,"DLLL =",{"$f":"IF('Experimental Data'!E27=\"\",\"\",IF(AND(Calculos!D33>0.25,Calculos!D33<=0.35),ROUND(Calculos!B21,2),\"\"))","v":""},{"$f":"IF(C69<=0,IF(C66=\"\",\"\",IF(AND(Calculos!D33>0.25,Calculos!D33<=0.35),IF(AND(C68<=1,C67>5),ROUND(0.43781-(0.27563*C18)-(0.14399*C18^2)+(0.05234*C18^3),2),\"\"),\"\")),\"\")","v":""},{"$f":"IF(C69<=0,IF(C66=\"\",\"\",IF(AND(Calculos!D33>0.25,Calculos!D33<=0.35),IF(AND(C68<=1,C67>5),0.15,\"\"),\"\")),\"\")","v":""},{"$f":"IF(C66=\"\",\"\",IF(OR(F61=\"Proceed to the Criterion 5\",F58=\"Proceed to the Criterion 5\",F55=\"Proceed to the Criterion 5\",H61=\"Proceed to the Criterion 5\",H58=\"Proceed to the Criterion 5\"),IF(AND(Calculos!D33>0.25,Calculos!D33<=0.35),IF(E69=\"\",\"\",IF(C66<=E69,\"The oil is coherent\",\"\"))),\"\"))","v":""},null,{"$f":"IF(C66=\"\",\"\",IF(OR(F61=\"Proceed to the Criterion 5\",F58=\"Proceed to the Criterion 5\",F55=\"Proceed to the Criterion 5\",H61=\"Proceed to the Criterion 5\",H58=\"Proceed to the Criterion 5\"),IF(AND(Calculos!D33>0.25,Calculos!D33<=0.35),IF(E66=\"\",\"\",IF(C66<=E66,\"The oil is coherent\",\"\"))),\"\"))","v":""}]
[null,null,null,{"$f":"IF(C69<=0,IF(C66=\"\",\"\",IF(AND(Calculos!D33>0.25,Calculos!D33<=0.35),IF(AND(C68<=1,C67<=5,C67>2),ROUND(0.44-(0.23333*C18)-(0.22*C18^2)+(0.01333*C18^3),2),\"\"),\"\")),IF(C66=\"\",\"\",IF(AND(Calculos!D33>0.25,Calculos!D33<=0.35),IF(AND(C68<=1,C67>3.5),ROUND(0.39842+(1.88613*C68)-(1.53129*C68^2)-(1.03747*C68^3),2),\"\"),\"\")))","v":""},{"$f":"IF(C69<=0,IF(C66=\"\",\"\",IF(AND(Calculos!D33>0.25,Calculos!D33<=0.35),IF(AND(C68<=1,C67<=5,C67>2),0.15,\"\"),\"\")),IF(C66=\"\",\"\",IF(AND(Calculos!D33>0.25,Calculos!D33<=0.35),IF(AND(C68<=1,C67>3.5),0.3,\"\"),\"\")))","v":""},{"$f":"IF(C66=\"\",\"\",IF(OR(F61=\"Proceed to the Criterion 5\",F58=\"Proceed to the Criterion 5\",F55=\"Proceed to the Criterion 5\",H61=\"Proceed to the Criterion 5\",H58=\"Proceed to the Criterion 5\"),IF(AND(Calculos!D33>0.25,Calculos!D33<=0.35),IF(E70=\"\",\"\",IF(C66>D70,\"The oil is not coherent\",\"\"))),\"\"))","v":""},null,{"$f":"IF(C66=\"\",\"\",IF(OR(F61=\"Proceed to the Criterion 5\",F58=\"Proceed to the Criterion 5\",F55=\"Proceed to the Criterion 5\",H61=\"Proceed to the Criterion 5\",H58=\"Proceed to the Criterion 5\"),IF(AND(Calculos!D33>0.25,Calculos!D33<=0.35),IF(E67=\"\",\"\",IF(C66>D67,\"The oil is not coherent\",\"\"))),\"\"))","v":""}]
[null,null,null,{"$f":"IF(C69<=0,IF(C66=\"\",\"\",IF(AND(Calculos!D33>0.25,Calculos!D33<=0.35),IF(AND(C68<=1,C67<=2),ROUND(0.47571+(0.14167*C18)-(0.13143*C18^2)-(0.00667*C18^3),2),\"\"),\"\")),IF(C66=\"\",\"\",IF(AND(Calculos!D33>0.25,Calculos!D33<=0.35),IF(AND(C68<=1,C67<=3.5),ROUND(-0.383+(4.34428*C68)-(3.37206*C68^2)+(0.62487*C68^3),2),\"\"),\"\")))","v":""},{"$f":"IF(C69<=0,IF(C66=\"\",\"\",IF(AND(Calculos!D33>0.25,Calculos!D33<=0.35),IF(AND(C68<=1,C67<=2),0.15,\"\"),\"\")),IF(C66=\"\",\"\",IF(AND(Calculos!D33>0.25,Calculos!D33<=0.35),IF(AND(C68<=1,C67<=3.5),0.25,\"\"),\"\")))","v":""},{"$f":"IF(C66=\"\",\"\",IF(OR(F61=\"Proceed to the Criterion 5\",F58=\"Proceed to the Criterion 5\",F55=\"Proceed to the Criterion 5\",H61=\"Proceed to the Criterion 5\",H58=\"Proceed to the Criterion 5\"),IF(AND(Calculos!D33>0.25,Calculos!D33<=0.35),IF(E70=\"\",\"\",IF(AND(C66>E70,C66<=D70),\"Proceed to the Criterion 6\",\"\"))),\"\"))","v":""},null,{"$f":"IF(C66=\"\",\"\",IF(OR(F61=\"Proceed to the Criterion 5\",F58=\"Proceed to the Criterion 5\",F55=\"Proceed to the Criterion 5\",H61=\"Proceed to the Criterion 5\",H58=\"Proceed to the Criterion 5\"),IF(AND(Calculos!D33>0.25,Calculos!D33<=0.35),IF(E67=\"\",\"\",IF(AND(C66>E67,C66<=D67),\"Proceed to the Criterion 6\",\"\"))),\"\"))","v":""}]
[null,null,null,null,null,{"$f":"IF(C66=\"\",\"\",IF(OR(F61=\"Proceed to the Criterion 5\",F58=\"Proceed to the Criterion 5\",F55=\"Proceed to the Criterion 5\",H61=\"Proceed to the Criterion 5\",H58=\"Proceed to the Criterion 5\"),IF(AND(Calculos!D33>0.25,Calculos!D33<=0.35),IF(E70=\"\",\"\",IF(C66<=E70,\"The oil is coherent\",\"\"))),\"\"))","v":""},null,{"$f":"IF(C66=\"\",\"\",IF(OR(F61=\"Proceed to the Criterion 5\",F58=\"Proceed to the Criterion 5\",F55=\"Proceed to the Criterion 5\",H61=\"Proceed to the Criterion 5\",H58=\"Proceed to the Criterion 5\"),IF(AND(Calculos!D33>0.25,Calculos!D33<=0.35),IF(E67=\"\",\"\",IF(C66<=E67,\"The oil is coherent\",\"\"))),\"\"))","v":""}]
[null,null,null,null,null,{"$f":"IF(C66=\"\",\"\",IF(OR(F61=\"Proceed to the Criterion 5\",F58=\"Proceed to the Criterion 5\",F55=\"Proceed to the Criterion 5\",H61=\"Proceed to the Criterion 5\",H58=\"Proceed to the Criterion 5\"),IF(AND(Calculos!D33>0.25,Calculos!D33<=0.35),IF(E71=\"\",\"\",IF(C66>D71,\"The oil is not coherent\",\"\"))),\"\"))","v":""},null,{"$f":"IF(C66=\"\",\"\",IF(OR(F61=\"Proceed to the Criterion 5\",F58=\"Proceed to the Criterion 5\",F55=\"Proceed to the Criterion 5\",H61=\"Proceed to the Criterion 5\",H58=\"Proceed to the Criterion 5\"),IF(AND(Calculos!D33>0.25,Calculos!D33<=0.35),IF(E68=\"\",\"\",IF(C66>D68,\"The oil is not coherent\",\"\"))),\"\"))","v":""}]
[null,null,null,null,null,{"$f":"IF(C66=\"\",\"\",IF(OR(F61=\"Proceed to the Criterion 5\",F58=\"Proceed to the Criterion 5\",F55=\"Proceed to the Criterion 5\",H61=\"Proceed to the Criterion 5\",H58=\"Proceed to the Criterion 5\"),IF(AND(Calculos!D33>0.25,Calculos!D33<=0.35),IF(E71=\"\",\"\",IF(AND(C66>E71,C66<=D71),\"Proceed to the Criterion 6\",\"\"))),\"\"))","v":""},null,{"$f":"IF(C66=\"\",\"\",IF(OR(F61=\"Proceed to the Criterion 5\",F58=\"Proceed to the Criterion 5\",F55=\"Proceed to the Criterion 5\",H61=\"Proceed to the Criterion 5\",H58=\"Proceed to the Criterion 5\"),IF(AND(Calculos!D33>0.25,Calculos!D33<=0.35),IF(E68=\"\",\"\",IF(AND(C66>E68,C66<=D68),\"Proceed to the Criterion 6\",\"\"))),\"\"))","v":""}]
[null,null,null,null,null,{"$f":"IF(C66=\"\",\"\",IF(OR(F61=\"Proceed to the Criterion 5\",F58=\"Proceed to the Criterion 5\",F55=\"Proceed to the Criterion 5\",H61=\"Proceed to the Criterion 5\",H58=\"Proceed to the Criterion 5\"),IF(AND(Calculos!D33>0.25,Calculos!D33<=0.35),IF(E71=\"\",\"\",IF(C66<=E71,\"The oil is coherent\",\"\"))),\"\"))","v":""},null,{"$f":"IF(C66=\"\",\"\",IF(OR(F61=\"Proceed to the Criterion 5\",F58=\"Proceed to the Criterion 5\",F55=\"Proceed to the Criterion 5\",H61=\"Proceed to the Criterion 5\",H58=\"Proceed to the Criterion 5\"),IF(AND(Calculos!D33>0.25,Calculos!D33<=0.35),IF(E68=\"\",\"\",IF(C66<=E68,\"The oil is coherent\",\"\"))),\"\"))","v":""}]
[]
[null,"Criterion 6 R2, DOOL "]
[null,"Parameter","Value","Limit R2",{"$f":"IF(C79=\"\",\"\",IF(OR(F74=\"Proceed to the Criterion 6\",F71=\"Proceed to the Criterion 6\",F68=\"Proceed to the Criterion 6\",H74=\"Proceed to the Criterion 6\",H71=\"Proceed to the Criterion 6\",H68=\"Proceed to the Criterion 6\"),IF(AND(Calculos!D33>0.25,Calculos!D33<=0.35),IF(D81=\"\",\"\",IF(C79>=D81,\"The oil is coherent\",\"The oil is not coherent\"))),\"\"))","v":""},null,{"$f":"IF(C79=\"\",\"\",IF(OR(F74=\"Proceed to the Criterion 6\",F71=\"Proceed to the Criterion 6\",F68=\"Proceed to the Criterion 6\",H74=\"Proceed to the Criterion 6\",H71=\"Proceed to the Criterion 6\",H68=\"Proceed to the Criterion 6\"),IF(AND(Calculos!D33>0.25,Calculos!D33<=0.35),IF(AND(C81>1,C10>1.2,C80>2),\"The oil is coherent by DOOL>2\",\"\")),\"\"))","v":""}]
[null,"R2 =",{"$f":"IF('Experimental Data'!E27=\"\",\"\",IF(AND(Calculos!D33>0.25,Calculos!D33<=0.35),Calculos!B32,\"\"))","v":""},{"$f":"IF(C79=\"\",\"\",IF(AND(Calculos!D33>0.25,Calculos!D33<=0.35),IF(AND(C81>1,C10>1.2,C80<=2),0.09,\"\"),\"\"))","v":""},{"$f":"IF(C79=\"\",\"\",IF(OR(F74=\"Proceed to the Criterion 6\",F71=\"Proceed to the Criterion 6\",F68=\"Proceed to the Criterion 6\",H74=\"Proceed to the Criterion 6\",H71=\"Proceed to the Criterion 6\",H68=\"Proceed to the Criterion 6\"),IF(AND(Calculos!D33>0.25,Calculos!D33<=0.35),IF(D82=\"\",\"\",IF(C79>=D82,\"The oil is coherent\",\"The oil is not coherent\"))),\"\"))","v":""},null,{"$f":"IF(C79=\"\",\"\",IF(OR(F74=\"Proceed to the Criterion 6\",F71=\"Proceed to the Criterion 6\",F68=\"Proceed to the Criterion 6\",H74=\"Proceed to the Criterion 6\",H71=\"Proceed to the Criterion 6\",H68=\"Proceed to the Criterion 6\"),IF(AND(Calculos!D33>0.25,Calculos!D33<=0.35),IF(AND(C81<=1,C82>0,C80>1,C80<=3.5),\"The oil is coherent by DOOL 1,0-3,5\",\"\")),\"\"))","v":""}]
[null,"DOOL =",{"$f":"IF('Experimental Data'!E27=\"\",\"\",IF(AND(Calculos!D33>0.25,Calculos!D33<=0.35),ROUND(Calculos!B58,2),\"\"))","v":""},{"$f":"IF(C79=\"\",\"\",IF(AND(Calculos!D33>0.25,Calculos!D33<=0.35),IF(AND(C81<=1,C82>0,C18>0.35),0.1,\"\"),\"\"))","v":""},{"$f":"IF(C79=\"\",\"\",IF(OR(F74=\"Proceed to the Criterion 6\",F71=\"Proceed to the Criterion 6\",F68=\"Proceed to the Criterion 6\",H74=\"Proceed to the Criterion 6\",H71=\"Proceed to the Criterion 6\",H68=\"Proceed to the Criterion 6\"),IF(AND(Calculos!D33>0.25,Calculos!D33<=0.35),IF(D83=\"\",\"\",IF(C79>=D83,\"The oil is coherent\",\"The oil is not coherent\"))),\"\"))","v":""},null,{"$f":"IF(C79=\"\",\"\",IF(OR(F74=\"Proceed to the Criterion 6\",F71=\"Proceed to the Criterion 6\",F68=\"Proceed to the Criterion 6\",H74=\"Proceed to the Criterion 6\",H71=\"Proceed to the Criterion 6\",H68=\"Proceed to the Criterion 6\"),IF(AND(Calculos!D33>0.25,Calculos!D33<=0.35),IF(D79=\"\",\"\",IF(C79>=D79,\"The oil is coherent\",\"The oil is not coherent\"))),\"\"))","v":""}]
[null,"DECN44p",{"$f":"IF('Experimental Data'!E27=\"\",\"\",IF(AND(Calculos!D33>0.25,Calculos!D33<=0.35),Calculos!B38,\"\"))","v":""},{"$f":"IF(C79=\"\",\"\",IF(AND(Calculos!D33>0.25,Calculos!D33<=0.35),IF(AND(C81<=1,C82>0,C18<=0.35,C18>-0.4,C80>3.5),0.2,\"\"),\"\"))","v":""},{"$f":"IF(C79=\"\",\"\",IF(OR(F74=\"Proceed to the Criterion 6\",F71=\"Proceed to the Criterion 6\",F68=\"Proceed to the Criterion 6\",H74=\"Proceed to the Criterion 6\",H71=\"Proceed to the Criterion 6\",H68=\"Proceed to the Criterion 6\"),IF(AND(Calculos!D33>0.25,Calculos!D33<=0.35),IF(D84=\"\",\"\",IF(C79>=D84,\"The oil is coherent\",\"The oil is not coherent\"))),\"\"))","v":""},null,{"$f":"IF(C79=\"\",\"\",IF(OR(F74=\"Proceed to the Criterion 6\",F71=\"Proceed to the Criterion 6\",F68=\"Proceed to the Criterion 6\",H74=\"Proceed to the Criterion 6\",H71=\"Proceed to the Criterion 6\",H68=\"Proceed to the Criterion 6\"),IF(AND(Calculos!D33>0.25,Calculos!D33<=0.35),IF(D80=\"\",\"\",IF(C79>=D80,\"The oil is coherent\",\"The oil is not coherent\"))),\"\"))","v":""}]
[null,"DLLL =",{"$f":"IF('Experimental Data'!E27=\"\",\"\",IF(AND(Calculos!D33>0.25,Calculos!D33<=0.35),ROUND(Calculos!B21,2),\"\"))","v":""},{"$f":"IF(C79=\"\",\"\",IF(AND(Calculos!D33>0.25,Calculos!D33<=0.35),IF(AND(C81<=1,C82>0,C18<=0.35,C18>-0.4,C80<=1),0.1,\"\"),\"\"))","v":""}]
[null,null,null,{"$f":"IF(C79=\"\",\"\",IF(AND(Calculos!D33>0.25,Calculos!D33<=0.35),IF(AND(C81<=1,C82>0,C18<=-0.4),0.3,\"\"),\"\"))","v":""}]
[null,null,null,{"$f":"IF(C79=\"\",\"\",IF(AND(Calculos!D33>0.25,Calculos!D33<=0.35),IF(AND(C81<=1,C82<=0),0.3,\"\"),\"\"))","v":""}]

{"sheet":"Criteria for LLLt 0,350-0,550","index":10,"n_rows":88,"n_cols":8,"rows_kept":88,"cut":false,"hidden":false,"merged":[[1,1,1,8]]}
[null,"Criteria for LLL theor. 0,35-0,55"]
[null,"Calculation Parameters"]
[null,"Sample Code",{"$f":"IF(C6=\"\",\"\",IF('Experimental Data'!F16=\"\",\"\",'Experimental Data'!F16))","v":""},{"$f":"IF(C6=\"\",\"\",IF('Experimental Data'!G16=\"\",\"\",'Experimental Data'!G16))","v":""},{"$f":"IF(C6=\"\",\"\",IF('Experimental Data'!H16=\"\",\"\",'Experimental Data'!H16))","v":""},{"$f":"IF(C6=\"\",\"\",IF('Experimental Data'!I16=\"\",\"\",'Experimental Data'!I16))","v":""},{"$f":"IF(C6=\"\",\"\",IF('Experimental Data'!J16=\"\",\"\",'Experimental Data'!J16))","v":""},{"$f":"IF(C6=\"\",\"\",IF('Experimental Data'!K16=\"\",\"\",'Experimental Data'!K16))","v":""}]
[null,"Oil Category",{"$f":"IF(C3=\"\",\"\",IF('Experimental Data'!F17=\"\",\"\",'Experimental Data'!F17))","v":""},{"$f":"IF(C4=\"\",\"\",IF(C4=\"EV\",\"Virgin Edible Olive Oil\",IF(C4=\"L\",\"Lampant Olive Oil\",IF(C4=\"R\",\"Refined Olive Oil\"))))","v":""}]
[]
[null,"DECN42 =",{"$f":"IF('Experimental Data'!E27=\"\",\"\",IF(AND(Calculos!D33>0.35,Calculos!D33<=0.55),Calculos!M58,\"\"))","v":""},{"$f":"IF('Experimental Data'!E27=\"\",\"\",IF(AND(Calculos!D33>0.35,Calculos!D33<=0.55),IF(C4=\"EV\",0.2,IF(OR(C4=\"R\",C4=\"L\"),0.3,\"\")),\"\"))","v":""},{"$f":"IF(C6=\"\",\"\",IF(C6<=D6,\"Proceed to the Criterion 1\",\"Proceed to the Criterion 1\"))","v":""},null,{"$f":"IF(C6=\"\",\"\",IF(C6>D6,\"Warning, The DECN42 is too high\",\"\"))","v":""}]
[]
[null,"Early Criterion K1"]
[null,"Parameter","Value","Higher Limit","Lower Limit",{"$f":"IF(C10=\"\",\"\",IF(E6=\"Proceed to the Criterion 1\",IF(AND(Calculos!D33>0.35,Calculos!D33<=0.55),IF(E12=\"\",\"\",IF(C10>D12,\"The oil is not coherent\",\"\")),\"\"),\"\"))","v":""},null,{"$f":"IF(C10=\"\",\"\",IF(E6=\"Proceed to the Criterion 1\",IF(AND(Calculos!D33>0.35,Calculos!D33<=0.55),IF(E10=\"\",\"\",IF(C10>D10,\"The oil is not coherent\",\"\")),\"\"),\"\"))","v":""}]
[null,"K1",{"$f":"IF('Experimental Data'!E27=\"\",\"\",IF(AND(Calculos!D33>0.35,Calculos!D33<=0.55),Calculos!J24,\"\"))","v":""},{"$f":"IF(C10=\"\",\"\",IF(AND(Calculos!D33>0.35,Calculos!D33<=0.55),IF(AND(C11>1.05,C10>1.2),1.65,\"\"),\"\"))","v":""},{"$f":"IF(C10=\"\",\"\",IF(AND(Calculos!D33>0.35,Calculos!D33<=0.55),IF(AND(C11>1.05,C10>1.2),1.2,\"\"),\"\"))","v":""},{"$f":"IF(C10=\"\",\"\",IF(E6=\"Proceed to the Criterion 1\",IF(AND(Calculos!D33>0.35,Calculos!D33<=0.55),IF(E12=\"\",\"\",IF(AND(C10<=D12,C10>E12),\"Proceed to the Criterion 1\",\"\")),\"\"),\"\"))","v":""},null,{"$f":"IF(C10=\"\",\"\",IF(E6=\"Proceed to the Criterion 1\",IF(AND(Calculos!D33>0.35,Calculos!D33<=0.55),IF(E10=\"\",\"\",IF(AND(C10<=D10,C10>E10),\"Proceed to the Criterion 1\",\"\")),\"\"),\"\"))","v":""}]
[null,"DECN44p",{"$f":"IF(C10=\"\",\"\",IF('Experimental Data'!E27=\"\",\"\",IF(AND(Calculos!D33>0.35,Calculos!D33<=0.55),Calculos!B38,\"\")))","v":""},{"$f":"IF(C10=\"\",\"\",IF(AND(Calculos!D33>0.35,Calculos!D33<=0.55),IF(AND(C11>1.05,C10<=1.2),1.2,\"\"),\"\"))","v":""},{"$f":"IF(C10=\"\",\"\",IF(AND(Calculos!D33>0.35,Calculos!D33<=0.55),IF(AND(C11>1.05,C10<=1.2),1,\"\"),\"\"))","v":""},{"$f":"IF(C10=\"\",\"\",IF(E6=\"Proceed to the Criterion 1\",IF(AND(Calculos!D33>0.35,Calculos!D33<=0.55),IF(E12=\"\",\"\",IF(C10<=E12,\"The oil is coherent\",\"\")),\"\"),\"\"))","v":""},null,{"$f":"IF(C10=\"\",\"\",IF(E6=\"Proceed to the Criterion 1\",IF(AND(Calculos!D33>0.35,Calculos!D33<=0.55),IF(E10=\"\",\"\",IF(C10<=E10,\"The oil is coherent\",\"\")),\"\"),\"\"))","v":""}]
[null,"DLLL =",{"$f":"IF('Experimental Data'!E27=\"\",\"\",IF(AND(Calculos!D33>0.35,Calculos!D33<=0.55),ROUND(Calculos!B21,2),\"\"))","v":""},{"$f":"IF(C10=\"\",\"\",IF(AND(Calculos!D33>0.35,Calculos!D33<=0.55),IF(AND(C11<=1.05,C12>-0.05),1.3,\"\"),\"\"))","v":""},{"$f":"IF(C10=\"\",\"\",IF(AND(Calculos!D33>0.35,Calculos!D33<=0.55),IF(AND(C11<=1.05,C12>-0.05),1,\"\"),\"\"))","v":""},{"$f":"IF(C10=\"\",\"\",IF(E6=\"Proceed to the Criterion 1\",IF(AND(Calculos!D33>0.35,Calculos!D33<=0.55),IF(E13=\"\",\"\",IF(C10>D13,\"The oil is not coherent\",\"\")),\"\"),\"\"))","v":""},null,{"$f":"IF(C10=\"\",\"\",IF(E6=\"Proceed to the Criterion 1\",IF(AND(Calculos!D33>0.35,Calculos!D33<=0.55),IF(E11=\"\",\"\",IF(C10>D11,\"The oil is not coherent\",\"\")),\"\"),\"\"))","v":""}]
[null,null,null,{"$f":"IF(C10=\"\",\"\",IF(AND(Calculos!D33>0.35,Calculos!D33<=0.55),IF(AND(C11<=1.05,C12<=-0.05),1.25,\"\"),\"\"))","v":""},{"$f":"IF(C10=\"\",\"\",IF(AND(Calculos!D33>0.35,Calculos!D33<=0.55),IF(AND(C11<=1.05,C12<=-0.05),0.95,\"\"),\"\"))","v":""},{"$f":"IF(C10=\"\",\"\",IF(E6=\"Proceed to the Criterion 1\",IF(AND(Calculos!D33>0.35,Calculos!D33<=0.55),IF(E13=\"\",\"\",IF(AND(C10<=D13,C10>E13),\"Proceed to the Criterion 1\",\"\")),\"\"),\"\"))","v":""},null,{"$f":"IF(C10=\"\",\"\",IF(E6=\"Proceed to the Criterion 1\",IF(AND(Calculos!D33>0.35,Calculos!D33<=0.55),IF(E11=\"\",\"\",IF(AND(C10<=D11,C10>E11),\"Proceed to the Criterion 1\",\"\")),\"\"),\"\"))","v":""}]
[null,null,null,null,null,{"$f":"IF(C10=\"\",\"\",IF(E6=\"Proceed to the Criterion 1\",IF(AND(Calculos!D33>0.35,Calculos!D33<=0.55),IF(E13=\"\",\"\",IF(C10<=E13,\"The oil is coherent\",\"\")),\"\"),\"\"))","v":""},null,{"$f":"IF(C10=\"\",\"\",IF(E6=\"Proceed to the Criterion 1\",IF(AND(Calculos!D33>0.35,Calculos!D33<=0.55),IF(E11=\"\",\"\",IF(C10<=E11,\"The oil is coherent\",\"\")),\"\"),\"\"))","v":""}]
[]
[null,"Criterion 1 DR3"]
[null,"Parameter","Value","Higher Limit","Lower Limit",{"$f":"IF(C18=\"\",\"\",IF(OR(F13=\"Proceed to the Criterion 1\",F10=\"Proceed to the Criterion 1\",H13=\"Proceed to the Criterion 1\",H10=\"Proceed to the Criterion 1\"),IF(AND(Calculos!D33>0.35,Calculos!D33<=0.55),IF(E21=\"\",\"\",IF(C18>D21,\"The oil is not coherent\",\"\"))),\"\"))","v":""},null,{"$f":"IF(C18=\"\",\"\",IF(OR(F13=\"Proceed to the Criterion 1\",F10=\"Proceed to the Criterion 1\",H13=\"Proceed to the Criterion 1\",H10=\"Proceed to the Criterion 1\"),IF(AND(Calculos!D33>0.35,Calculos!D33<=0.55),IF(E18=\"\",\"\",IF(C18>D18,\"The oil is not coherent\",\"\"))),\"\"))","v":""}]
[null,"DR3 =",{"$f":"IF('Experimental Data'!E27=\"\",\"\",IF(AND(Calculos!D33>0.35,Calculos!D33<=0.55),Calculos!B43,\"\"))","v":""},{"$f":"IF(C18=\"\",\"\",IF(AND(Calculos!D33>0.35,Calculos!D33<=0.55),IF(AND(C21>1.05,C10<=1.65,C10>1.2),ROUND(-0.54687+(1.09112*C21)-(0.40955*C21^2)+(0.03372*C21^3),2),\"\"),\"\"))","v":""},{"$f":"IF(C18=\"\",\"\",IF(AND(Calculos!D33>0.35,Calculos!D33<=0.55),IF(AND(C21>1.05,C10<=1.65,C10>1.2),-0.15,\"\"),\"\"))","v":""},{"$f":"IF(C18=\"\",\"\",IF(OR(F13=\"Proceed to the Criterion 1\",F10=\"Proceed to the Criterion 1\",H13=\"Proceed to the Criterion 1\",H10=\"Proceed to the Criterion 1\"),IF(AND(Calculos!D33>0.35,Calculos!D33<=0.55),IF(E21=\"\",\"\",IF(AND(C18>E21,C18<=D21),\"Proceed to the Criterion 2\",\"\"))),\"\"))","v":""},null,{"$f":"IF(C18=\"\",\"\",IF(OR(F13=\"Proceed to the Criterion 1\",F10=\"Proceed to the Criterion 1\",H13=\"Proceed to the Criterion 1\",H10=\"Proceed to the Criterion 1\"),IF(AND(Calculos!D33>0.35,Calculos!D33<=0.55),IF(E18=\"\",\"\",IF(AND(C18>E18,C18<=D18),\"Proceed to the Criterion 2\",\"\"))),\"\"))","v":""}]
[null,"DOOL =",{"$f":"IF('Experimental Data'!E27=\"\",\"\",IF(AND(Calculos!D33>0.35,Calculos!D33<=0.55),ROUND(Calculos!B58,2),\"\"))","v":""},{"$f":"IF(C18=\"\",\"\",IF(AND(Calculos!D33>0.35,Calculos!D33<=0.55),IF(AND(C21>1.05,C10<=1.2),ROUND(0.02773+(2.24511*C21)-(1.64774*C21^2)+(0.26804*C21^3),2),\"\"),\"\"))","v":""},{"$f":"IF(C18=\"\",\"\",IF(AND(Calculos!D33>0.35,Calculos!D33<=0.55),IF(AND(C21>1.05,C10<=1.2),-0.4,\"\"),\"\"))","v":""},{"$f":"IF(C18=\"\",\"\",IF(OR(F13=\"Proceed to the Criterion 1\",F10=\"Proceed to the Criterion 1\",H13=\"Proceed to the Criterion 1\",H10=\"Proceed to the Criterion 1\"),IF(AND(Calculos!D33>0.35,Calculos!D33<=0.55),IF(E21=\"\",\"\",IF(C18<=E21,\"The oil is coherent\",\"\"))),\"\"))","v":""},null,{"$f":"IF(C18=\"\",\"\",IF(OR(F13=\"Proceed to the Criterion 1\",F10=\"Proceed to the Criterion 1\",H13=\"Proceed to the Criterion 1\",H10=\"Proceed to the Criterion 1\"),IF(AND(Calculos!D33>0.35,Calculos!D33<=0.55),IF(E18=\"\",\"\",IF(C18<=E18,\"The oil is coherent\",\"\"))),\"\"))","v":""}]
[null,"DLLL =",{"$f":"IF('Experimental Data'!E27=\"\",\"\",IF(AND(Calculos!D33>0.35,Calculos!D33<=0.55),ROUND(Calculos!B21,2),\"\"))","v":""},{"$f":"IF(C20<=-0.05,IF(C18=\"\",\"\",IF(AND(Calculos!D33>0.35,Calculos!D33<=0.55),IF(AND(C21<=1.05,C19>4.5),ROUND(-0.80531+(3.5885*C21)-(6.30034*C21^2)+(1.97956*C21^3),2),\"\"),\"\")),\"\")","v":""},{"$f":"IF(C20<=-0.05,IF(C18=\"\",\"\",IF(AND(Calculos!D33>0.35,Calculos!D33<=0.55),IF(AND(C21<=1.05,C19>4.5),-2.5,\"\"),\"\")),\"\")","v":""},{"$f":"IF(C18=\"\",\"\",IF(OR(F13=\"Proceed to the Criterion 1\",F10=\"Proceed to the Criterion 1\",H13=\"Proceed to the Criterion 1\",H10=\"Proceed to the Criterion 1\"),IF(AND(Calculos!D33>0.35,Calculos!D33<=0.55),IF(E22=\"\",\"\",IF(C18>D22,\"The oil is not coherent\",\"\"))),\"\"))","v":""},null,{"$f":"IF(C18=\"\",\"\",IF(OR(F13=\"Proceed to the Criterion 1\",F10=\"Proceed to the Criterion 1\",H13=\"Proceed to the Criterion 1\",H10=\"Proceed to the Criterion 1\"),IF(AND(Calculos!D33>0.35,Calculos!D33<=0.55),IF(E19=\"\",\"\",IF(C18>D19,\"The oil is not coherent\",\"\"))),\"\"))","v":""}]
[null,"DECN44p",{"$f":"IF('Experimental Data'!E27=\"\",\"\",IF(AND(Calculos!D33>0.35,Calculos!D33<=0.55),Calculos!B38,\"\"))","v":""},{"$f":"IF(C20<=-0.05,IF(C18=\"\",\"\",IF(AND(Calculos!D33>0.35,Calculos!D33<=0.55),IF(AND(C21<=1.05,C19>3,C19<=4.5),ROUND(-0.82381+(3.63095*C21)-(3.64583*C21^2)+(0.52083*C21^3),2),\"\"),\"\")),\"\")","v":""},{"$f":"IF(C20<=-0.05,IF(C18=\"\",\"\",IF(AND(Calculos!D33>0.35,Calculos!D33<=0.55),IF(AND(C21<=1.05,C19>3,C19<=4.5),-1.5,\"\"),\"\")),\"\")","v":""},{"$f":"IF(C18=\"\",\"\",IF(OR(F13=\"Proceed to the Criterion 1\",F10=\"Proceed to the Criterion 1\",H13=\"Proceed to the Criterion 1\",H10=\"Proceed to the Criterion 1\"),IF(AND(Calculos!D33>0.35,Calculos!D33<=0.55),IF(E22=\"\",\"\",IF(AND(C18>E22,C18<=D22),\"Proceed to the Criterion 2\",\"\"))),\"\"))","v":""},null,{"$f":"IF(C18=\"\",\"\",IF(OR(F13=\"Proceed to the Criterion 1\",F10=\"Proceed to the Criterion 1\",H13=\"Proceed to the Criterion 1\",H10=\"Proceed to the Criterion 1\"),IF(AND(Calculos!D33>0.35,Calculos!D33<=0.55),IF(E19=\"\",\"\",IF(AND(C18>E19,C18<=D19),\"Proceed to the Criterion 2\",\"\"))),\"\"))","v":""}]
[null,null,null,{"$f":"IF(C20<=-0.05,IF(C18=\"\",\"\",IF(AND(Calculos!D33>0.35,Calculos!D33<=0.55),IF(AND(C21<=1.05,C19>1.5,C19<=3),ROUND(-1.86742+(5.60615*C21)-(3.14394*C21^2)-(0.01578*C21^3),2),\"\"),\"\")),IF(C18=\"\",\"\",IF(AND(Calculos!D33>0.35,Calculos!D33<=0.55),IF(AND(C21<=1.05,C19>3.5),ROUND(-0.10105+(3.81844*C21)-(6.98015*C21^2)+(2.66264*C21^3),2),\"\"),\"\")))","v":""},{"$f":"IF(C20<=-0.05,IF(C18=\"\",\"\",IF(AND(Calculos!D33>0.35,Calculos!D33<=0.55),IF(AND(C21<=1.05,C19>1.5,C19<=3),-1,\"\"),\"\")),IF(C18=\"\",\"\",IF(AND(Calculos!D33>0.35,Calculos!D33<=0.55),IF(AND(C21<=1.05,C19>3.5),ROUND(-1.9+(1.125*C21),2),\"\"),\"\")))","v":""},{"$f":"IF(C18=\"\",\"\",IF(OR(F13=\"Proceed to the Criterion 1\",F10=\"Proceed to the Criterion 1\",H13=\"Proceed to the Criterion 1\",H10=\"Proceed to the Criterion 1\"),IF(AND(Calculos!D33>0.35,Calculos!D33<=0.55),IF(E22=\"\",\"\",IF(C18<=E22,\"The oil is coherent\",\"\"))),\"\"))","v":""},null,{"$f":"IF(C18=\"\",\"\",IF(OR(F13=\"Proceed to the Criterion 1\",F10=\"Proceed to the Criterion 1\",H13=\"Proceed to the Criterion 1\",H10=\"Proceed to the Criterion 1\"),IF(AND(Calculos!D33>0.35,Calculos!D33<=0.55),IF(E19=\"\",\"\",IF(C18<=E19,\"The oil is coherent\",\"\"))),\"\"))","v":""}]
[null,null,null,{"$f":"IF(C20<=-0.05,IF(C18=\"\",\"\",IF(AND(Calculos!D33>0.35,Calculos!D33<=0.55),IF(AND(C21<=1.05,C19<=1.5),ROUND(-1.8658+(6.21463*C21)-(3.62476*C21^2)-(0.00259*C21^3),2),\"\"),\"\")),IF(C18=\"\",\"\",IF(AND(Calculos!D33>0.35,Calculos!D33<=0.55),IF(AND(C21<=1.05,C19<=3.5),ROUND(-0.81141+(6.26058*C21)-(3.6571*C21^2)+(0.19062*C21^3),2),\"\"),\"\")))","v":""},{"$f":"IF(C20<=-0.05,IF(C18=\"\",\"\",IF(AND(Calculos!D33>0.35,Calculos!D33<=0.55),IF(AND(C21<=1.05,C19<=1.5),-0.2,\"\"),\"\")),IF(C18=\"\",\"\",IF(AND(Calculos!D33>0.35,Calculos!D33<=0.55),IF(AND(C21<=1.05,C19<=3.5),ROUND(-1+(0.6429*C21),2),\"\"),\"\")))","v":""},{"$f":"IF(C18=\"\",\"\",IF(OR(F13=\"Proceed to the Criterion 1\",F10=\"Proceed to the Criterion 1\",H13=\"Proceed to the Criterion 1\",H10=\"Proceed to the Criterion 1\"),IF(AND(Calculos!D33>0.35,Calculos!D33<=0.55),IF(E23=\"\",\"\",IF(C18>D23,\"The oil is not coherent\",\"\"))),\"\"))","v":""},null,{"$f":"IF(C18=\"\",\"\",IF(OR(F13=\"Proceed to the Criterion 1\",F10=\"Proceed to the Criterion 1\",H13=\"Proceed to the Criterion 1\",H10=\"Proceed to the Criterion 1\"),IF(AND(Calculos!D33>0.35,Calculos!D33<=0.55),IF(E20=\"\",\"\",IF(C18>D20,\"The oil is not coherent\",\"\"))),\"\"))","v":""}]
[null,null,null,null,null,{"$f":"IF(C18=\"\",\"\",IF(OR(F13=\"Proceed to the Criterion 1\",F10=\"Proceed to the Criterion 1\",H13=\"Proceed to the Criterion 1\",H10=\"Proceed to the Criterion 1\"),IF(AND(Calculos!D33>0.35,Calculos!D33<=0.55),IF(E23=\"\",\"\",IF(AND(C18>E23,C18<=D23),\"Proceed to the Criterion 2\",\"\"))),\"\"))","v":""},null,{"$f":"IF(C18=\"\",\"\",IF(OR(F13=\"Proceed to the Criterion 1\",F10=\"Proceed to the Criterion 1\",H13=\"Proceed to the Criterion 1\",H10=\"Proceed to the Criterion 1\"),IF(AND(Calculos!D33>0.35,Calculos!D33<=0.55),IF(E20=\"\",\"\",IF(AND(C18>E20,C18<=D20),\"Proceed to the Criterion 2\",\"\"))),\"\"))","v":""}]
[null,null,null,null,null,{"$f":"IF(C18=\"\",\"\",IF(OR(F13=\"Proceed to the Criterion 1\",F10=\"Proceed to the Criterion 1\",H13=\"Proceed to the Criterion 1\",H10=\"Proceed to the Criterion 1\"),IF(AND(Calculos!D33>0.35,Calculos!D33<=0.55),IF(E23=\"\",\"\",IF(C18<=E23,\"The oil is coherent\",\"\"))),\"\"))","v":""},null,{"$f":"IF(C18=\"\",\"\",IF(OR(F13=\"Proceed to the Criterion 1\",F10=\"Proceed to the Criterion 1\",H13=\"Proceed to the Criterion 1\",H10=\"Proceed to the Criterion 1\"),IF(AND(Calculos!D33>0.35,Calculos!D33<=0.55),IF(E20=\"\",\"\",IF(C18<=E20,\"The oil is coherent\",\"\"))),\"\"))","v":""}]
[]
[null,"Criterion 2 L3 "]
[null,"Parameter","Value","Higher Limit","Lower Limit",{"$f":"IF(C29=\"\",\"\",IF(OR(F24=\"Proceed to the Criterion 2\",F21=\"Proceed to the Criterion 2\",F18=\"Proceed to the Criterion 2\",H24=\"Proceed to the Criterion 2\",H21=\"Proceed to the Criterion 2\",H18=\"Proceed to the Criterion 2\"),IF(AND(Calculos!D33>0.35,Calculos!D33<=0.55),IF(E32=\"\",\"\",IF(C29>D32,\"The oil is not coherent\",\"\"))),\"\"))","v":""}]
[null,"L3 =",{"$f":"IF('Experimental Data'!E27=\"\",\"\",IF(AND(Calculos!D33>0.35,Calculos!D33<=0.55),Calculos!J19,\"\"))","v":""},{"$f":"IF(C10<=1.2,IF(C29=\"\",\"\",IF(AND(Calculos!D33>0.35,Calculos!D33<=0.55),IF(AND(C32>1.05,C30>3),ROUND(-0.42674+(0.85501*C32)-(0.25204*C32^2)-(0.00898*C32^3),2),\"\"),\"\")),IF(C29=\"\",\"\",IF(AND(Calculos!D33>0.35,Calculos!D33<=0.55),IF(AND(C32>1.05,C30>2),ROUND(-0.41224+(1.13237*C32)-(0.50055*C32^2)+(0.05864*C32^3),2),\"\"),\"\")))","v":""},{"$f":"IF(C10<=1.2,IF(C29=\"\",\"\",IF(AND(Calculos!D33>0.35,Calculos!D33<=0.55),IF(AND(C32>1.05,C30>3),0.05,\"\"),\"\")),IF(C29=\"\",\"\",IF(AND(Calculos!D33>0.35,Calculos!D33<=0.55),IF(AND(C32>1.05,C30>2),0.05,\"\"),\"\")))","v":""},{"$f":"IF(C29=\"\",\"\",IF(OR(F24=\"Proceed to the Criterion 2\",F21=\"Proceed to the Criterion 2\",F18=\"Proceed to the Criterion 2\",H24=\"Proceed to the Criterion 2\",H21=\"Proceed to the Criterion 2\",H18=\"Proceed to the Criterion 2\"),IF(AND(Calculos!D33>0.35,Calculos!D33<=0.55),IF(E32=\"\",\"\",IF(AND(C29>E32,C29<=D32),\"Proceed to the Criterion 3\",\"\"))),\"\"))","v":""}]
[null,"DOOL =",{"$f":"IF('Experimental Data'!E27=\"\",\"\",IF(AND(Calculos!D33>0.35,Calculos!D33<=0.55),ROUND(Calculos!B58,2),\"\"))","v":""},{"$f":"IF(C10<=1.2,IF(C29=\"\",\"\",IF(AND(Calculos!D33>0.35,Calculos!D33<=0.55),IF(AND(C32>1.05,C30<=3),ROUND(0.10456+(0.60138*C32)-(0.37995*C32^2)+(0.05123*C32^3),2),\"\"),\"\")),IF(C29=\"\",\"\",IF(AND(Calculos!D33>0.35,Calculos!D33<=0.55),IF(AND(C32>1.05,C30<=2),ROUND(-0.47465+(1.08482*C32)-(0.54913*C32^2)+(0.07855*C32^3),2),\"\"),\"\")))","v":""},{"$f":"IF(C10<=1.2,IF(C29=\"\",\"\",IF(AND(Calculos!D33>0.35,Calculos!D33<=0.55),IF(AND(C32>1.05,C30<=3),0.05,\"\"),\"\")),IF(C29=\"\",\"\",IF(AND(Calculos!D33>0.35,Calculos!D33<=0.55),IF(AND(C32>1.05,C30<=2),0.02,\"\"),\"\")))","v":""},{"$f":"IF(C29=\"\",\"\",IF(OR(F24=\"Proceed to the Criterion 2\",F21=\"Proceed to the Criterion 2\",F18=\"Proceed to the Criterion 2\",H24=\"Proceed to the Criterion 2\",H21=\"Proceed to the Criterion 2\",H18=\"Proceed to the Criterion 2\"),IF(AND(Calculos!D33>0.35,Calculos!D33<=0.55),IF(E32=\"\",\"\",IF(C29<=E32,\"The oil is coherent\",\"\"))),\"\"))","v":""}]
[null,"DLLL =",{"$f":"IF('Experimental Data'!E27=\"\",\"\",IF(AND(Calculos!D33>0.35,Calculos!D33<=0.55),ROUND(Calculos!B21,2),\"\"))","v":""},{"$f":"IF(C31<=-0.05,IF(C29=\"\",\"\",IF(AND(Calculos!D33>0.35,Calculos!D33<=0.55),IF(AND(C32<=1.05,C30>6),ROUND(0.07089-(0.16219*C18)-(0.0427*C18^2)+(0.01343*C18^3),2),\"\"),\"\")),\"\")","v":""},{"$f":"IF(C31<=-0.05,IF(C29=\"\",\"\",IF(AND(Calculos!D33>0.35,Calculos!D33<=0.55),IF(AND(C32<=1.05,C30>6),-0.2,\"\"),\"\")),\"\")","v":""},{"$f":"IF(C29=\"\",\"\",IF(OR(F24=\"Proceed to the Criterion 2\",F21=\"Proceed to the Criterion 2\",F18=\"Proceed to the Criterion 2\",H24=\"Proceed to the Criterion 2\",H21=\"Proceed to the Criterion 2\",H18=\"Proceed to the Criterion 2\"),IF(AND(Calculos!D33>0.35,Calculos!D33<=0.55),IF(E33=\"\",\"\",IF(C29>D33,\"The oil is not coherent\",\"\"))),\"\"))","v":""},null,{"$f":"IF(C29=\"\",\"\",IF(OR(F24=\"Proceed to the Criterion 2\",F21=\"Proceed to the Criterion 2\",F18=\"Proceed to the Criterion 2\",H24=\"Proceed to the Criterion 2\",H21=\"Proceed to the Criterion 2\",H18=\"Proceed to the Criterion 2\"),IF(AND(Calculos!D33>0.35,Calculos!D33<=0.55),IF(E29=\"\",\"\",IF(C29>D29,\"The oil is not coherent\",\"\"))),\"\"))","v":""}]
[null,"DECN44p",{"$f":"IF('Experimental Data'!E27=\"\",\"\",IF(AND(Calculos!D33>0.35,Calculos!D33<=0.55),Calculos!B38,\"\"))","v":""},{"$f":"IF(C31<=-0.05,IF(C29=\"\",\"\",IF(AND(Calculos!D33>0.35,Calculos!D33<=0.55),IF(AND(C32<=1.05,C30<=6,C30>4.5),ROUND(0.22656-(0.06979*C18)-(0.04633*C18^2)+(0.00719*C18^3),2),\"\"),\"\")),\"\")","v":""},{"$f":"IF(C31<=-0.05,IF(C29=\"\",\"\",IF(AND(Calculos!D33>0.35,Calculos!D33<=0.55),IF(AND(C32<=1.05,C30<=6,C30>4.5),-0.15,\"\"),\"\")),\"\")","v":""},{"$f":"IF(C29=\"\",\"\",IF(OR(F24=\"Proceed to the Criterion 2\",F21=\"Proceed to the Criterion 2\",F18=\"Proceed to the Criterion 2\",H24=\"Proceed to the Criterion 2\",H21=\"Proceed to the Criterion 2\",H18=\"Proceed to the Criterion 2\"),IF(AND(Calculos!D33>0.35,Calculos!D33<=0.55),IF(E33=\"\",\"\",IF(AND(C29>E33,C29<=E33),\"Proceed to the Criterion 3\",\"\"))),\"\"))","v":""},null,{"$f":"IF(C29=\"\",\"\",IF(OR(F24=\"Proceed to the Criterion 2\",F21=\"Proceed to the Criterion 2\",F18=\"Proceed to the Criterion 2\",H24=\"Proceed to the Criterion 2\",H21=\"Proceed to the Criterion 2\",H18=\"Proceed to the Criterion 2\"),IF(AND(Calculos!D33>0.35,Calculos!D33<=0.55),IF(E29=\"\",\"\",IF(AND(C29>E29,C29<=D29),\"Proceed to the Criterion 3\",\"\"))),\"\"))","v":""}]
[null,null,null,{"$f":"IF(C31<=-0.05,IF(C29=\"\",\"\",IF(AND(Calculos!D33>0.35,Calculos!D33<=0.55),IF(AND(C32<=1.05,C30<=4.5,C30>3),ROUND(0.23197-(0.07094*C18)-(0.04081*C18^2)+(0.00359*C18^3),2),\"\"),\"\")),IF(C29=\"\",\"\",IF(AND(Calculos!D33>0.35,Calculos!D33<=0.55),IF(AND(C32<=1.05,C30>3.5),ROUND(0.37+(0.15714*C18),2),\"\"),\"\")))","v":""},{"$f":"IF(C31<=-0.05,IF(C29=\"\",\"\",IF(AND(Calculos!D33>0.35,Calculos!D33<=0.55),IF(AND(C32<=1.05,C30<=4.5,C30>3),-0.15,\"\"),\"\")),IF(C29=\"\",\"\",IF(AND(Calculos!D33>0.35,Calculos!D33<=0.55),IF(AND(C32<=1.05,C30>3.5),ROUND(0.32+(0.22857*C18),2),\"\"),\"\")))","v":""},{"$f":"IF(C29=\"\",\"\",IF(OR(F24=\"Proceed to the Criterion 2\",F21=\"Proceed to the Criterion 2\",F18=\"Proceed to the Criterion 2\",H24=\"Proceed to the Criterion 2\",H21=\"Proceed to the Criterion 2\",H18=\"Proceed to the Criterion 2\"),IF(AND(Calculos!D33>0.35,Calculos!D33<=0.55),IF(E33=\"\",\"\",IF(C29<=E33,\"The oil is coherent\",\"\"))),\"\"))","v":""},null,{"$f":"IF(C29=\"\",\"\",IF(OR(F24=\"Proceed to the Criterion 2\",F21=\"Proceed to the Criterion 2\",F18=\"Proceed to the Criterion 2\",H24=\"Proceed to the Criterion 2\",H21=\"Proceed to the Criterion 2\",H18=\"Proceed to the Criterion 2\"),IF(AND(Calculos!D33>0.35,Calculos!D33<=0.55),IF(E29=\"\",\"\",IF(C29<=E29,\"The oil is coherent\",\"\"))),\"\"))","v":""}]
[null,null,null,{"$f":"IF(C31<=-0.05,IF(C29=\"\",\"\",IF(AND(Calculos!D33>0.35,Calculos!D33<=0.55),IF(AND(C32<=1.05,C30<=3,C30>1.5),ROUND(0.20528-(0.05077*C18)-(0.03689*C18^2)+(0.000109939*C18^3),2),\"\"),\"\")),IF(C29=\"\",\"\",IF(AND(Calculos!D33>0.35,Calculos!D33<=0.55),IF(AND(C32<=1.05,C30<=3.5,C18>-0.02),ROUND(0.36077+(0.03845*C18),2),\"\"),\"\")))","v":""},{"$f":"IF(C31<=-0.05,IF(C29=\"\",\"\",IF(AND(Calculos!D33>0.35,Calculos!D33<=0.55),IF(AND(C32<=1.05,C30<=3,C30>1.5),0.05,\"\"),\"\")),IF(C29=\"\",\"\",IF(AND(Calculos!D33>0.35,Calculos!D33<=0.55),IF(AND(C32<=1.05,C30<=3.5,C18>-0.02),ROUND(0.075+(0.15*C18),2),\"\"),\"\")))","v":""},{"$f":"IF(C29=\"\",\"\",IF(OR(F24=\"Proceed to the Criterion 2\",F21=\"Proceed to the Criterion 2\",F18=\"Proceed to the Criterion 2\",H24=\"Proceed to the Criterion 2\",H21=\"Proceed to the Criterion 2\",H18=\"Proceed to the Criterion 2\"),IF(AND(Calculos!D33>0.35,Calculos!D33<=0.55),IF(E34=\"\",\"\",IF(C29>D34,\"The oil is not coherent\",\"\"))),\"\"))","v":""},null,{"$f":"IF(C29=\"\",\"\",IF(OR(F24=\"Proceed to the Criterion 2\",F21=\"Proceed to the Criterion 2\",F18=\"Proceed to the Criterion 2\",H24=\"Proceed to the Criterion 2\",H21=\"Proceed to the Criterion 2\",H18=\"Proceed to the Criterion 2\"),IF(AND(Calculos!D33>0.35,Calculos!D33<=0.55),IF(E30=\"\",\"\",IF(C29>D30,\"The oil is not coherent\",\"\"))),\"\"))","v":""}]
[null,null,null,{"$f":"IF(C31<=-0.05,IF(C29=\"\",\"\",IF(AND(Calculos!D33>0.35,Calculos!D33<=0.55),IF(AND(C32<=1.05,C30<=1.5),ROUND(0.30296-(0.01443*C18)-(0.08071*C18^2)+(0.000936543*C18^3),2),\"\"),\"\")),IF(C29=\"\",\"\",IF(AND(Calculos!D33>0.35,Calculos!D33<=0.55),IF(AND(C32<=1.05,C30<=3.5,C18<=-0.02),ROUND(0.36444+(0.22222*C18),2),\"\"),\"\")))","v":""},{"$f":"IF(C31<=-0.05,IF(C29=\"\",\"\",IF(AND(Calculos!D33>0.35,Calculos!D33<=0.55),IF(AND(C32<=1.05,C30<=1.5),0,\"\"),\"\")),IF(C29=\"\",\"\",IF(AND(Calculos!D33>0.35,Calculos!D33<=0.55),IF(AND(C32<=1.05,C30<=3.5,C18<=-0.02),0.1,\"\"),\"\")))","v":""},{"$f":"IF(C29=\"\",\"\",IF(OR(F24=\"Proceed to the Criterion 2\",F21=\"Proceed to the Criterion 2\",F18=\"Proceed to the Criterion 2\",H24=\"Proceed to the Criterion 2\",H21=\"Proceed to the Criterion 2\",H18=\"Proceed to the Criterion 2\"),IF(AND(Calculos!D33>0.35,Calculos!D33<=0.55),IF(E34=\"\",\"\",IF(AND(C29>E34,C29<=D34),\"Proceed to the Criterion 3\",\"\"))),\"\"))","v":""},null,{"$f":"IF(C29=\"\",\"\",IF(OR(F24=\"Proceed to the Criterion 2\",F21=\"Proceed to the Criterion 2\",F18=\"Proceed to the Criterion 2\",H24=\"Proceed to the Criterion 2\",H21=\"Proceed to the Criterion 2\",H18=\"Proceed to the Criterion 2\"),IF(AND(Calculos!D33>0.35,Calculos!D33<=0.55),IF(E30=\"\",\"\",IF(AND(C29>E30,C29<=D30),\"Proceed to the Criterion 3\",\"\"))),\"\"))","v":""}]
[null,null,null,null,null,{"$f":"IF(C29=\"\",\"\",IF(OR(F24=\"Proceed to the Criterion 2\",F21=\"Proceed to the Criterion 2\",F18=\"Proceed to the Criterion 2\",H24=\"Proceed to the Criterion 2\",H21=\"Proceed to the Criterion 2\",H18=\"Proceed to the Criterion 2\"),IF(AND(Calculos!D33>0.35,Calculos!D33<=0.55),IF(E34=\"\",\"\",IF(C29<=E34,\"The oil is coherent\",\"\"))),\"\"))","v":""},null,{"$f":"IF(C29=\"\",\"\",IF(OR(F24=\"Proceed to the Criterion 2\",F21=\"Proceed to the Criterion 2\",F18=\"Proceed to the Criterion 2\",H24=\"Proceed to the Criterion 2\",H21=\"Proceed to the Criterion 2\",H18=\"Proceed to the Criterion 2\"),IF(AND(Calculos!D33>0.35,Calculos!D33<=0.55),IF(E30=\"\",\"\",IF(C29<=E30,\"The oil is coherent\",\"\"))),\"\"))","v":""}]
[null,null,null,null,null,{"$f":"IF(C29=\"\",\"\",IF(OR(F24=\"Proceed to the Criterion 2\",F21=\"Proceed to the Criterion 2\",F18=\"Proceed to the Criterion 2\",H24=\"Proceed to the Criterion 2\",H21=\"Proceed to the Criterion 2\",H18=\"Proceed to the Criterion 2\"),IF(AND(Calculos!D33>0.35,Calculos!D33<=0.55),IF(E35=\"\",\"\",IF(C29>D35,\"The oil is not coherent\",\"\"))),\"\"))","v":""},null,{"$f":"IF(C29=\"\",\"\",IF(OR(F24=\"Proceed to the Criterion 2\",F21=\"Proceed to the Criterion 2\",F18=\"Proceed to the Criterion 2\",H24=\"Proceed to the Criterion 2\",H21=\"Proceed to the Criterion 2\",H18=\"Proceed to the Criterion 2\"),IF(AND(Calculos!D33>0.35,Calculos!D33<=0.55),IF(E31=\"\",\"\",IF(C29>D31,\"The oil is not coherent\",\"\"))),\"\"))","v":""}]
[null,null,null,null,null,{"$f":"IF(C29=\"\",\"\",IF(OR(F24=\"Proceed to the Criterion 2\",F21=\"Proceed to the Criterion 2\",F18=\"Proceed to the Criterion 2\",H24=\"Proceed to the Criterion 2\",H21=\"Proceed to the Criterion 2\",H18=\"Proceed to the Criterion 2\"),IF(AND(Calculos!D33>0.35,Calculos!D33<=0.55),IF(E35=\"\",\"\",IF(AND(C29>E35,C29<=D35),\"Proceed to the Criterion 3\",\"\"))),\"\"))","v":""},null,{"$f":"IF(C29=\"\",\"\",IF(OR(F24=\"Proceed to the Criterion 2\",F21=\"Proceed to the Criterion 2\",F18=\"Proceed to the Criterion 2\",H24=\"Proceed to the Criterion 2\",H21=\"Proceed to the Criterion 2\",H18=\"Proceed to the Criterion 2\"),IF(AND(Calculos!D33>0.35,Calculos!D33<=0.55),IF(E31=\"\",\"\",IF(AND(C29>E31,C29<=D31),\"Proceed to the Criterion 3\",\"\"))),\"\"))","v":""}]
[null,null,null,null,null,{"$f":"IF(C29=\"\",\"\",IF(OR(F24=\"Proceed to the Criterion 2\",F21=\"Proceed to the Criterion 2\",F18=\"Proceed to the Criterion 2\",H24=\"Proceed to the Criterion 2\",H21=\"Proceed to the Criterion 2\",H18=\"Proceed to the Criterion 2\"),IF(AND(Calculos!D33>0.35,Calculos!D33<=0.55),IF(E35=\"\",\"\",IF(C29<=E35,\"The oil is coherent\",\"\"))),\"\"))","v":""},null,{"$f":"IF(C29=\"\",\"\",IF(OR(F24=\"Proceed to the Criterion 2\",F21=\"Proceed to the Criterion 2\",F18=\"Proceed to the Criterion 2\",H24=\"Proceed to the Criterion 2\",H21=\"Proceed to the Criterion 2\",H18=\"Proceed to the Criterion 2\"),IF(AND(Calculos!D33>0.35,Calculos!D33<=0.55),IF(E31=\"\",\"\",IF(C29<=E31,\"The oil is coherent\",\"\"))),\"\"))","v":""}]
[]
[null,"Criterion 3 R1 exp."]
[null,"Parameter","Value","Higher Limit","Lower Limit",{"$f":"IF(C43=\"\",\"\",IF(OR(F38=\"Proceed to the Criterion 3\",F35=\"Proceed to the Criterion 3\",F32=\"Proceed to the Criterion 3\",F29=\"Proceed to the Criterion 3\",H38=\"Proceed to the Criterion 3\",H35=\"Proceed to the Criterion 3\",H32=\"Proceed to the Criterion 3\"),IF(AND(Calculos!D33>0.35,Calculos!D33<=0.55),IF(E46=\"\",\"\",IF(C43>D46,\"The oil is not coherent\",\"\"))),\"\"))","v":""}]
[null,"R1 exp. =",{"$f":"IF('Experimental Data'!E27=\"\",\"\",IF(AND(Calculos!D33>0.35,Calculos!D33<=0.55),Calculos!B19,\"\"))","v":""},{"$f":"IF(C10<=1.2,IF(C43=\"\",\"\",IF(AND(Calculos!D33>0.35,Calculos!D33<=0.55),IF(AND(C44>1.05,C45>3),ROUND(-0.3976+(1.67923*C44)-(0.71126*C44^2)+(0.07038*C44^3),2),\"\"),\"\")),\"\")","v":""},{"$f":"IF(C10<=1.2,IF(C43=\"\",\"\",IF(AND(Calculos!D33>0.35,Calculos!D33<=0.55),IF(AND(C44>1.05,C45>3),0.65,\"\"),\"\")),\"\")","v":""},{"$f":"IF(C43=\"\",\"\",IF(OR(F38=\"Proceed to the Criterion 3\",F35=\"Proceed to the Criterion 3\",F32=\"Proceed to the Criterion 3\",F29=\"Proceed to the Criterion 3\",H38=\"Proceed to the Criterion 3\",H35=\"Proceed to the Criterion 3\",H32=\"Proceed to the Criterion 3\"),IF(AND(Calculos!D33>0.35,Calculos!D33<=0.55),IF(E46=\"\",\"\",IF(AND(C43<=D46,C43>E46),\"Proceed to the Criterion 4\",\"\"))),\"\"))","v":""}]
[null,"DECN44p",{"$f":"IF('Experimental Data'!E27=\"\",\"\",IF(AND(Calculos!D33>0.35,Calculos!D33<=0.55),Calculos!B38,\"\"))","v":""},{"$f":"IF(C10<=1.2,IF(C43=\"\",\"\",IF(AND(Calculos!D33>0.35,Calculos!D33<=0.55),IF(AND(C44>1.05,C45<=3,C45>2),ROUND(0.7351+(0.52539*C44)-(0.31228*C44^2)+(0.03132*C44^3),2),\"\"),\"\")),IF(C43=\"\",\"\",IF(AND(Calculos!D33>0.35,Calculos!D33<=0.55),IF(AND(C44>1.05,C45>2),0.87,\"\"),\"\")))","v":""},{"$f":"IF(C10<=1.2,IF(C43=\"\",\"\",IF(AND(Calculos!D33>0.35,Calculos!D33<=0.55),IF(AND(C44>1.05,C45<=3,C45>2),0.65,\"\"),\"\")),IF(C43=\"\",\"\",IF(AND(Calculos!D33>0.35,Calculos!D33<=0.55),IF(AND(C44>1.05,C45>2),0.68,\"\"),\"\")))","v":""},{"$f":"IF(C43=\"\",\"\",IF(OR(F38=\"Proceed to the Criterion 3\",F35=\"Proceed to the Criterion 3\",F32=\"Proceed to the Criterion 3\",F29=\"Proceed to the Criterion 3\",H38=\"Proceed to the Criterion 3\",H35=\"Proceed to the Criterion 3\",H32=\"Proceed to the Criterion 3\"),IF(AND(Calculos!D33>0.35,Calculos!D33<=0.55),IF(E46=\"\",\"\",IF(C43<=E46,\"The oil is coherent\",\"\"))),\"\"))","v":""}]
[null,"DOOL =",{"$f":"IF('Experimental Data'!E27=\"\",\"\",IF(AND(Calculos!D33>0.35,Calculos!D33<=0.55),ROUND(Calculos!B58,2),\"\"))","v":""},{"$f":"IF(C10<=1.2,IF(C43=\"\",\"\",IF(AND(Calculos!D33>0.35,Calculos!D33<=0.55),IF(AND(C44>1.05,C45<=2),ROUND(0.61862+(0.88446*C44)-(0.62087*C44^2)+(0.09312*C44^3),2),\"\"),\"\")),IF(C43=\"\",\"\",IF(AND(Calculos!D33>0.35,Calculos!D33<=0.55),IF(AND(C44>1.05,C45<=2),ROUND(0.0387+(0.98215*C44)-(0.32627*C44^2)+(0.00524*C44^3),2),\"\"),\"\")))","v":""},{"$f":"IF(C10<=1.2,IF(C43=\"\",\"\",IF(AND(Calculos!D33>0.35,Calculos!D33<=0.55),IF(AND(C44>1.05,C45<=2),0.65,\"\"),\"\")),IF(C43=\"\",\"\",IF(AND(Calculos!D33>0.35,Calculos!D33<=0.55),IF(AND(C44>1.05,C45<=2),0.7,\"\"),\"\")))","v":""},{"$f":"IF(C43=\"\",\"\",IF(OR(F38=\"Proceed to the Criterion 3\",F35=\"Proceed to the Criterion 3\",F32=\"Proceed to the Criterion 3\",F29=\"Proceed to the Criterion 3\",H38=\"Proceed to the Criterion 3\",H35=\"Proceed to the Criterion 3\",H32=\"Proceed to the Criterion 3\"),IF(AND(Calculos!D33>0.35,Calculos!D33<=0.55),IF(E47=\"\",\"\",IF(C43>D47,\"The oil is not coherent\",\"\"))),\"\"))","v":""},null,{"$f":"IF(C43=\"\",\"\",IF(OR(F38=\"Proceed to the Criterion 3\",F35=\"Proceed to the Criterion 3\",F32=\"Proceed to the Criterion 3\",F29=\"Proceed to the Criterion 3\",H38=\"Proceed to the Criterion 3\",H35=\"Proceed to the Criterion 3\",H32=\"Proceed to the Criterion 3\"),IF(AND(Calculos!D33>0.35,Calculos!D33<=0.55),IF(E43=\"\",\"\",IF(C43>D43,\"The oil is not coherent\",\"\"))),\"\"))","v":""}]
[null,"DLLL =",{"$f":"IF('Experimental Data'!E27=\"\",\"\",IF(AND(Calculos!D33>0.35,Calculos!D33<=0.55),ROUND(Calculos!B21,2),\"\"))","v":""},{"$f":"IF(C31<=-0.05,IF(C43=\"\",\"\",IF(AND(Calculos!D33>0.35,Calculos!D33<=0.55),IF(AND(C44<=1.05,C45>4.5),ROUND(0.84827-(0.19911*C18)-(0.07022*C18^2)-(0.00323*C18^3),2),\"\"),\"\")),\"\")","v":""},{"$f":"IF(C31<=-0.05,IF(C43=\"\",\"\",IF(AND(Calculos!D33>0.35,Calculos!D33<=0.55),IF(AND(C44<=1.05,C45>4.5),0.85,\"\"),\"\")),\"\")","v":""},{"$f":"IF(C43=\"\",\"\",IF(OR(F38=\"Proceed to the Criterion 3\",F35=\"Proceed to the Criterion 3\",F32=\"Proceed to the Criterion 3\",F29=\"Proceed to the Criterion 3\",H38=\"Proceed to the Criterion 3\",H35=\"Proceed to the Criterion 3\",H32=\"Proceed to the Criterion 3\"),IF(AND(Calculos!D33>0.35,Calculos!D33<=0.55),IF(E47=\"\",\"\",IF(AND(C43<=D47,C43>E47),\"Proceed to the Criterion 4\",\"\"))),\"\"))","v":""},null,{"$f":"IF(C43=\"\",\"\",IF(OR(F38=\"Proceed to the Criterion 3\",F35=\"Proceed to the Criterion 3\",F32=\"Proceed to the Criterion 3\",F29=\"Proceed to the Criterion 3\",H38=\"Proceed to the Criterion 3\",H35=\"Proceed to the Criterion 3\",H32=\"Proceed to the Criterion 3\"),IF(AND(Calculos!D33>0.35,Calculos!D33<=0.55),IF(E43=\"\",\"\",IF(AND(C43<=D43,C43>E43),\"Proceed to the Criterion 4\",\"\"))),\"\"))","v":""}]
[null,null,null,{"$f":"IF(C31<=-0.05,IF(C43=\"\",\"\",IF(AND(Calculos!D33>0.35,Calculos!D33<=0.55),IF(AND(C44<=1.05,C45<=4.5,C45>3),ROUND(1.03277-(0.07869*C18)-(0.11433*C18^2)-(0.00101*C18^3),2),\"\"),\"\")),IF(C43=\"\",\"\",IF(AND(Calculos!D33>0.35,Calculos!D33<=0.55),IF(AND(C44<=1.05,C45>5.5),ROUND(0.73036-(0.3124*C18)-(0.12673*C18^2)-(0.0187*C18^3),2),\"\"),\"\")))","v":""},{"$f":"IF(C31<=-0.05,IF(C43=\"\",\"\",IF(AND(Calculos!D33>0.35,Calculos!D33<=0.55),IF(AND(C44<=1.05,C45<=4.5,C45>3),0.8,\"\"),\"\")),IF(C43=\"\",\"\",IF(AND(Calculos!D33>0.35,Calculos!D33<=0.55),IF(AND(C44<=1.05,C45>5.5),0.8,\"\"),\"\")))","v":""},{"$f":"IF(C43=\"\",\"\",IF(OR(F38=\"Proceed to the Criterion 3\",F35=\"Proceed to the Criterion 3\",F32=\"Proceed to the Criterion 3\",F29=\"Proceed to the Criterion 3\",H38=\"Proceed to the Criterion 3\",H35=\"Proceed to the Criterion 3\",H32=\"Proceed to the Criterion 3\"),IF(AND(Calculos!D33>0.35,Calculos!D33<=0.55),IF(E47=\"\",\"\",IF(C43<=E47,\"The oil is coherent\",\"\"))),\"\"))","v":""},null,{"$f":"IF(C43=\"\",\"\",IF(OR(F38=\"Proceed to the Criterion 3\",F35=\"Proceed to the Criterion 3\",F32=\"Proceed to the Criterion 3\",F29=\"Proceed to the Criterion 3\",H38=\"Proceed to the Criterion 3\",H35=\"Proceed to the Criterion 3\",H32=\"Proceed to the Criterion 3\"),IF(AND(Calculos!D33>0.35,Calculos!D33<=0.55),IF(E43=\"\",\"\",IF(C43<=E43,\"The oil is coherent\",\"\"))),\"\"))","v":""}]
[null,null,null,{"$f":"IF(C31<=-0.05,IF(C43=\"\",\"\",IF(AND(Calculos!D33>0.35,Calculos!D33<=0.55),IF(AND(C44<=1.05,C45<=3,C45>1.5),ROUND(1.04095-(0.06556*C18)-(0.17095*C18^2)+(0.02889*C18^3),2),\"\"),\"\")),IF(C43=\"\",\"\",IF(AND(Calculos!D33>0.35,Calculos!D33<=0.55),IF(AND(C44<=1.05,C45<=5.5,C45>3.5),ROUND(1.03917+(0.01829*C18)-(0.04857*C18^2)+(0.02111*C18^3),2),\"\"),\"\")))","v":""},{"$f":"IF(C31<=-0.05,IF(C43=\"\",\"\",IF(AND(Calculos!D33>0.35,Calculos!D33<=0.55),IF(AND(C44<=1.05,C45<=3,C45>1.5),0.8,\"\"),\"\")),IF(C43=\"\",\"\",IF(AND(Calculos!D33>0.35,Calculos!D33<=0.55),IF(AND(C44<=1.05,C45<=5.5,C45>3.5),0.75,\"\"),\"\")))","v":""},{"$f":"IF(C43=\"\",\"\",IF(OR(F38=\"Proceed to the Criterion 3\",F35=\"Proceed to the Criterion 3\",F32=\"Proceed to the Criterion 3\",F29=\"Proceed to the Criterion 3\",H38=\"Proceed to the Criterion 3\",H35=\"Proceed to the Criterion 3\",H32=\"Proceed to the Criterion 3\"),IF(AND(Calculos!D33>0.35,Calculos!D33<=0.55),IF(E48=\"\",\"\",IF(C43>D48,\"The oil is not coherent\",\"\"))),\"\"))","v":""},null,{"$f":"IF(C43=\"\",\"\",IF(OR(F38=\"Proceed to the Criterion 3\",F35=\"Proceed to the Criterion 3\",F32=\"Proceed to the Criterion 3\",F29=\"Proceed to the Criterion 3\",H38=\"Proceed to the Criterion 3\",H35=\"Proceed to the Criterion 3\",H32=\"Proceed to the Criterion 3\"),IF(AND(Calculos!D33>0.35,Calculos!D33<=0.55),IF(E44=\"\",\"\",IF(C43>D44,\"The oil is not coherent\",\"\"))),\"\"))","v":""}]
[null,null,null,{"$f":"IF(C31<=-0.05,IF(C43=\"\",\"\",IF(AND(Calculos!D33>0.35,Calculos!D33<=0.55),IF(AND(C44<=1.05,C45<=1.5),ROUND(0.95857-(0.00992*C18)-(0.13286*C18^2)+(0.00444*C18^3),2),\"\"),\"\")),IF(C43=\"\",\"\",IF(AND(Calculos!D33>0.35,Calculos!D33<=0.55),IF(AND(C44<=1.05,C45<=3.5),ROUND(1.025+(0.11167*C18)-(0.22*C18^2)+(0.11333*C18^3),2),\"\"),\"\")))","v":""},{"$f":"IF(C31<=-0.05,IF(C43=\"\",\"\",IF(AND(Calculos!D33>0.35,Calculos!D33<=0.55),IF(AND(C44<=1.05,C45<=1.5),0.7,\"\"),\"\")),IF(C43=\"\",\"\",IF(AND(Calculos!D33>0.35,Calculos!D33<=0.55),IF(AND(C44<=1.05,C45<=3.5),ROUND(0.7+(0.4*C18),2),\"\"),\"\")))","v":""},{"$f":"IF(C43=\"\",\"\",IF(OR(F38=\"Proceed to the Criterion 3\",F35=\"Proceed to the Criterion 3\",F32=\"Proceed to the Criterion 3\",F29=\"Proceed to the Criterion 3\",H38=\"Proceed to the Criterion 3\",H35=\"Proceed to the Criterion 3\",H32=\"Proceed to the Criterion 3\"),IF(AND(Calculos!D33>0.35,Calculos!D33<=0.55),IF(E48=\"\",\"\",IF(AND(C43<=D48,C43>E48),\"Proceed to the Criterion 4\",\"\"))),\"\"))","v":""},null,{"$f":"IF(C43=\"\",\"\",IF(OR(F38=\"Proceed to the Criterion 3\",F35=\"Proceed to the Criterion 3\",F32=\"Proceed to the Criterion 3\",F29=\"Proceed to the Criterion 3\",H38=\"Proceed to the Criterion 3\",H35=\"Proceed to the Criterion 3\",H32=\"Proceed to the Criterion 3\"),IF(AND(Calculos!D33>0.35,Calculos!D33<=0.55),IF(E44=\"\",\"\",IF(AND(C43<=D44,C43>E44),\"Proceed to the Criterion 4\",\"\"))),\"\"))","v":""}]
[null,null,null,null,null,{"$f":"IF(C43=\"\",\"\",IF(OR(F38=\"Proceed to the Criterion 3\",F35=\"Proceed to the Criterion 3\",F32=\"Proceed to the Criterion 3\",F29=\"Proceed to the Criterion 3\",H38=\"Proceed to the Criterion 3\",H35=\"Proceed to the Criterion 3\",H32=\"Proceed to the Criterion 3\"),IF(AND(Calculos!D33>0.35,Calculos!D33<=0.55),IF(E48=\"\",\"\",IF(C43<=E48,\"The oil is coherent\",\"\"))),\"\"))","v":""},null,{"$f":"IF(C43=\"\",\"\",IF(OR(F38=\"Proceed to the Criterion 3\",F35=\"Proceed to the Criterion 3\",F32=\"Proceed to the Criterion 3\",F29=\"Proceed to the Criterion 3\",H38=\"Proceed to the Criterion 3\",H35=\"Proceed to the Criterion 3\",H32=\"Proceed to the Criterion 3\"),IF(AND(Calculos!D33>0.35,Calculos!D33<=0.55),IF(E44=\"\",\"\",IF(C43<=E44,\"The oil is coherent\",\"\"))),\"\"))","v":""}]
[null,null,null,null,null,{"$f":"IF(C43=\"\",\"\",IF(OR(F38=\"Proceed to the Criterion 3\",F35=\"Proceed to the Criterion 3\",F32=\"Proceed to the Criterion 3\",F29=\"Proceed to the Criterion 3\",H38=\"Proceed to the Criterion 3\",H35=\"Proceed to the Criterion 3\",H32=\"Proceed to the Criterion 3\"),IF(AND(Calculos!D33>0.35,Calculos!D33<=0.55),IF(E49=\"\",\"\",IF(C43>D49,\"The oil is not coherent\",\"\"))),\"\"))","v":""},null,{"$f":"IF(C43=\"\",\"\",IF(OR(F38=\"Proceed to the Criterion 3\",F35=\"Proceed to the Criterion 3\",F32=\"Proceed to the Criterion 3\",F29=\"Proceed to the Criterion 3\",H38=\"Proceed to the Criterion 3\",H35=\"Proceed to the Criterion 3\",H32=\"Proceed to the Criterion 3\"),IF(AND(Calculos!D33>0.35,Calculos!D33<=0.55),IF(E45=\"\",\"\",IF(C43>D45,\"The oil is not coherent\",\"\"))),\"\"))","v":""}]
[null,null,null,null,null,{"$f":"IF(C43=\"\",\"\",IF(OR(F38=\"Proceed to the Criterion 3\",F35=\"Proceed to the Criterion 3\",F32=\"Proceed to the Criterion 3\",F29=\"Proceed to the Criterion 3\",H38=\"Proceed to the Criterion 3\",H35=\"Proceed to the Criterion 3\",H32=\"Proceed to the Criterion 3\"),IF(AND(Calculos!D33>0.35,Calculos!D33<=0.55),IF(E49=\"\",\"\",IF(AND(C43<=D49,C43>E49),\"Proceed to the Criterion 4\",\"\"))),\"\"))","v":""},null,{"$f":"IF(C43=\"\",\"\",IF(OR(F38=\"Proceed to the Criterion 3\",F35=\"Proceed to the Criterion 3\",F32=\"Proceed to the Criterion 3\",F29=\"Proceed to the Criterion 3\",H38=\"Proceed to the Criterion 3\",H35=\"Proceed to the Criterion 3\",H32=\"Proceed to the Criterion 3\"),IF(AND(Calculos!D33>0.35,Calculos!D33<=0.55),IF(E45=\"\",\"\",IF(AND(C43<=D45,C43>E45),\"Proceed to the Criterion 4\",\"\"))),\"\"))","v":""}]
[null,null,null,null,null,{"$f":"IF(C43=\"\",\"\",IF(OR(F38=\"Proceed to the Criterion 3\",F35=\"Proceed to the Criterion 3\",F32=\"Proceed to the Criterion 3\",F29=\"Proceed to the Criterion 3\",H38=\"Proceed to the Criterion 3\",H35=\"Proceed to the Criterion 3\",H32=\"Proceed to the Criterion 3\"),IF(AND(Calculos!D33>0.35,Calculos!D33<=0.55),IF(E49=\"\",\"\",IF(C43<=E49,\"The oil is coherent\",\"\"))),\"\"))","v":""},null,{"$f":"IF(C43=\"\",\"\",IF(OR(F38=\"Proceed to the Criterion 3\",F35=\"Proceed to the Criterion 3\",F32=\"Proceed to the Criterion 3\",F29=\"Proceed to the Criterion 3\",H38=\"Proceed to the Criterion 3\",H35=\"Proceed to the Criterion 3\",H32=\"Proceed to the Criterion 3\"),IF(AND(Calculos!D33>0.35,Calculos!D33<=0.55),IF(E45=\"\",\"\",IF(C43<=E45,\"The oil is coherent\",\"\"))),\"\"))","v":""}]
[null,"Criterion 4 DR1"]
[null,"Parameter","Value","Higher Limit","Lower Limit",{"$f":"IF(C56=\"\",\"\",IF(OR(F52=\"Proceed to the Criterion 4\",F49=\"Proceed to the Criterion 4\",F46=\"Proceed to the Criterion 4\",F43=\"Proceed to the Criterion 4\",H52=\"Proceed to the Criterion 4\",H49=\"Proceed to the Criterion 4\",H46=\"Proceed to the Criterion 4\"),IF(AND(Calculos!D33>0.35,Calculos!D33<=0.55),IF(E60=\"\",\"\",IF(C56>D60,\"The oil is not coherent\",\"\"))),\"\"))","v":""},null,{"$f":"IF(C56=\"\",\"\",IF(OR(F52=\"Proceed to the Criterion 4\",F49=\"Proceed to the Criterion 4\",F46=\"Proceed to the Criterion 4\",F43=\"Proceed to the Criterion 4\",H52=\"Proceed to the Criterion 4\",H49=\"Proceed to the Criterion 4\",H46=\"Proceed to the Criterion 4\"),IF(AND(Calculos!D33>0.35,Calculos!D33<=0.55),IF(E56=\"\",\"\",IF(C56>D56,\"The oil is not coherent\",\"\"))),\"\"))","v":""}]
[null,"DR1 =",{"$f":"IF('Experimental Data'!E27=\"\",\"\",IF(AND(Calculos!D33>0.35,Calculos!D33<=0.55),Calculos!B20,\"\"))","v":""},{"$f":"IF(C10<=1.2,IF(C56=\"\",\"\",IF(AND(Calculos!D33>0.35,Calculos!D33<=0.55),IF(AND(C59>1.05,C57>3),0.28,\"\"),\"\")),IF(C56=\"\",\"\",IF(AND(Calculos!D33>0.35,Calculos!D33<=0.55),IF(AND(C59>1.05,C57>3),0.28,\"\"),\"\")))","v":""},{"$f":"IF(C10<=1.2,IF(C56=\"\",\"\",IF(AND(Calculos!D33>0.35,Calculos!D33<=0.55),IF(AND(C59>1.05,C57>3),0.1,\"\"),\"\")),IF(C56=\"\",\"\",IF(AND(Calculos!D33>0.35,Calculos!D33<=0.55),IF(AND(C59>1.05,C57>3),0.1,\"\"),\"\")))","v":""},{"$f":"IF(C56=\"\",\"\",IF(OR(F52=\"Proceed to the Criterion 4\",F49=\"Proceed to the Criterion 4\",F46=\"Proceed to the Criterion 4\",F43=\"Proceed to the Criterion 4\",H52=\"Proceed to the Criterion 4\",H49=\"Proceed to the Criterion 4\",H46=\"Proceed to the Criterion 4\"),IF(AND(Calculos!D33>0.35,Calculos!D33<=0.55),IF(E60=\"\",\"\",IF(AND(C56<=D60,C56>E60),\"Proceed to the Criterion 5\",\"\"))),\"\"))","v":""},null,{"$f":"IF(C56=\"\",\"\",IF(OR(F52=\"Proceed to the Criterion 4\",F49=\"Proceed to the Criterion 4\",F46=\"Proceed to the Criterion 4\",F43=\"Proceed to the Criterion 4\",H52=\"Proceed to the Criterion 4\",H49=\"Proceed to the Criterion 4\",H46=\"Proceed to the Criterion 4\"),IF(AND(Calculos!D33>0.35,Calculos!D33<=0.55),IF(E56=\"\",\"\",IF(AND(C56<=D56,C56>E56),\"Proceed to the Criterion 5\",\"\"))),\"\"))","v":""}]
[null,"DOOL =",{"$f":"IF('Experimental Data'!E27=\"\",\"\",IF(AND(Calculos!D33>0.35,Calculos!D33<=0.55),ROUND(Calculos!B58,2),\"\"))","v":""},{"$f":"IF(C10<=1.2,IF(C56=\"\",\"\",IF(AND(Calculos!D33>0.35,Calculos!D33<=0.55),IF(AND(C59>1.05,C57<=3,C57>2),ROUND(0.12477+(0.51413*C59)-(0.31938*C59^2)+(0.03776*C59^3),2),\"\"),\"\")),IF(C56=\"\",\"\",IF(AND(Calculos!D33>0.35,Calculos!D33<=0.55),IF(AND(C59>1.05,C57<=3,C57>2),ROUND(-0.58779+(1.1154*C59)-(0.39277*C59^2)+(0.02137*C59^3),2),\"\"),\"\")))","v":""},{"$f":"IF(C10<=1.2,IF(C56=\"\",\"\",IF(AND(Calculos!D33>0.35,Calculos!D33<=0.55),IF(AND(C59>1.05,C57<=3,C57>2),0.1,\"\"),\"\")),IF(C56=\"\",\"\",IF(AND(Calculos!D33>0.35,Calculos!D33<=0.55),IF(AND(C59>1.05,C57<=3,C57>2),0.1,\"\"),\"\")))","v":""},{"$f":"IF(C56=\"\",\"\",IF(OR(F52=\"Proceed to the Criterion 4\",F49=\"Proceed to the Criterion 4\",F46=\"Proceed to the Criterion 4\",F43=\"Proceed to the Criterion 4\",H52=\"Proceed to the Criterion 4\",H49=\"Proceed to the Criterion 4\",H46=\"Proceed to the Criterion 4\"),IF(AND(Calculos!D33>0.35,Calculos!D33<=0.55),IF(E60=\"\",\"\",IF(C56<=E60,\"The oil is coherent\",\"\"))),\"\"))","v":""},null,{"$f":"IF(C56=\"\",\"\",IF(OR(F52=\"Proceed to the Criterion 4\",F49=\"Proceed to the Criterion 4\",F46=\"Proceed to the Criterion 4\",F43=\"Proceed to the Criterion 4\",H52=\"Proceed to the Criterion 4\",H49=\"Proceed to the Criterion 4\",H46=\"Proceed to the Criterion 4\"),IF(AND(Calculos!D33>0.35,Calculos!D33<=0.55),IF(E56=\"\",\"\",IF(C56<=E56,\"The oil is coherent\",\"\"))),\"\"))","v":""}]
[null,"DLLL =",{"$f":"IF('Experimental Data'!E27=\"\",\"\",IF(AND(Calculos!D33>0.35,Calculos!D33<=0.55),ROUND(Calculos!B21,2),\"\"))","v":""},{"$f":"IF(C10<=1.2,IF(C56=\"\",\"\",IF(AND(Calculos!D33>0.35,Calculos!D33<=0.55),IF(AND(C59>1.05,C57<=2),ROUND(0.0231+(0.78416*C59)-(0.48857*C59^2)+(0.0363*C59^3),2),\"\"),\"\")),IF(C56=\"\",\"\",IF(AND(Calculos!D33>0.35,Calculos!D33<=0.55),IF(AND(C59>1.05,C57<=2),ROUND(-1.06553+(1.90204*C59)-(0.829*C59^2)+(0.08838*C59^3),2),\"\"),\"\")))","v":""},{"$f":"IF(C10<=1.2,IF(C56=\"\",\"\",IF(AND(Calculos!D33>0.35,Calculos!D33<=0.55),IF(AND(C59>1.05,C57<=2),0,\"\"),\"\")),IF(C56=\"\",\"\",IF(AND(Calculos!D33>0.35,Calculos!D33<=0.55),IF(AND(C59>1.05,C57<=2),0,\"\"),\"\")))","v":""},{"$f":"IF(C56=\"\",\"\",IF(OR(F52=\"Proceed to the Criterion 4\",F49=\"Proceed to the Criterion 4\",F46=\"Proceed to the Criterion 4\",F43=\"Proceed to the Criterion 4\",H52=\"Proceed to the Criterion 4\",H49=\"Proceed to the Criterion 4\",H46=\"Proceed to the Criterion 4\"),IF(AND(Calculos!D33>0.35,Calculos!D33<=0.55),IF(E61=\"\",\"\",IF(C56>D61,\"The oil is not coherent\",\"\"))),\"\"))","v":""},null,{"$f":"IF(C56=\"\",\"\",IF(OR(F52=\"Proceed to the Criterion 4\",F49=\"Proceed to the Criterion 4\",F46=\"Proceed to the Criterion 4\",F43=\"Proceed to the Criterion 4\",H52=\"Proceed to the Criterion 4\",H49=\"Proceed to the Criterion 4\",H46=\"Proceed to the Criterion 4\"),IF(AND(Calculos!D33>0.35,Calculos!D33<=0.55),IF(E57=\"\",\"\",IF(C56>D57,\"The oil is not coherent\",\"\"))),\"\"))","v":""}]
[null,"DECN44p",{"$f":"IF('Experimental Data'!E27=\"\",\"\",IF(AND(Calculos!D33>0.35,Calculos!D33<=0.55),Calculos!B38,\"\"))","v":""},{"$f":"IF(C58<=-0.05,IF(C56=\"\",\"\",IF(AND(Calculos!D33>0.35,Calculos!D33<=0.55),IF(AND(C59<=1.05,C57>6),ROUND(-0.01249-(0.22343*C18)-(0.05916*C18^2)+(0.0155*C18^3),2),\"\"),\"\")),\"\")","v":""},{"$f":"IF(C58<=-0.05,IF(C56=\"\",\"\",IF(AND(Calculos!D33>0.35,Calculos!D33<=0.55),IF(AND(C59<=1.05,C57>6),-0.15,\"\"),\"\")),\"\")","v":""},{"$f":"IF(C56=\"\",\"\",IF(OR(F52=\"Proceed to the Criterion 4\",F49=\"Proceed to the Criterion 4\",F46=\"Proceed to the Criterion 4\",F43=\"Proceed to the Criterion 4\",H52=\"Proceed to the Criterion 4\",H49=\"Proceed to the Criterion 4\",H46=\"Proceed to the Criterion 4\"),IF(AND(Calculos!D33>0.35,Calculos!D33<=0.55),IF(E61=\"\",\"\",IF(AND(C56<=D61,C56>E61),\"Proceed to the Criterion 5\",\"\"))),\"\"))","v":""},null,{"$f":"IF(C56=\"\",\"\",IF(OR(F52=\"Proceed to the Criterion 4\",F49=\"Proceed to the Criterion 4\",F46=\"Proceed to the Criterion 4\",F43=\"Proceed to the Criterion 4\",H52=\"Proceed to the Criterion 4\",H49=\"Proceed to the Criterion 4\",H46=\"Proceed to the Criterion 4\"),IF(AND(Calculos!D33>0.35,Calculos!D33<=0.55),IF(E57=\"\",\"\",IF(AND(C56<=D57,C56>E57),\"Proceed to the Criterion 5\",\"\"))),\"\"))","v":""}]
[null,null,null,{"$f":"IF(C58<=-0.05,IF(C56=\"\",\"\",IF(AND(Calculos!D33>0.35,Calculos!D33<=0.55),IF(AND(C59<=1.05,C57<=6,C57>4.5),ROUND(0.13179-(0.20187*C18)-(0.11113*C18^2)+(0.00909*C18^3),2),\"\"),\"\")),\"\")","v":""},{"$f":"IF(C58<=-0.05,IF(C56=\"\",\"\",IF(AND(Calculos!D33>0.35,Calculos!D33<=0.55),IF(AND(C59<=1.05,C57<=6,C57>4.5),-0.15,\"\"),\"\")),\"\")","v":""},{"$f":"IF(C56=\"\",\"\",IF(OR(F52=\"Proceed to the Criterion 4\",F49=\"Proceed to the Criterion 4\",F46=\"Proceed to the Criterion 4\",F43=\"Proceed to the Criterion 4\",H52=\"Proceed to the Criterion 4\",H49=\"Proceed to the Criterion 4\",H46=\"Proceed to the Criterion 4\"),IF(AND(Calculos!D33>0.35,Calculos!D33<=0.55),IF(E61=\"\",\"\",IF(C56<=E61,\"The oil is coherent\",\"\"))),\"\"))","v":""},null,{"$f":"IF(C56=\"\",\"\",IF(OR(F52=\"Proceed to the Criterion 4\",F49=\"Proceed to the Criterion 4\",F46=\"Proceed to the Criterion 4\",F43=\"Proceed to the Criterion 4\",H52=\"Proceed to the Criterion 4\",H49=\"Proceed to the Criterion 4\",H46=\"Proceed to the Criterion 4\"),IF(AND(Calculos!D33>0.35,Calculos!D33<=0.55),IF(E57=\"\",\"\",IF(C56<=E57,\"The oil is coherent\",\"\"))),\"\"))","v":""}]
[null,null,null,{"$f":"IF(C58<=-0.05,IF(C56=\"\",\"\",IF(AND(Calculos!D33>0.35,Calculos!D33<=0.55),IF(AND(C59<=1.05,C57<=4.5,C57>3),ROUND(0.13119-(0.21341*C18)-(0.11*C18^2)+(0.02222*C18^3),2),\"\"),\"\")),IF(C56=\"\",\"\",IF(AND(Calculos!D33>0.35,Calculos!D33<=0.55),IF(AND(C59<=1.05,C57>5.5),ROUND(-0.01968-(0.31434*C18)-(0.10524*C18^2)+(0.02593*C18^3),2),\"\"),\"\")))","v":""},{"$f":"IF(C58<=-0.05,IF(C56=\"\",\"\",IF(AND(Calculos!D33>0.35,Calculos!D33<=0.55),IF(AND(C59<=1.05,C57<=4.5,C57>3),-0.1,\"\"),\"\")),IF(C56=\"\",\"\",IF(AND(Calculos!D33>0.35,Calculos!D33<=0.55),IF(AND(C59<=1.05,C57>5.5),ROUND(0.31636+(0.23636*C18),2),\"\"),\"\")))","v":""},{"$f":"IF(C56=\"\",\"\",IF(OR(F52=\"Proceed to the Criterion 4\",F49=\"Proceed to the Criterion 4\",F46=\"Proceed to the Criterion 4\",F43=\"Proceed to the Criterion 4\",H52=\"Proceed to the Criterion 4\",H49=\"Proceed to the Criterion 4\",H46=\"Proceed to the Criterion 4\"),IF(AND(Calculos!D33>0.35,Calculos!D33<=0.55),IF(E62=\"\",\"\",IF(C56>D62,\"The oil is not coherent\",\"\"))),\"\"))","v":""},null,{"$f":"IF(C56=\"\",\"\",IF(OR(F52=\"Proceed to the Criterion 4\",F49=\"Proceed to the Criterion 4\",F46=\"Proceed to the Criterion 4\",F43=\"Proceed to the Criterion 4\",H52=\"Proceed to the Criterion 4\",H49=\"Proceed to the Criterion 4\",H46=\"Proceed to the Criterion 4\"),IF(AND(Calculos!D33>0.35,Calculos!D33<=0.55),IF(E58=\"\",\"\",IF(C56>D58,\"The oil is not coherent\",\"\"))),\"\"))","v":""}]
[null,null,null,{"$f":"IF(C58<=-0.05,IF(C56=\"\",\"\",IF(AND(Calculos!D33>0.35,Calculos!D33<=0.55),IF(AND(C59<=1.05,C57<=3,C57>1.5),ROUND(0.14484-(0.0781*C18)-(0.097*C18^2)+(0.00453*C18^3),2),\"\"),\"\")),IF(C56=\"\",\"\",IF(AND(Calculos!D33>0.35,Calculos!D33<=0.55),IF(AND(C59<=1.05,C57<=5.5,C57>3.5),ROUND(0.14496-(0.21649*C18)-(0.15689*C18^2)-(0.0065*C18^3),2),\"\"),\"\")))","v":""},{"$f":"IF(C58<=-0.05,IF(C56=\"\",\"\",IF(AND(Calculos!D33>0.35,Calculos!D33<=0.55),IF(AND(C59<=1.05,C57<=3,C57>1.5),0.05,\"\"),\"\")),IF(C56=\"\",\"\",IF(AND(Calculos!D33>0.35,Calculos!D33<=0.55),IF(AND(C59<=1.05,C57<=5.5,C57>3.5),0.05,\"\"),\"\")))","v":""},{"$f":"IF(C56=\"\",\"\",IF(OR(F52=\"Proceed to the Criterion 4\",F49=\"Proceed to the Criterion 4\",F46=\"Proceed to the Criterion 4\",F43=\"Proceed to the Criterion 4\",H52=\"Proceed to the Criterion 4\",H49=\"Proceed to the Criterion 4\",H46=\"Proceed to the Criterion 4\"),IF(AND(Calculos!D33>0.35,Calculos!D33<=0.55),IF(E62=\"\",\"\",IF(AND(C56<=D62,C56>E62),\"Proceed to the Criterion 5\",\"\"))),\"\"))","v":""},null,{"$f":"IF(C56=\"\",\"\",IF(OR(F52=\"Proceed to the Criterion 4\",F49=\"Proceed to the Criterion 4\",F46=\"Proceed to the Criterion 4\",F43=\"Proceed to the Criterion 4\",H52=\"Proceed to the Criterion 4\",H49=\"Proceed to the Criterion 4\",H46=\"Proceed to the Criterion 4\"),IF(AND(Calculos!D33>0.35,Calculos!D33<=0.55),IF(E58=\"\",\"\",IF(AND(C56<=D58,C56>E58),\"Proceed to the Criterion 5\",\"\"))),\"\"))","v":""}]
[null,null,null,{"$f":"IF(C58<=-0.05,IF(C56=\"\",\"\",IF(AND(Calculos!D33>0.35,Calculos!D33<=0.55),IF(AND(C59<=1.05,C57<=1.5),ROUND(0.25489-(0.04598*C18)-(0.1116*C18^2)+(0.00451*C18^3),2),\"\"),\"\")),IF(C56=\"\",\"\",IF(AND(Calculos!D33>0.35,Calculos!D33<=0.55),IF(AND(C59<=1.05,C57<=3.5),ROUND(0.35698+(0.09788*C18)-(0.09982*C18^2)-(0.000662252*C18^3),2),\"\"),\"\")))","v":""},{"$f":"IF(C58<=-0.05,IF(C56=\"\",\"\",IF(AND(Calculos!D33>0.35,Calculos!D33<=0.55),IF(AND(C59<=1.05,C57<=1.5),0,\"\"),\"\")),IF(C56=\"\",\"\",IF(AND(Calculos!D33>0.35,Calculos!D33<=0.55),IF(AND(C59<=1.05,C57<=3.5),ROUND(0+(0.44*C18),2),\"\"),\"\")))","v":""},{"$f":"IF(C56=\"\",\"\",IF(OR(F52=\"Proceed to the Criterion 4\",F49=\"Proceed to the Criterion 4\",F46=\"Proceed to the Criterion 4\",F43=\"Proceed to the Criterion 4\",H52=\"Proceed to the Criterion 4\",H49=\"Proceed to the Criterion 4\",H46=\"Proceed to the Criterion 4\"),IF(AND(Calculos!D33>0.35,Calculos!D33<=0.55),IF(E62=\"\",\"\",IF(C56<=E62,\"The oil is coherent\",\"\"))),\"\"))","v":""},null,{"$f":"IF(C56=\"\",\"\",IF(OR(F52=\"Proceed to the Criterion 4\",F49=\"Proceed to the Criterion 4\",F46=\"Proceed to the Criterion 4\",F43=\"Proceed to the Criterion 4\",H52=\"Proceed to the Criterion 4\",H49=\"Proceed to the Criterion 4\",H46=\"Proceed to the Criterion 4\"),IF(AND(Calculos!D33>0.35,Calculos!D33<=0.55),IF(E58=\"\",\"\",IF(C56<=E58,\"The oil is coherent\",\"\"))),\"\"))","v":""}]
[null,null,null,null,null,{"$f":"IF(C56=\"\",\"\",IF(OR(F52=\"Proceed to the Criterion 4\",F49=\"Proceed to the Criterion 4\",F46=\"Proceed to the Criterion 4\",F43=\"Proceed to the Criterion 4\",H52=\"Proceed to the Criterion 4\",H49=\"Proceed to the Criterion 4\",H46=\"Proceed to the Criterion 4\"),IF(AND(Calculos!D33>0.35,Calculos!D33<=0.55),IF(E63=\"\",\"\",IF(C56>D63,\"The oil is not coherent\",\"\"))),\"\"))","v":""},null,{"$f":"IF(C56=\"\",\"\",IF(OR(F52=\"Proceed to the Criterion 4\",F49=\"Proceed to the Criterion 4\",F46=\"Proceed to the Criterion 4\",F43=\"Proceed to the Criterion 4\",H52=\"Proceed to the Criterion 4\",H49=\"Proceed to the Criterion 4\",H46=\"Proceed to the Criterion 4\"),IF(AND(Calculos!D33>0.35,Calculos!D33<=0.55),IF(E59=\"\",\"\",IF(C56>D59,\"The oil is not coherent\",\"\"))),\"\"))","v":""}]
[null,null,null,null,null,{"$f":"IF(C56=\"\",\"\",IF(OR(F52=\"Proceed to the Criterion 4\",F49=\"Proceed to the Criterion 4\",F46=\"Proceed to the Criterion 4\",F43=\"Proceed to the Criterion 4\",H52=\"Proceed to the Criterion 4\",H49=\"Proceed to the Criterion 4\",H46=\"Proceed to the Criterion 4\"),IF(AND(Calculos!D33>0.35,Calculos!D33<=0.55),IF(E63=\"\",\"\",IF(AND(C56<=D63,C56>E63),\"Proceed to the Criterion 5\",\"\"))),\"\"))","v":""},null,{"$f":"IF(C56=\"\",\"\",IF(OR(F52=\"Proceed to the Criterion 4\",F49=\"Proceed to the Criterion 4\",F46=\"Proceed to the Criterion 4\",F43=\"Proceed to the Criterion 4\",H52=\"Proceed to the Criterion 4\",H49=\"Proceed to the Criterion 4\",H46=\"Proceed to the Criterion 4\"),IF(AND(Calculos!D33>0.35,Calculos!D33<=0.55),IF(E59=\"\",\"\",IF(AND(C56<=D59,C56>E59),\"Proceed to the Criterion 5\",\"\"))),\"\"))","v":""}]
[null,null,null,null,null,{"$f":"IF(C56=\"\",\"\",IF(OR(F52=\"Proceed to the Criterion 4\",F49=\"Proceed to the Criterion 4\",F46=\"Proceed to the Criterion 4\",F43=\"Proceed to the Criterion 4\",H52=\"Proceed to the Criterion 4\",H49=\"Proceed to the Criterion 4\",H46=\"Proceed to the Criterion 4\"),IF(AND(Calculos!D33>0.35,Calculos!D33<=0.55),IF(E63=\"\",\"\",IF(C56<=E63,\"The oil is coherent\",\"\"))),\"\"))","v":""},null,{"$f":"IF(C56=\"\",\"\",IF(OR(F52=\"Proceed to the Criterion 4\",F49=\"Proceed to the Criterion 4\",F46=\"Proceed to the Criterion 4\",F43=\"Proceed to the Criterion 4\",H52=\"Proceed to the Criterion 4\",H49=\"Proceed to the Criterion 4\",H46=\"Proceed to the Criterion 4\"),IF(AND(Calculos!D33>0.35,Calculos!D33<=0.55),IF(E59=\"\",\"\",IF(C56<=E59,\"The oil is coherent\",\"\"))),\"\"))","v":""}]
[]
[null,"Criterion 5 L4"]
[null,"Parameter","Value","Higher Limit","Lower Limit",{"$f":"IF(C70=\"\",\"\",IF(OR(F65=\"Proceed to the Criterion 5\",F62=\"Proceed to the Criterion 5\",F59=\"Proceed to the Criterion 5\",H65=\"Proceed to the Criterion 5\",F56=\"Proceed to the Criterion 5\",H62=\"Proceed to the Criterion 5\",H59=\"Proceed to the Criterion 5\",H56=\"Proceed to the Criterion 5\"),IF(AND(Calculos!D33>0.35,Calculos!D33<=0.55),IF(E74=\"\",\"\",IF(C70>D74,\"The oil is not coherent\",\"\"))),\"\"))","v":""}]
[null,"L4 =",{"$f":"IF('Experimental Data'!E27=\"\",\"\",IF(AND(Calculos!D33>0.35,Calculos!D33<=0.55),Calculos!J22,\"\"))","v":""},{"$f":"IF(C10<=1.2,\"\",IF(C70=\"\",\"\",IF(AND(Calculos!D33>0.35,Calculos!D33<=0.55),IF(AND(C73>1.05,C71>2),ROUND(-0.90126+(1.76206*C73)-(0.53576*C73^2)+(0.01148*C73^3),2),\"\"),\"\")))","v":""},null,{"$f":"IF(C70=\"\",\"\",IF(OR(F65=\"Proceed to the Criterion 5\",F62=\"Proceed to the Criterion 5\",F59=\"Proceed to the Criterion 5\",H65=\"Proceed to the Criterion 5\",F56=\"Proceed to the Criterion 5\",H62=\"Proceed to the Criterion 5\",H59=\"Proceed to the Criterion 5\",H56=\"Proceed to the Criterion 5\"),IF(AND(Calculos!D33>0.35,Calculos!D33<=0.55),IF(E74=\"\",\"\",IF(AND(C70>E74,C70<=D74),\"Proceed to the Criterion 6\",\"\"))),\"\"))","v":""}]
[null,"DOOL =",{"$f":"IF('Experimental Data'!E27=\"\",\"\",IF(AND(Calculos!D33>0.35,Calculos!D33<=0.55),ROUND(Calculos!B58,2),\"\"))","v":""},{"$f":"IF(C10<=1.2,\"\",IF(C70=\"\",\"\",IF(AND(Calculos!D33>0.35,Calculos!D33<=0.55),IF(AND(C73>1.05,C71<=2),ROUND(-1.8729+(1.77076*C73)-(0.63339*C73^2)+(0.01263*C73^3),2),\"\"),\"\")))","v":""},null,{"$f":"IF(C70=\"\",\"\",IF(OR(F65=\"Proceed to the Criterion 5\",F62=\"Proceed to the Criterion 5\",F59=\"Proceed to the Criterion 5\",H65=\"Proceed to the Criterion 5\",F56=\"Proceed to the Criterion 5\",H62=\"Proceed to the Criterion 5\",H59=\"Proceed to the Criterion 5\",H56=\"Proceed to the Criterion 5\"),IF(AND(Calculos!D33>0.35,Calculos!D33<=0.55),IF(E74=\"\",\"\",IF(C70<=E74,\"The oil is coherent\",\"\"))),\"\"))","v":""}]
[null,"DLLL =",{"$f":"IF('Experimental Data'!E27=\"\",\"\",IF(AND(Calculos!D33>0.35,Calculos!D33<=0.55),ROUND(Calculos!B21,2),\"\"))","v":""},{"$f":"IF(C10<=1.2,IF(C70=\"\",\"\",IF(AND(Calculos!D33>0.35,Calculos!D33<=0.55),IF(AND(C73>1.05,C71>3),ROUND(-0.55156+(1.27903*C73)-(0.35784*C73^2)-(0.02041*C73^3),2),\"\"),\"\")),\"\")","v":""},{"$f":"IF(C10<=1.2,IF(C70=\"\",\"\",IF(AND(Calculos!D33>0.35,Calculos!D33<=0.55),IF(AND(C73>1.05,C71>3),0.1,\"\"),\"\")),IF(C70=\"\",\"\",IF(AND(Calculos!D33>0.35,Calculos!D33<=0.55),IF(AND(C73>1.05,C71>2),\"\",\"\"),\"\")))","v":""},{"$f":"IF(C70=\"\",\"\",IF(OR(F65=\"Proceed to the Criterion 5\",F62=\"Proceed to the Criterion 5\",F59=\"Proceed to the Criterion 5\",H65=\"Proceed to the Criterion 5\",F56=\"Proceed to the Criterion 5\",H62=\"Proceed to the Criterion 5\",H59=\"Proceed to the Criterion 5\",H56=\"Proceed to the Criterion 5\"),IF(AND(Calculos!D33>0.35,Calculos!D33<=0.55),IF(E75=\"\",\"\",IF(C70>D75,\"The oil is not coherent\",\"\"))),\"\"))","v":""}]
[null,"DECN44p",{"$f":"IF('Experimental Data'!E27=\"\",\"\",IF(AND(Calculos!D33>0.35,Calculos!D33<=0.55),Calculos!B38,\"\"))","v":""},{"$f":"IF(C10<=1.2,IF(C70=\"\",\"\",IF(AND(Calculos!D33>0.35,Calculos!D33<=0.55),IF(AND(C73>1.05,C71<=3),ROUND(-0.38535+(2.15826*C73)-(1.29382*C73^2)+(0.19001*C73^3),2),\"\"),\"\")),\"\")","v":""},{"$f":"IF(C10<=1.2,IF(C70=\"\",\"\",IF(AND(Calculos!D33>0.35,Calculos!D33<=0.55),IF(AND(C73>1.05,C71<=3),0,\"\"),\"\")),IF(C70=\"\",\"\",IF(AND(Calculos!D33>0.35,Calculos!D33<=0.55),IF(AND(C73>1.05,C71<=2),\"\",\"\"),\"\")))","v":""},{"$f":"IF(C70=\"\",\"\",IF(OR(F65=\"Proceed to the Criterion 5\",F62=\"Proceed to the Criterion 5\",F59=\"Proceed to the Criterion 5\",H65=\"Proceed to the Criterion 5\",F56=\"Proceed to the Criterion 5\",H62=\"Proceed to the Criterion 5\",H59=\"Proceed to the Criterion 5\",H56=\"Proceed to the Criterion 5\"),IF(AND(Calculos!D33>0.35,Calculos!D33<=0.55),IF(E75=\"\",\"\",IF(AND(C70>E75,C70<=D75),\"Proceed to the Criterion 6\",\"\"))),\"\"))","v":""},null,{"$f":"IF(C70=\"\",\"\",IF(OR(F65=\"Proceed to the Criterion 5\",F62=\"Proceed to the Criterion 5\",F59=\"Proceed to the Criterion 5\",H65=\"Proceed to the Criterion 5\",F56=\"Proceed to the Criterion 5\",H62=\"Proceed to the Criterion 5\",H59=\"Proceed to the Criterion 5\",H56=\"Proceed to the Criterion 5\"),IF(AND(Calculos!D33>0.35,Calculos!D33<=0.55),IF(D70=\"\",\"\",IF(C70<=D70,\"The oil is coherent\",\"The oil is not coherent\"))),\"\"))","v":""}]
[null,null,null,{"$f":"IF(C72<=-0.05,IF(C70=\"\",\"\",IF(AND(Calculos!D33>0.35,Calculos!D33<=0.55),IF(AND(C73<=1.05,C71>6),ROUND(0.07206-(0.23545*C18)-(0.11299*C18^2)-(0.00505*C18^3),2),\"\"),\"\")),\"\")","v":""},{"$f":"IF(C72<=-0.05,IF(C70=\"\",\"\",IF(AND(Calculos!D33>0.35,Calculos!D33<=0.55),IF(AND(C73<=1.05,C71>6),-0.15,\"\"),\"\")),\"\")","v":""},{"$f":"IF(C70=\"\",\"\",IF(OR(F65=\"Proceed to the Criterion 5\",F62=\"Proceed to the Criterion 5\",F59=\"Proceed to the Criterion 5\",H65=\"Proceed to the Criterion 5\",F56=\"Proceed to the Criterion 5\",H62=\"Proceed to the Criterion 5\",H59=\"Proceed to the Criterion 5\",H56=\"Proceed to the Criterion 5\"),IF(AND(Calculos!D33>0.35,Calculos!D33<=0.55),IF(E75=\"\",\"\",IF(C70<=E75,\"The oil is coherent\",\"\"))),\"\"))","v":""},null,{"$f":"IF(C70=\"\",\"\",IF(OR(F65=\"Proceed to the Criterion 5\",F62=\"Proceed to the Criterion 5\",F59=\"Proceed to the Criterion 5\",H65=\"Proceed to the Criterion 5\",F56=\"Proceed to the Criterion 5\",H62=\"Proceed to the Criterion 5\",H59=\"Proceed to the Criterion 5\",H56=\"Proceed to the Criterion 5\"),IF(AND(Calculos!D33>0.35,Calculos!D33<=0.55),IF(D71=\"\",\"\",IF(C70<=D71,\"The oil is coherent\",\"The oil is not coherent\"))),\"\"))","v":""}]
[null,null,null,{"$f":"IF(C72<=-0.05,IF(C70=\"\",\"\",IF(AND(Calculos!D33>0.35,Calculos!D33<=0.55),IF(AND(C73<=1.05,C71<=6,C71>3),ROUND(0.32988-(0.27885*C18)-(0.26095*C18^2)-(0.03222*C18^3),2),\"\"),\"\")),IF(C70=\"\",\"\",IF(AND(Calculos!D33>0.35,Calculos!D33<=0.55),IF(AND(C73<=1.05,C71>5.5),ROUND(-0.07366-(0.52426*C18)-(0.15025*C18^2)+(0.04653*C18^3),2),\"\"),\"\")))","v":""},{"$f":"IF(C72<=-0.05,IF(C70=\"\",\"\",IF(AND(Calculos!D33>0.35,Calculos!D33<=0.55),IF(AND(C73<=1.05,C71<=6,C71>3),-0.1,\"\"),\"\")),IF(C70=\"\",\"\",IF(AND(Calculos!D33>0.35,Calculos!D33<=0.55),IF(AND(C73<=1.05,C71>5.5),0,\"\"),\"\")))","v":""},{"$f":"IF(C70=\"\",\"\",IF(OR(F65=\"Proceed to the Criterion 5\",F62=\"Proceed to the Criterion 5\",F59=\"Proceed to the Criterion 5\",H65=\"Proceed to the Criterion 5\",F56=\"Proceed to the Criterion 5\",H62=\"Proceed to the Criterion 5\",H59=\"Proceed to the Criterion 5\",H56=\"Proceed to the Criterion 5\"),IF(AND(Calculos!D33>0.35,Calculos!D33<=0.55),IF(E76=\"\",\"\",IF(C70>D76,\"The oil is not coherent\",\"\"))),\"\"))","v":""},null,{"$f":"IF(C70=\"\",\"\",IF(OR(F65=\"Proceed to the Criterion 5\",F62=\"Proceed to the Criterion 5\",F59=\"Proceed to the Criterion 5\",H65=\"Proceed to the Criterion 5\",F56=\"Proceed to the Criterion 5\",H62=\"Proceed to the Criterion 5\",H59=\"Proceed to the Criterion 5\",H56=\"Proceed to the Criterion 5\"),IF(AND(Calculos!D33>0.35,Calculos!D33<=0.55),IF(E72=\"\",\"\",IF(C70>D72,\"The oil is not coherent\",\"\"))),\"\"))","v":""}]
[null,null,null,{"$f":"IF(C72<=-0.05,IF(C70=\"\",\"\",IF(AND(Calculos!D33>0.35,Calculos!D33<=0.55),IF(AND(C73<=1.05,C71<=3,C71>1.5),ROUND(0.25184-(0.05096*C18)-(0.1111*C18^2)-(0.00131*C18^3),2),\"\"),\"\")),IF(C70=\"\",\"\",IF(AND(Calculos!D33>0.35,Calculos!D33<=0.55),IF(AND(C73<=1.05,C71<=5.5,C71>3.5),ROUND(0.23114-(0.4885*C18)-(0.26846*C18^2)+(0.04162*C18^3),2),\"\"),\"\")))","v":""},{"$f":"IF(C72<=-0.05,IF(C70=\"\",\"\",IF(AND(Calculos!D33>0.35,Calculos!D33<=0.55),IF(AND(C73<=1.05,C71<=3,C71>1.5),-0.1,\"\"),\"\")),IF(C70=\"\",\"\",IF(AND(Calculos!D33>0.35,Calculos!D33<=0.55),IF(AND(C73<=1.05,C71<=5.5,C71>3.5),-0.1,\"\"),\"\")))","v":""},{"$f":"IF(C70=\"\",\"\",IF(OR(F65=\"Proceed to the Criterion 5\",F62=\"Proceed to the Criterion 5\",F59=\"Proceed to the Criterion 5\",H65=\"Proceed to the Criterion 5\",F56=\"Proceed to the Criterion 5\",H62=\"Proceed to the Criterion 5\",H59=\"Proceed to the Criterion 5\",H56=\"Proceed to the Criterion 5\"),IF(AND(Calculos!D33>0.35,Calculos!D33<=0.55),IF(E76=\"\",\"\",IF(AND(C70>E76,C70<=D76),\"Proceed to the Criterion 6\",\"\"))),\"\"))","v":""},null,{"$f":"IF(C70=\"\",\"\",IF(OR(F65=\"Proceed to the Criterion 5\",F62=\"Proceed to the Criterion 5\",F59=\"Proceed to the Criterion 5\",H65=\"Proceed to the Criterion 5\",F56=\"Proceed to the Criterion 5\",H62=\"Proceed to the Criterion 5\",H59=\"Proceed to the Criterion 5\",H56=\"Proceed to the Criterion 5\"),IF(AND(Calculos!D33>0.35,Calculos!D33<=0.55),IF(E72=\"\",\"\",IF(AND(C70>E72,C70<=D72),\"Proceed to the Criterion 6\",\"\"))),\"\"))","v":""}]
[null,null,null,{"$f":"IF(C72<=-0.05,IF(C70=\"\",\"\",IF(AND(Calculos!D33>0.35,Calculos!D33<=0.55),IF(AND(C73<=1.05,C71<=1.5),ROUND(0.40413-(0.06212*C18)-(0.20746*C18^2)+(0.00815*C18^3),2),\"\"),\"\")),IF(C70=\"\",\"\",IF(AND(Calculos!D33>0.35,Calculos!D33<=0.55),IF(AND(C73<=1.05,C71<=3.5),ROUND(0.65571+(0.03214*C18)-(0.29286*C18^2)-(4.16334E-17*C18^3),2),\"\"),\"\")))","v":""},{"$f":"IF(C72<=-0.05,IF(C70=\"\",\"\",IF(AND(Calculos!D33>0.35,Calculos!D33<=0.55),IF(AND(C73<=1.05,C71<=1.5),-0.05,\"\"),\"\")),IF(C70=\"\",\"\",IF(AND(Calculos!D33>0.35,Calculos!D33<=0.55),IF(AND(C73<=1.05,C71<=3.5),-0.1,\"\"),\"\")))","v":""},{"$f":"IF(C70=\"\",\"\",IF(OR(F65=\"Proceed to the Criterion 5\",F62=\"Proceed to the Criterion 5\",F59=\"Proceed to the Criterion 5\",H65=\"Proceed to the Criterion 5\",F56=\"Proceed to the Criterion 5\",H62=\"Proceed to the Criterion 5\",H59=\"Proceed to the Criterion 5\",H56=\"Proceed to the Criterion 5\"),IF(AND(Calculos!D33>0.35,Calculos!D33<=0.55),IF(E76=\"\",\"\",IF(C70<=E76,\"The oil is coherent\",\"\"))),\"\"))","v":""},null,{"$f":"IF(C70=\"\",\"\",IF(OR(F65=\"Proceed to the Criterion 5\",F62=\"Proceed to the Criterion 5\",F59=\"Proceed to the Criterion 5\",H65=\"Proceed to the Criterion 5\",F56=\"Proceed to the Criterion 5\",H62=\"Proceed to the Criterion 5\",H59=\"Proceed to the Criterion 5\",H56=\"Proceed to the Criterion 5\"),IF(AND(Calculos!D33>0.35,Calculos!D33<=0.55),IF(E72=\"\",\"\",IF(C70<=E72,\"The oil is coherent\",\"\"))),\"\"))","v":""}]
[null,null,null,null,null,{"$f":"IF(C70=\"\",\"\",IF(OR(F65=\"Proceed to the Criterion 5\",F62=\"Proceed to the Criterion 5\",F59=\"Proceed to the Criterion 5\",H65=\"Proceed to the Criterion 5\",F56=\"Proceed to the Criterion 5\",H62=\"Proceed to the Criterion 5\",H59=\"Proceed to the Criterion 5\",H56=\"Proceed to the Criterion 5\"),IF(AND(Calculos!D33>0.35,Calculos!D33<=0.55),IF(E77=\"\",\"\",IF(C70>D77,\"The oil is not coherent\",\"\"))),\"\"))","v":""},null,{"$f":"IF(C70=\"\",\"\",IF(OR(F65=\"Proceed to the Criterion 5\",F62=\"Proceed to the Criterion 5\",F59=\"Proceed to the Criterion 5\",H65=\"Proceed to the Criterion 5\",F56=\"Proceed to the Criterion 5\",H62=\"Proceed to the Criterion 5\",H59=\"Proceed to the Criterion 5\",H56=\"Proceed to the Criterion 5\"),IF(AND(Calculos!D33>0.35,Calculos!D33<=0.55),IF(E73=\"\",\"\",IF(C70>D73,\"The oil is not coherent\",\"\"))),\"\"))","v":""}]
[null,null,null,null,null,{"$f":"IF(C70=\"\",\"\",IF(OR(F65=\"Proceed to the Criterion 5\",F62=\"Proceed to the Criterion 5\",F59=\"Proceed to the Criterion 5\",H65=\"Proceed to the Criterion 5\",F56=\"Proceed to the Criterion 5\",H62=\"Proceed to the Criterion 5\",H59=\"Proceed to the Criterion 5\",H56=\"Proceed to the Criterion 5\"),IF(AND(Calculos!D33>0.35,Calculos!D33<=0.55),IF(E77=\"\",\"\",IF(AND(C70>E77,C70<=D77),\"Proceed to the Criterion 6\",\"\"))),\"\"))","v":""},null,{"$f":"IF(C70=\"\",\"\",IF(OR(F65=\"Proceed to the Criterion 5\",F62=\"Proceed to the Criterion 5\",F59=\"Proceed to the Criterion 5\",H65=\"Proceed to the Criterion 5\",F56=\"Proceed to the Criterion 5\",H62=\"Proceed to the Criterion 5\",H59=\"Proceed to the Criterion 5\",H56=\"Proceed to the Criterion 5\"),IF(AND(Calculos!D33>0.35,Calculos!D33<=0.55),IF(E73=\"\",\"\",IF(AND(C70>E73,C70<=D73),\"Proceed to the Criterion 6\",\"\"))),\"\"))","v":""}]
[null,null,null,null,null,{"$f":"IF(C70=\"\",\"\",IF(OR(F65=\"Proceed to the Criterion 5\",F62=\"Proceed to the Criterion 5\",F59=\"Proceed to the Criterion 5\",H65=\"Proceed to the Criterion 5\",F56=\"Proceed to the Criterion 5\",H62=\"Proceed to the Criterion 5\",H59=\"Proceed to the Criterion 5\",H56=\"Proceed to the Criterion 5\"),IF(AND(Calculos!D33>0.35,Calculos!D33<=0.55),IF(E77=\"\",\"\",IF(C70<=E77,\"The oil is coherent\",\"\"))),\"\"))","v":""},null,{"$f":"IF(C70=\"\",\"\",IF(OR(F65=\"Proceed to the Criterion 5\",F62=\"Proceed to the Criterion 5\",F59=\"Proceed to the Criterion 5\",H65=\"Proceed to the Criterion 5\",F56=\"Proceed to the Criterion 5\",H62=\"Proceed to the Criterion 5\",H59=\"Proceed to the Criterion 5\",H56=\"Proceed to the Criterion 5\"),IF(AND(Calculos!D33>0.35,Calculos!D33<=0.55),IF(E73=\"\",\"\",IF(C70<=E73,\"The oil is coherent\",\"\"))),\"\"))","v":""}]
[]
[null,"Criterion 6 R2, DR3, DOOL "]
[null,"Parameter","Value","Limit R2",{"$f":"IF(C84=\"\",\"\",IF(OR(F79=\"Proceed to the Criterion 6\",F76=\"Proceed to the Criterion 6\",F73=\"Proceed to the Criterion 6\",F70=\"Proceed to the Criterion 6\",H79=\"Proceed to the Criterion 6\",H76=\"Proceed to the Criterion 6\",H73=\"Proceed to the Criterion 6\",H70=\"Proceed to the Criterion 6\"),IF(AND(Calculos!D33>0.35,Calculos!D33<=0.55),IF(AND(C88>1.05,C10<=1.2,C85>0.25,C86<=2),\"The oil is coherent by DR3>0,25 and DOOL<=2,0\",\"\")),\"\"))","v":""}]
[null,"R2 =",{"$f":"IF('Experimental Data'!E27=\"\",\"\",IF(AND(Calculos!D33>0.35,Calculos!D33<=0.55),Calculos!B32,\"\"))","v":""},{"$f":"IF(C84=\"\",\"\",IF(AND(Calculos!D33>0.35,Calculos!D33<=0.55),IF(AND(C88>1.05,C18>0.25,C10<=1.2,C86>2),0.2,\"\"),\"\"))","v":""},{"$f":"IF(C84=\"\",\"\",IF(OR(F79=\"Proceed to the Criterion 6\",F76=\"Proceed to the Criterion 6\",F73=\"Proceed to the Criterion 6\",F70=\"Proceed to the Criterion 6\",H79=\"Proceed to the Criterion 6\",H76=\"Proceed to the Criterion 6\",H73=\"Proceed to the Criterion 6\",H70=\"Proceed to the Criterion 6\"),IF(AND(Calculos!D33>0.35,Calculos!D33<=0.55),IF(AND(C88<=1.05,C87>-0.05,C85>0.25,C86<=2),\"The oil is coherent by DR3>0,25 and DOOL<=2,0\",\"\")),\"\"))","v":""}]
[null,"DR3 =",{"$f":"IF(AND(C88<=1.05,C87<=-0.05),\"\",IF('Experimental Data'!E27=\"\",\"\",IF(AND(Calculos!D33>0.35,Calculos!D33<=0.55),Calculos!B43,\"\")))","v":""},{"$f":"IF(C84=\"\",\"\",IF(AND(Calculos!D33>0.35,Calculos!D33<=0.55),IF(AND(C88<=1.05,C87>-0.05,C18>0.25,C86>2),0.2,\"\"),\"\"))","v":""},{"$f":"IF(C84=\"\",\"\",IF(OR(F79=\"Proceed to the Criterion 6\",F76=\"Proceed to the Criterion 6\",F73=\"Proceed to the Criterion 6\",F70=\"Proceed to the Criterion 6\",H79=\"Proceed to the Criterion 6\",H76=\"Proceed to the Criterion 6\",H73=\"Proceed to the Criterion 6\",H70=\"Proceed to the Criterion 6\"),IF(AND(Calculos!D33>0.35,Calculos!D33<=0.55),IF(AND(C88>1.05,C10<=1.2,C85<=0.25),\"The oil is coherent by DR3<=0,25\",\"\")),\"\"))","v":""},null,{"$f":"IF(C84=\"\",\"\",IF(OR(F79=\"Proceed to the Criterion 6\",F76=\"Proceed to the Criterion 6\",F73=\"Proceed to the Criterion 6\",F70=\"Proceed to the Criterion 6\",H79=\"Proceed to the Criterion 6\",H76=\"Proceed to the Criterion 6\",H73=\"Proceed to the Criterion 6\",H70=\"Proceed to the Criterion 6\"),IF(AND(Calculos!D33>0.35,Calculos!D33<=0.55),IF(D84=\"\",\"\",IF(C84>=D84,\"The oil is coherent\",\"The oil is not coherent\"))),\"\"))","v":""}]
[null,"DOOL =",{"$f":"IF('Experimental Data'!E27=\"\",\"\",IF(AND(Calculos!D33>0.35,Calculos!D33<=0.55),ROUND(Calculos!B58,2),\"\"))","v":""},{"$f":"IF(C84=\"\",\"\",IF(AND(Calculos!D33>0.35,Calculos!D33<=0.55),IF(AND(C88<=1.05,C86>1.5,C87<=-0.05),0.2,\"\"),\"\"))","v":""},{"$f":"IF(C84=\"\",\"\",IF(OR(F79=\"Proceed to the Criterion 6\",F76=\"Proceed to the Criterion 6\",F73=\"Proceed to the Criterion 6\",F70=\"Proceed to the Criterion 6\",H79=\"Proceed to the Criterion 6\",H76=\"Proceed to the Criterion 6\",H73=\"Proceed to the Criterion 6\",H70=\"Proceed to the Criterion 6\"),IF(AND(Calculos!D33>0.35,Calculos!D33<=0.55),IF(AND(C88<=1.05,C86>-0.05,C85<=0.25),\"The oil is coherent by DR3<=0,25\",\"\")),\"\"))","v":""},null,{"$f":"IF(C84=\"\",\"\",IF(OR(F79=\"Proceed to the Criterion 6\",F76=\"Proceed to the Criterion 6\",F73=\"Proceed to the Criterion 6\",F70=\"Proceed to the Criterion 6\",H79=\"Proceed to the Criterion 6\",H76=\"Proceed to the Criterion 6\",H73=\"Proceed to the Criterion 6\",H70=\"Proceed to the Criterion 6\"),IF(AND(Calculos!D33>0.35,Calculos!D33<=0.55),IF(D85=\"\",\"\",IF(C84>=D85,\"The oil is coherent\",\"The oil is not coherent\"))),\"\"))","v":""}]
[null,"DLLL =",{"$f":"IF('Experimental Data'!E27=\"\",\"\",IF(AND(Calculos!D33>0.35,Calculos!D33<=0.55),ROUND(Calculos!B21,2),\"\"))","v":""},null,{"$f":"IF(C84=\"\",\"\",IF(OR(F79=\"Proceed to the Criterion 6\",F76=\"Proceed to the Criterion 6\",F73=\"Proceed to the Criterion 6\",F70=\"Proceed to the Criterion 6\",H79=\"Proceed to the Criterion 6\",H76=\"Proceed to the Criterion 6\",H73=\"Proceed to the Criterion 6\",H70=\"Proceed to the Criterion 6\"),IF(AND(Calculos!D33>0.35,Calculos!D33<=0.55),IF(AND(C88<=1.05,C86<=-0.05,C86<=1.5),\"The oil is coherent by DOOL<=1,5\",\"\")),\"\"))","v":""},null,{"$f":"IF(C84=\"\",\"\",IF(OR(F79=\"Proceed to the Criterion 6\",F76=\"Proceed to the Criterion 6\",F73=\"Proceed to the Criterion 6\",F70=\"Proceed to the Criterion 6\",H79=\"Proceed to the Criterion 6\",H76=\"Proceed to the Criterion 6\",H73=\"Proceed to the Criterion 6\",H70=\"Proceed to the Criterion 6\"),IF(AND(Calculos!D33>0.35,Calculos!D33<=0.55),IF(D86=\"\",\"\",IF(C84>=D86,\"The oil is coherent\",\"The oil is not coherent\"))),\"\"))","v":""}]
[null,"DECN44p",{"$f":"IF('Experimental Data'!E27=\"\",\"\",IF(AND(Calculos!D33>0.35,Calculos!D33<=0.55),Calculos!B38,\"\"))","v":""}]

{"sheet":"Criteria for LLLt >0,550","index":11,"n_rows":55,"n_cols":8,"rows_kept":55,"cut":false,"hidden":false,"merged":[[1,1,1,8]]}
[null,"Criteria for LLL theor. >0,55"]
[null,"Calculation Parameters"]
[null,"Sample Code",{"$f":"IF(C6=\"\",\"\",IF('Experimental Data'!F16=\"\",\"\",'Experimental Data'!F16))","v":""},{"$f":"IF(C6=\"\",\"\",IF('Experimental Data'!G16=\"\",\"\",'Experimental Data'!G16))","v":""},{"$f":"IF(C6=\"\",\"\",IF('Experimental Data'!H16=\"\",\"\",'Experimental Data'!H16))","v":""},{"$f":"IF(C6=\"\",\"\",IF('Experimental Data'!I16=\"\",\"\",'Experimental Data'!I16))","v":""},{"$f":"IF(C6=\"\",\"\",IF('Experimental Data'!J16=\"\",\"\",'Experimental Data'!J16))","v":""},{"$f":"IF(C6=\"\",\"\",IF('Experimental Data'!K16=\"\",\"\",'Experimental Data'!K16))","v":""}]
[null,"Oil Category",{"$f":"IF(C3=\"\",\"\",IF('Experimental Data'!F17=\"\",\"\",'Experimental Data'!F17))","v":""},{"$f":"IF(C4=\"\",\"\",IF(C4=\"EV\",\"Virgin Edible Olive Oil\",IF(C4=\"L\",\"Lampant Olive Oil\",IF(C4=\"R\",\"Refined Olive Oil\"))))","v":""}]
[]
[null,"DECN42 =",{"$f":"IF('Experimental Data'!E27=\"\",\"\",IF(Calculos!D33>0.55,Calculos!M58,\"\"))","v":""},{"$f":"IF('Experimental Data'!E27=\"\",\"\",IF(Calculos!D33>0.55,IF(C4=\"EV\",0.2,IF(OR(C4=\"R\",C4=\"L\"),0.3,\"\")),\"\"))","v":""},{"$f":"IF(C6=\"\",\"\",IF(C6<=D6,\"Proceed to the Early Criterion\",\"Proceed to the Early Criterion\"))","v":""},null,{"$f":"IF(C6=\"\",\"\",IF(C6>D6,\"Warning, The DECN42 is too high\",\"\"))","v":""}]
[]
[null,"Early Criterion K1"]
[null,"Parameter","Value","Higher Limit","Lower Limit",{"$f":"IF(E11=\"\",\"\",IF(E6=\"Proceed to the Early Criterion\",IF(Calculos!D33>0.55,IF(E11=\"\",\"\",IF(C10>D11,\"The oil is not coherent\",\"\")),\"\"),\"\"))","v":""},null,{"$f":"IF(E10=\"\",\"\",IF(E6=\"Proceed to the Early Criterion\",IF(Calculos!D33>0.55,IF(E10=\"\",\"\",IF(C10>D10,\"The oil is not coherent\",\"\")),\"\"),\"\"))","v":""}]
[null,"K1",{"$f":"IF('Experimental Data'!E27=\"\",\"\",IF(Calculos!D33>0.55,Calculos!J24,\"\"))","v":""},{"$f":"IF(C10=\"\",\"\",IF(AND(Calculos!D33>0.55,C12>1.5),1.5,\"\"))","v":""},{"$f":"IF(C10=\"\",\"\",IF(AND(Calculos!D33>0.55,C12>1.5),1.05,\"\"))","v":""},{"$f":"IF(E11=\"\",\"\",IF(E6=\"Proceed to the Early Criterion\",IF(Calculos!D33>0.55,IF(E11=\"\",\"\",IF(AND(C10>E11,C10<=D11),\"Proceed to the Criterion 1\",\"\")),\"\"),\"\"))","v":""},null,{"$f":"IF(E10=\"\",\"\",IF(E6=\"Proceed to the Early Criterion\",IF(Calculos!D33>0.55,IF(E10=\"\",\"\",IF(AND(C10>E10,C10<=D10),\"Proceed to the Criterion 1\",\"\")),\"\"),\"\"))","v":""}]
[null,"DOOL =",{"$f":"IF('Experimental Data'!E27=\"\",\"\",IF(Calculos!D33>0.55,ROUND(Calculos!B58,2),\"\"))","v":""},{"$f":"IF(C10=\"\",\"\",IF(AND(Calculos!D33>0.55,C12<=1.5),1.35,\"\"))","v":""},{"$f":"IF(C10=\"\",\"\",IF(AND(Calculos!D33>0.55,C12<=1.5),0.95,\"\"))","v":""},{"$f":"IF(E11=\"\",\"\",IF(E6=\"Proceed to the Early Criterion\",IF(Calculos!D33>0.55,IF(E11=\"\",\"\",IF(C10<=E11,\"The oil is coherent\",\"\")),\"\"),\"\"))","v":""},null,{"$f":"IF(E10=\"\",\"\",IF(E6=\"Proceed to the Early Criterion\",IF(Calculos!D33>0.55,IF(E10=\"\",\"\",IF(C10<=E10,\"The oil is coherent\",\"\")),\"\"),\"\"))","v":""}]
[null,"DECN44p =",{"$f":"IF('Experimental Data'!E27=\"\",\"\",IF(Calculos!D33>0.55,Calculos!B38,\"\"))","v":""}]
[]
[null,"Criterion 1 DR3"]
[null,"Parameter","Value","Higher Limit","Lower Limit",{"$f":"IF(C16=\"\",\"\",IF(OR(F10=\"Proceed to the Criterion 1\",H10=\"Proceed to the Criterion 1\"),IF(Calculos!D33>0.55,IF(E17=\"\",\"\",IF(C16>D17,\"The oil is not coherent\",\"\"))),\"\"))","v":""}]
[null,"DR3 =",{"$f":"IF('Experimental Data'!E27=\"\",\"\",IF(Calculos!D33>0.55,Calculos!B43,\"\"))","v":""},{"$f":"IF(C17<=1.5,IF(C16=\"\",\"\",IF(AND(Calculos!D33>0.55,C18>3.5),ROUND(0.1314-(0.53309*C19)-(8.70747*C19^2)+(2.54126*C19^3),2),\"\")),IF(C16=\"\",\"\",IF(AND(Calculos!D33>0.55,C18>4),-0.2,\"\")))","v":""},{"$f":"IF(C17<=1.5,IF(C16=\"\",\"\",IF(AND(Calculos!D33>0.55,C18>3.5),ROUND(-2.6+(1*C19),2),\"\")),IF(C16=\"\",\"\",IF(AND(Calculos!D33>0.55,C18>4),-0.6,\"\")))","v":""},{"$f":"IF(C16=\"\",\"\",IF(OR(F10=\"Proceed to the Criterion 1\",H10=\"Proceed to the Criterion 1\"),IF(Calculos!D33>0.55,IF(E17=\"\",\"\",IF(AND(C16<=D17,C16>E17),\"Proceed to the Criterion 2\",\"\"))),\"\"))","v":""}]
[null,"DECN44p =",{"$f":"IF('Experimental Data'!E27=\"\",\"\",IF(Calculos!D33>0.55,Calculos!B38,\"\"))","v":""},{"$f":"IF(C17<=1.5,IF(C16=\"\",\"\",IF(AND(Calculos!D33>0.55,C18<=3.5,C18>2),ROUND(0.34344-(1.34762*C19)-(10.75258*C19^2)+(2.5717*C19^3),2),\"\")),IF(C16=\"\",\"\",IF(AND(Calculos!D33>0.55,C18<=4,C18>2.5),ROUND(-0.02819+(1.38667*C19)-(2.65629*C19^2)-(6.24658*C19^3),2),\"\")))","v":""},{"$f":"IF(C17<=1.5,IF(C16=\"\",\"\",IF(AND(Calculos!D33>0.55,C18<=3.5,C18>2),ROUND(-0.5+(1.85*C19),2),\"\")),IF(C16=\"\",\"\",IF(AND(Calculos!D33>0.55,C18<=4,C18>2.5),-0.5,\"\")))","v":""},{"$f":"IF(C16=\"\",\"\",IF(OR(F10=\"Proceed to the Criterion 1\",H10=\"Proceed to the Criterion 1\"),IF(Calculos!D33>0.55,IF(E17=\"\",\"\",IF(C16<=E17,\"The oil is coherent\",\"\"))),\"\"))","v":""}]
[null,"DOOL =",{"$f":"IF('Experimental Data'!E27=\"\",\"\",IF(Calculos!D33>0.55,ROUND(Calculos!B58,2),\"\"))","v":""},{"$f":"IF(C17<=1.5,IF(C16=\"\",\"\",IF(AND(Calculos!D33>0.55,C18<=2),ROUND(0.58907+(2.72061*C19)-(11.04862*C19^2)-(7.24927*C19^3),2),\"\")),IF(C16=\"\",\"\",IF(AND(Calculos!D33>0.55,C18<=2.5),ROUND(0.04667+(0.78889*C19)-(2.27778*C19^2)-(2.77778*C19^3),2),\"\")))","v":""},{"$f":"IF(C17<=1.5,IF(C16=\"\",\"\",IF(AND(Calculos!D33>0.55,C18<=2),-0.2,\"\")),IF(C16=\"\",\"\",IF(AND(Calculos!D33>0.55,C18<=2.5),-0.3,\"\")))","v":""},{"$f":"IF(C16=\"\",\"\",IF(OR(F10=\"Proceed to the Criterion 1\",H10=\"Proceed to the Criterion 1\"),IF(Calculos!D33>0.55,IF(E18=\"\",\"\",IF(C16>D18,\"The oil is not coherent\",\"\"))),\"\"))","v":""},null,{"$f":"IF(C16=\"\",\"\",IF(OR(F10=\"Proceed to the Criterion 1\",H10=\"Proceed to the Criterion 1\"),IF(Calculos!D33>0.55,IF(E16=\"\",\"\",IF(C16>D16,\"The oil is not coherent\",\"\"))),\"\"))","v":""}]
[null,"DLLL =",{"$f":"IF('Experimental Data'!E27=\"\",\"\",IF(Calculos!D33>0.55,ROUND(Calculos!B21,2),\"\"))","v":""},null,null,{"$f":"IF(C16=\"\",\"\",IF(OR(F10=\"Proceed to the Criterion 1\",H10=\"Proceed to the Criterion 1\"),IF(Calculos!D33>0.55,IF(E18=\"\",\"\",IF(AND(C16<=D18,C16>E18),\"Proceed to the Criterion 2\",\"\"))),\"\"))","v":""},null,{"$f":"IF(C16=\"\",\"\",IF(OR(F10=\"Proceed to the Criterion 1\",H10=\"Proceed to the Criterion 1\"),IF(Calculos!D33>0.55,IF(E16=\"\",\"\",IF(AND(C16<=D16,C16>E16),\"Proceed to the Criterion 2\",\"\"))),\"\"))","v":""}]
[null,null,null,null,null,{"$f":"IF(C16=\"\",\"\",IF(OR(F10=\"Proceed to the Criterion 1\",H10=\"Proceed to the Criterion 1\"),IF(Calculos!D33>0.55,IF(E18=\"\",\"\",IF(C16<=E18,\"The oil is coherent\",\"\"))),\"\"))","v":""},null,{"$f":"IF(C16=\"\",\"\",IF(OR(F10=\"Proceed to the Criterion 1\",H10=\"Proceed to the Criterion 1\"),IF(Calculos!D33>0.55,IF(E16=\"\",\"\",IF(C16<=E16,\"The oil is coherent\",\"\"))),\"\"))","v":""}]
[]
[null,"Criterion 2 L3"]
[null,"Parameter","Value","Higher Limit","Lower Limit",{"$f":"IF(C24=\"\",\"\",IF(OR(F19=\"Proceed to the Criterion 2\",F16=\"Proceed to the Criterion 2\",H19=\"Proceed to the Criterion 2\"),IF(Calculos!D33>0.55,IF(E25=\"\",\"\",IF(C24>D25,\"The oil is not coherent\",\"\"))),\"\"))","v":""}]
[null,"L3 =",{"$f":"IF('Experimental Data'!E27=\"\",\"\",IF(Calculos!D33>0.55,Calculos!J19,\"\"))","v":""},{"$f":"IF(C25<=1.5,IF(C24=\"\",\"\",IF(AND(Calculos!D33>0.55,C26>3.5),ROUND(0.05914-(0.29762*C19)-(1.7381*C19^2)-(0.000000000000001998*C19^3),2),\"\")),IF(C24=\"\",\"\",IF(AND(Calculos!D33>0.55,C26>4),-0.05,\"\")))","v":""},{"$f":"IF(C25<=1.5,IF(C24=\"\",\"\",IF(AND(Calculos!D33>0.55,C26>3.5),-0.3,\"\")),IF(C24=\"\",\"\",IF(AND(Calculos!D33>0.55,C26>4),-0.15,\"\")))","v":""},{"$f":"IF(C24=\"\",\"\",IF(OR(F19=\"Proceed to the Criterion 2\",F16=\"Proceed to the Criterion 2\",H19=\"Proceed to the Criterion 2\"),IF(Calculos!D33>0.55,IF(E25=\"\",\"\",IF(AND(C24<=D25,C24>E25),\"Proceed to the Criterion 3\",\"\"))),\"\"))","v":""}]
[null,"DECN44p =",{"$f":"IF('Experimental Data'!E27=\"\",\"\",IF(Calculos!D33>0.55,Calculos!B38,\"\"))","v":""},{"$f":"IF(C25<=1.5,IF(C24=\"\",\"\",IF(AND(Calculos!D33>0.55,C26<=3.5,C26>2),ROUND(0.20479+(0.0853*C19)-(1.90228*C19^2)+(0.24958*C19^3),2),\"\")),IF(C24=\"\",\"\",IF(AND(Calculos!D33>0.55,C26<=4,C26>2.5),0.15,\"\")))","v":""},{"$f":"IF(C25<=1.5,IF(C24=\"\",\"\",IF(AND(Calculos!D33>0.55,C26<=3.5,C26>2),-0.2,\"\")),IF(C24=\"\",\"\",IF(AND(Calculos!D33>0.55,C26<=4,C26>2.5),-0.1,\"\")))","v":""},{"$f":"IF(C24=\"\",\"\",IF(OR(F19=\"Proceed to the Criterion 2\",F16=\"Proceed to the Criterion 2\",H19=\"Proceed to the Criterion 2\"),IF(Calculos!D33>0.55,IF(E25=\"\",\"\",IF(C24<=E25,\"The oil is coherent\",\"\"))),\"\"))","v":""}]
[null,"DOOL =",{"$f":"IF('Experimental Data'!E27=\"\",\"\",IF(Calculos!D33>0.55,ROUND(Calculos!B58,2),\"\"))","v":""},{"$f":"IF(C25<=1.5,IF(C24=\"\",\"\",IF(AND(Calculos!D33>0.55,C26<=2),ROUND(0.21492+(0.17967*C19)-(1.62444*C19^2)+(0.51755*C19^3),2),\"\")),IF(C24=\"\",\"\",IF(AND(Calculos!D33>0.55,C26<=2.5),0.15,\"\")))","v":""},{"$f":"IF(C25<=1.5,IF(C24=\"\",\"\",IF(AND(Calculos!D33>0.55,C26<=2),0,\"\")),IF(C24=\"\",\"\",IF(AND(Calculos!D33>0.55,C26<=2.5),-0.05,\"\")))","v":""},{"$f":"IF(C24=\"\",\"\",IF(OR(F19=\"Proceed to the Criterion 2\",F16=\"Proceed to the Criterion 2\",H19=\"Proceed to the Criterion 2\"),IF(Calculos!D33>0.55,IF(E26=\"\",\"\",IF(C24>D26,\"The oil is not coherent\",\"\"))),\"\"))","v":""},null,{"$f":"IF(C24=\"\",\"\",IF(OR(F19=\"Proceed to the Criterion 2\",F16=\"Proceed to the Criterion 2\",H19=\"Proceed to the Criterion 2\"),IF(Calculos!D33>0.55,IF(E24=\"\",\"\",IF(C24>D24,\"The oil is not coherent\",\"\"))),\"\"))","v":""}]
[null,"DLLL =",{"$f":"IF('Experimental Data'!E27=\"\",\"\",IF(Calculos!D33>0.55,ROUND(Calculos!B21,2),\"\"))","v":""},null,null,{"$f":"IF(C24=\"\",\"\",IF(OR(F19=\"Proceed to the Criterion 2\",F16=\"Proceed to the Criterion 2\",H19=\"Proceed to the Criterion 2\"),IF(Calculos!D33>0.55,IF(E26=\"\",\"\",IF(AND(C24<=D26,C24>E26),\"Proceed to the Criterion 3\",\"\"))),\"\"))","v":""},null,{"$f":"IF(C24=\"\",\"\",IF(OR(F19=\"Proceed to the Criterion 2\",F16=\"Proceed to the Criterion 2\",H19=\"Proceed to the Criterion 2\"),IF(Calculos!D33>0.55,IF(E24=\"\",\"\",IF(AND(C24<=D24,C24>E24),\"Proceed to the Criterion 3\",\"\"))),\"\"))","v":""}]
[null,null,null,null,null,{"$f":"IF(C24=\"\",\"\",IF(OR(F19=\"Proceed to the Criterion 2\",F16=\"Proceed to the Criterion 2\",H19=\"Proceed to the Criterion 2\"),IF(Calculos!D33>0.55,IF(E26=\"\",\"\",IF(C24<=E26,\"The oil is coherent\",\"\"))),\"\"))","v":""},null,{"$f":"IF(C24=\"\",\"\",IF(OR(F19=\"Proceed to the Criterion 2\",F16=\"Proceed to the Criterion 2\",H19=\"Proceed to the Criterion 2\"),IF(Calculos!D33>0.55,IF(E24=\"\",\"\",IF(C24<=E24,\"The oil is coherent\",\"\"))),\"\"))","v":""}]
[null,"Criterion 3 R1 exp."]
[null,"Parameter","Value","Higher Limit","Lower Limit",{"$f":"IF(C31=\"\",\"\",IF(OR(F27=\"Proceed to the Criterion 3\",F24=\"Proceed to the Criterion 3\",H27=\"Proceed to the Criterion 3\"),IF(Calculos!D33>0.55,IF(E32=\"\",\"\",IF(C31>D32,\"The oil is not coherent\",\"\"))),\"\"))","v":""}]
[null,"R1 exp. =",{"$f":"IF('Experimental Data'!E27=\"\",\"\",IF(Calculos!D33>0.55,Calculos!B19,\"\"))","v":""},{"$f":"IF(C32<=1.5,IF(C31=\"\",\"\",IF(AND(Calculos!D33>0.55,C33>3.5),ROUND(1.01-(0.1*C19),2),\"\")),IF(C31=\"\",\"\",IF(AND(Calculos!D33>0.55,C33>4),0.82,\"\")))","v":""},{"$f":"IF(C32<=1.5,IF(C31=\"\",\"\",IF(AND(Calculos!D33>0.55,C33>3.5),0.8,\"\")),IF(C31=\"\",\"\",IF(AND(Calculos!D33>0.55,C33>4),0.75,\"\")))","v":""},{"$f":"IF(C31=\"\",\"\",IF(OR(F27=\"Proceed to the Criterion 3\",F24=\"Proceed to the Criterion 3\",H27=\"Proceed to the Criterion 3\"),IF(Calculos!D33>0.55,IF(E32=\"\",\"\",IF(AND(C31<=D32,C31>E32),\"Proceed to the Criterion 4\",\"\"))),\"\"))","v":""}]
[null,"DECN44p =",{"$f":"IF('Experimental Data'!E27=\"\",\"\",IF(Calculos!D33>0.55,Calculos!B38,\"\"))","v":""},{"$f":"IF(C32<=1.5,IF(C31=\"\",\"\",IF(AND(Calculos!D33>0.55,C33<=3.5,C33>2),ROUND(1.04417-(0.29572*C19)-(3.39376*C19^2)+(1.80174*C19^3),2),\"\")),IF(C31=\"\",\"\",IF(AND(Calculos!D33>0.55,C33<=4,C33>2.5),ROUND(0.85054-(0.05282*C19)-(0.78346*C19^2)+(0.09538*C19^3),2),\"\")))","v":""},{"$f":"IF(C32<=1.5,IF(C31=\"\",\"\",IF(AND(Calculos!D33>0.55,C33<=3.5,C33>2),0.8,\"\")),IF(C31=\"\",\"\",IF(AND(Calculos!D33>0.55,C33<=4,C33>2.5),0.7,\"\")))","v":""},{"$f":"IF(C31=\"\",\"\",IF(OR(F27=\"Proceed to the Criterion 3\",F24=\"Proceed to the Criterion 3\",H27=\"Proceed to the Criterion 3\"),IF(Calculos!D33>0.55,IF(E32=\"\",\"\",IF(C31<=E32,\"The oil is coherent\",\"\"))),\"\"))","v":""}]
[null,"DOOL =",{"$f":"IF('Experimental Data'!E27=\"\",\"\",IF(Calculos!D33>0.55,ROUND(Calculos!B58,2),\"\"))","v":""},{"$f":"IF(C32<=1.5,IF(C31=\"\",\"\",IF(AND(Calculos!D33>0.55,C33<=2),ROUND(0.93488+(0.36091*C19)-(1.72024*C19^2)+(0.27778*C19^3),2),\"\")),IF(C31=\"\",\"\",IF(AND(Calculos!D33>0.55,C33<=2.5),0.8,\"\")))","v":""},{"$f":"IF(C32<=1.5,IF(C31=\"\",\"\",IF(AND(Calculos!D33>0.55,C33<=2),0.75,\"\")),IF(C31=\"\",\"\",IF(AND(Calculos!D33>0.55,C33<=2.5),0.7,\"\")))","v":""},{"$f":"IF(C31=\"\",\"\",IF(OR(F27=\"Proceed to the Criterion 3\",F24=\"Proceed to the Criterion 3\",H27=\"Proceed to the Criterion 3\"),IF(Calculos!D33>0.55,IF(E33=\"\",\"\",IF(C31>D33,\"The oil is not coherent\",\"\"))),\"\"))","v":""},null,{"$f":"IF(C31=\"\",\"\",IF(OR(F27=\"Proceed to the Criterion 3\",F24=\"Proceed to the Criterion 3\",H27=\"Proceed to the Criterion 3\"),IF(Calculos!D33>0.55,IF(E31=\"\",\"\",IF(C31>D31,\"The oil is not coherent\",\"\"))),\"\"))","v":""}]
[null,"DLLL =",{"$f":"IF('Experimental Data'!E27=\"\",\"\",IF(Calculos!D33>0.55,ROUND(Calculos!B21,2),\"\"))","v":""},null,null,{"$f":"IF(C31=\"\",\"\",IF(OR(F27=\"Proceed to the Criterion 3\",F24=\"Proceed to the Criterion 3\",H27=\"Proceed to the Criterion 3\"),IF(Calculos!D33>0.55,IF(E33=\"\",\"\",IF(AND(C31<=D33,C31>E33),\"Proceed to the Criterion 4\",\"\"))),\"\"))","v":""},null,{"$f":"IF(C31=\"\",\"\",IF(OR(F27=\"Proceed to the Criterion 3\",F24=\"Proceed to the Criterion 3\",H27=\"Proceed to the Criterion 3\"),IF(Calculos!D33>0.55,IF(E31=\"\",\"\",IF(AND(C31<=D31,C31>E31),\"Proceed to the Criterion 4\",\"\"))),\"\"))","v":""}]
[null,null,null,null,null,{"$f":"IF(C31=\"\",\"\",IF(OR(F27=\"Proceed to the Criterion 3\",F24=\"Proceed to the Criterion 3\",H27=\"Proceed to the Criterion 3\"),IF(Calculos!D33>0.55,IF(E33=\"\",\"\",IF(C31<=E33,\"The oil is coherent\",\"\"))),\"\"))","v":""},null,{"$f":"IF(C31=\"\",\"\",IF(OR(F27=\"Proceed to the Criterion 3\",F24=\"Proceed to the Criterion 3\",H27=\"Proceed to the Criterion 3\"),IF(Calculos!D33>0.55,IF(E31=\"\",\"\",IF(C31<=E31,\"The oil is coherent\",\"\"))),\"\"))","v":""}]
[null,"Criterion 4 DR1"]
[null,"Parameter","Value","Higher Limit","Lower Limit",{"$f":"IF(C38=\"\",\"\",IF(OR(F34=\"Proceed to the Criterion 4\",F31=\"Proceed to the Criterion 4\",H34=\"Proceed to the Criterion 4\"),IF(Calculos!D33>0.55,IF(E39=\"\",\"\",IF(C38>D39,\"The oil is not coherent\",\"\")),\"\"),\"\"))","v":""}]
[null,"DR1 =",{"$f":"IF('Experimental Data'!E27=\"\",\"\",IF(Calculos!D33>0.55,Calculos!B20,\"\"))","v":""},{"$f":"IF(C39<=1.5,IF(C38=\"\",\"\",IF(AND(Calculos!D33>0.55,C40>3.5),ROUND(-0.0625-(0.32765*C41)-(1.16268*C41^2)+(0.54736*C41^3),2),\"\")),IF(C38=\"\",\"\",IF(AND(Calculos!D33>0.55,C40>4),-0.05,\"\")))","v":""},{"$f":"IF(C39<=1.5,IF(C38=\"\",\"\",IF(AND(Calculos!D33>0.55,C40>3.5),-0.3,\"\")),IF(C38=\"\",\"\",IF(AND(Calculos!D33>0.55,C40>4),-0.15,\"\")))","v":""},{"$f":"IF(C38=\"\",\"\",IF(OR(F34=\"Proceed to the Criterion 4\",F31=\"Proceed to the Criterion 4\",H34=\"Proceed to the Criterion 4\"),IF(Calculos!D33>0.55,IF(E39=\"\",\"\",IF(AND(C38>E39,C38<=D39),\"Proceed to the Criterion 5\",\"\"))),\"\"))","v":""}]
[null,"DECN44p =",{"$f":"IF('Experimental Data'!E27=\"\",\"\",IF(Calculos!D33>0.55,Calculos!B38,\"\"))","v":""},{"$f":"IF(C39<=1.5,IF(C38=\"\",\"\",IF(AND(Calculos!D33>0.55,C40<=3.5,C40>2),ROUND(0.15606+(0.06827*C41)-(2.54924*C41^2)+(0.33249*C41^3),2),\"\")),IF(C38=\"\",\"\",IF(AND(Calculos!D33>0.55,C40<=4,C40>2.5),ROUND(0.14871+(0.60367*C41)-(1.60169*C41^2)-(0.22436*C41^3),2),\"\")))","v":""},{"$f":"IF(C39<=1.5,IF(C38=\"\",\"\",IF(AND(Calculos!D33>0.55,C40<=3.5,C40>2),0,\"\")),IF(C38=\"\",\"\",IF(AND(Calculos!D33>0.55,C40<=4,C40>2.5),-0.1,\"\")))","v":""},{"$f":"IF(C38=\"\",\"\",IF(OR(F34=\"Proceed to the Criterion 4\",F31=\"Proceed to the Criterion 4\",H34=\"Proceed to the Criterion 4\"),IF(Calculos!D33>0.55,IF(E39=\"\",\"\",IF(C38<=E39,\"The oil is coherent\",\"\")),\"\"),\"\"))","v":""}]
[null,"DOOL =",{"$f":"IF('Experimental Data'!E27=\"\",\"\",IF(Calculos!D33>0.55,ROUND(Calculos!B58,2),\"\"))","v":""},{"$f":"IF(C39<=1.5,IF(C38=\"\",\"\",IF(AND(Calculos!D33>0.55,C40<=2),ROUND(0.18561+(0.38771*C41)-(1.82851*C41^2)+(0.50732*C41^3),2),\"\")),IF(C38=\"\",\"\",IF(AND(Calculos!D33>0.55,C40<=2.5),ROUND(0.09489+(0.81403*C41)-(2.40693*C41^2)+(0.17677*C41^3),2),\"\")))","v":""},{"$f":"IF(C39<=1.5,IF(C38=\"\",\"\",IF(AND(Calculos!D33>0.55,C40<=2),0,\"\")),IF(C38=\"\",\"\",IF(AND(Calculos!D33>0.55,C40<=2.5),0,\"\")))","v":""},{"$f":"IF(C38=\"\",\"\",IF(OR(F34=\"Proceed to the Criterion 4\",F31=\"Proceed to the Criterion 4\",H34=\"Proceed to the Criterion 4\"),IF(Calculos!D33>0.55,IF(E40=\"\",\"\",IF(C38>D40,\"The oil is not coherent\",\"\")),\"\"),\"\"))","v":""},null,{"$f":"IF(C38=\"\",\"\",IF(OR(F34=\"Proceed to the Criterion 4\",F31=\"Proceed to the Criterion 4\",H34=\"Proceed to the Criterion 4\"),IF(Calculos!D33>0.55,IF(E38=\"\",\"\",IF(C38>D38,\"The oil is not coherent\",\"\")),\"\"),\"\"))","v":""}]
[null,"DLLL =",{"$f":"IF('Experimental Data'!E27=\"\",\"\",IF(Calculos!D33>0.55,ROUND(Calculos!B21,2),\"\"))","v":""},null,null,{"$f":"IF(C38=\"\",\"\",IF(OR(F34=\"Proceed to the Criterion 4\",F31=\"Proceed to the Criterion 4\",H34=\"Proceed to the Criterion 4\"),IF(Calculos!D33>0.55,IF(E40=\"\",\"\",IF(AND(C38>E40,C38<=D40),\"Proceed to the Criterion 5\",\"\"))),\"\"))","v":""},null,{"$f":"IF(C38=\"\",\"\",IF(OR(F34=\"Proceed to the Criterion 4\",F31=\"Proceed to the Criterion 4\",H34=\"Proceed to the Criterion 4\"),IF(Calculos!D33>0.55,IF(E38=\"\",\"\",IF(AND(C38>E38,C38<=D38),\"Proceed to the Criterion 5\",\"\"))),\"\"))","v":""}]
[null,null,null,null,null,{"$f":"IF(C38=\"\",\"\",IF(OR(F34=\"Proceed to the Criterion 4\",F31=\"Proceed to the Criterion 4\",H34=\"Proceed to the Criterion 4\"),IF(Calculos!D33>0.55,IF(E40=\"\",\"\",IF(C38<=E40,\"The oil is coherent\",\"\")),\"\"),\"\"))","v":""},null,{"$f":"IF(C38=\"\",\"\",IF(OR(F34=\"Proceed to the Criterion 4\",F31=\"Proceed to the Criterion 4\",H34=\"Proceed to the Criterion 4\"),IF(Calculos!D33>0.55,IF(E38=\"\",\"\",IF(C38<=E38,\"The oil is coherent\",\"\")),\"\"),\"\"))","v":""}]
[]
[null,"Criterion 5 L4"]
[null,"Parameter","Value","Higher Limit","Lower Limit",{"$f":"IF(C46=\"\",\"\",IF(OR(F41=\"Proceed to the Criterion 5\",F38=\"Proceed to the Criterion 5\",H41=\"Proceed to the Criterion 5\"),IF(Calculos!D33>0.55,IF(E47=\"\",\"\",IF(C46>D47,\"The oil is not coherent\",\"\")),\"\"),\"\"))","v":""}]
[null,"L4 =",{"$f":"IF('Experimental Data'!E27=\"\",\"\",IF(Calculos!D33>0.55,Calculos!J22,\"\"))","v":""},{"$f":"IF(C47<=1.5,IF(C46=\"\",\"\",IF(AND(Calculos!D33>0.55,C48>3.5),ROUND(-0.02966-(0.33766*C49)-(0.80891*C49^2)+(1.18814*C49^3),2),\"\")),IF(C46=\"\",\"\",IF(AND(Calculos!D33>0.55,C48>4),-0.05,\"\")))","v":""},{"$f":"IF(C47<=1.5,IF(C46=\"\",\"\",IF(AND(Calculos!D33>0.55,C48>3.5),-0.25,\"\")),IF(C46=\"\",\"\",IF(AND(Calculos!D33>0.55,C48>4),-0.15,\"\")))","v":""},{"$f":"IF(C46=\"\",\"\",IF(OR(F41=\"Proceed to the Criterion 5\",F38=\"Proceed to the Criterion 5\",H41=\"Proceed to the Criterion 5\"),IF(Calculos!D33>0.55,IF(E47=\"\",\"\",IF(AND(C46>E47,C46<=D47),\"Proceed to the Criterion 6\",\"\"))),\"\"))","v":""}]
[null,"DECN44p =",{"$f":"IF('Experimental Data'!E27=\"\",\"\",IF(Calculos!D33>0.55,Calculos!B38,\"\"))","v":""},{"$f":"IF(C47<=1.5,IF(C46=\"\",\"\",IF(AND(Calculos!D33>0.55,C48<=3.5,C48>2),ROUND(0.2443+(0.06633*C49)-(2.81865*C49^2)+(0.32445*C49^3),2),\"\")),IF(C46=\"\",\"\",IF(AND(Calculos!D33>0.55,C48<=4,C48>2.5),ROUND(0.11079+(0.68455*C49)-(1.39947*C49^2)-(0.87153*C49^3),2),\"\")))","v":""},{"$f":"IF(C47<=1.5,IF(C46=\"\",\"\",IF(AND(Calculos!D33>0.55,C48<=3.5,C48>2),0.1,\"\")),IF(C46=\"\",\"\",IF(AND(Calculos!D33>0.55,C48<=4,C48>2.5),-0.1,\"\")))","v":""},{"$f":"IF(C46=\"\",\"\",IF(OR(F41=\"Proceed to the Criterion 5\",F38=\"Proceed to the Criterion 5\",H41=\"Proceed to the Criterion 5\"),IF(Calculos!D33>0.55,IF(E47=\"\",\"\",IF(C46<=E47,\"The oil is coherent\",\"\")),\"\"),\"\"))","v":""}]
[null,"DOOL =",{"$f":"IF('Experimental Data'!E27=\"\",\"\",IF(Calculos!D33>0.55,ROUND(Calculos!B58,2),\"\"))","v":""},{"$f":"IF(C47<=1.5,IF(C46=\"\",\"\",IF(AND(Calculos!D33>0.55,C48<=2),ROUND(0.26156+(0.40428*C49)-(1.85489*C49^2)+(0.17345*C49^3),2),\"\")),IF(C46=\"\",\"\",IF(AND(Calculos!D33>0.55,C48<=2.5),ROUND(0.07601+(0.97934*C49)-(2.13252*C49^2)-(0.3113*C49^3),2),\"\")))","v":""},{"$f":"IF(C47<=1.5,IF(C46=\"\",\"\",IF(AND(Calculos!D33>0.55,C48<=2),-0.05,\"\")),IF(C46=\"\",\"\",IF(AND(Calculos!D33>0.55,C48<=2.5),-0.05,\"\")))","v":""},{"$f":"IF(C46=\"\",\"\",IF(OR(F41=\"Proceed to the Criterion 5\",F38=\"Proceed to the Criterion 5\",H41=\"Proceed to the Criterion 5\"),IF(Calculos!D33>0.55,IF(E48=\"\",\"\",IF(C46>D48,\"The oil is not coherent\",\"\")),\"\"),\"\"))","v":""},null,{"$f":"IF(C46=\"\",\"\",IF(OR(F41=\"Proceed to the Criterion 5\",F38=\"Proceed to the Criterion 5\",H41=\"Proceed to the Criterion 5\"),IF(Calculos!D33>0.55,IF(E46=\"\",\"\",IF(C46>D46,\"The oil is not coherent\",\"\")),\"\"),\"\"))","v":""}]
[null,"DLLL =",{"$f":"IF('Experimental Data'!E27=\"\",\"\",IF(Calculos!D33>0.55,ROUND(Calculos!B21,2),\"\"))","v":""},null,null,{"$f":"IF(C46=\"\",\"\",IF(OR(F41=\"Proceed to the Criterion 5\",F38=\"Proceed to the Criterion 5\",H41=\"Proceed to the Criterion 5\"),IF(Calculos!D33>0.55,IF(E48=\"\",\"\",IF(AND(C46>E48,C46<=D48),\"Proceed to the Criterion 6\",\"\"))),\"\"))","v":""},null,{"$f":"IF(C46=\"\",\"\",IF(OR(F41=\"Proceed to the Criterion 5\",F38=\"Proceed to the Criterion 5\",H41=\"Proceed to the Criterion 5\"),IF(Calculos!D33>0.55,IF(E46=\"\",\"\",IF(AND(C46>E46,C46<=D46),\"Proceed to the Criterion 6\",\"\"))),\"\"))","v":""}]
[null,null,null,null,null,{"$f":"IF(C46=\"\",\"\",IF(OR(F41=\"Proceed to the Criterion 5\",F38=\"Proceed to the Criterion 5\",H41=\"Proceed to the Criterion 5\"),IF(Calculos!D33>0.55,IF(E48=\"\",\"\",IF(C46<=E48,\"The oil is coherent\",\"\")),\"\"),\"\"))","v":""},null,{"$f":"IF(C46=\"\",\"\",IF(OR(F41=\"Proceed to the Criterion 5\",F38=\"Proceed to the Criterion 5\",H41=\"Proceed to the Criterion 5\"),IF(Calculos!D33>0.55,IF(E46=\"\",\"\",IF(C46<=E46,\"The oil is coherent\",\"\")),\"\"),\"\"))","v":""}]
[]
[]
[null,"Criterion 6 R2 "]
[null,"Parameter","Value","Limit"]
[null,"R2 =",{"$f":"IF('Experimental Data'!E27=\"\",\"\",IF(Calculos!D33>0.55,Calculos!B32,\"\"))","v":""},{"$f":"IF(C55=\"\",\"\",IF(Calculos!D33>0.55,0.25,\"\"))","v":""},{"$f":"IF(C55=\"\",\"\",IF(OR(F46=\"Proceed to the Criterion 6\",F49=\"Proceed to the Criterion 6\",H49=\"Proceed to the Criterion 6\"),IF(Calculos!D33>0.55,IF(D55=\"\",\"\",IF(C55>=D55,\"The oil is coherent\",\"The oil is not coherent\"))),\"\"))","v":""}]

{"sheet":"Calculos","index":12,"n_rows":189,"n_cols":15,"rows_kept":189,"cut":false,"hidden":true,"merged":[]}
["CALCULATION OF THEORETICAL TRIGLYCERIDE COMPOSITION (1,3-R-2-R)"]
["Sample Code:",{"$f":"'Experimental Data'!F16","v":0}]
["Fill in the yellow fields"]
["MW",256.39999999999998,284.5,254.4,282.5,280.39999999999998,278.39999999999998,312.5,310.5,340.6,"MW"]
["Area % (GLC)","Palmitic","Stearic","Palmitoleic","Oleic","Linoleic","Linolenic","Arachidic","Gondoic","Behenic","Sum"]
["FA-Comp. Corr.",{"$f":"(100*B7)/K7","v":{"$error":"#DIV/0!"}},{"$f":"(100*C7)/K7","v":{"$error":"#DIV/0!"}},{"$f":"(100*D7)/K7","v":{"$error":"#DIV/0!"}},{"$f":"(100*E7)/K7","v":{"$error":"#DIV/0!"}},{"$f":"(100*F7)/K7","v":{"$error":"#DIV/0!"}},{"$f":"(100*G7)/K7","v":{"$error":"#DIV/0!"}},{"$f":"(100*H7)/K7","v":{"$error":"#DIV/0!"}},{"$f":"(100*I7)/K7","v":{"$error":"#DIV/0!"}},{"$f":"(100*J7)/K7","v":{"$error":"#DIV/0!"}},{"$f":"ROUND(SUM(B6:I6),0)","v":{"$error":"#DIV/0!"}}]
["Input FA-Comp.",{"$f":"'Experimental Data'!F21","v":0},{"$f":"'Experimental Data'!G21","v":0},{"$f":"'Experimental Data'!H21","v":0},{"$f":"'Experimental Data'!I21","v":0},{"$f":"'Experimental Data'!J21","v":0},{"$f":"'Experimental Data'!K21","v":0},{"$f":"'Experimental Data'!L21","v":0},{"$f":"'Experimental Data'!M21","v":0},0,{"$f":"SUM($B$7:$J$7)","v":0}]
[{"$f":"IF(OR(K7<=98,K7>100.01),\"Warning! The sum of Fatty Acids is out of range\",\"\")","v":"Warning! The sum of Fatty Acids is out of range"}]
["Mol sn-1,2,3-FA:",{"$f":"($B$6/$B$4)","v":{"$error":"#DIV/0!"}},{"$f":"($C$6/$C$4)","v":{"$error":"#DIV/0!"}},{"$f":"($D$6/$D$4)","v":{"$error":"#DIV/0!"}},{"$f":"($E$6/$E$4)","v":{"$error":"#DIV/0!"}},{"$f":"($F$6/$F$4)","v":{"$error":"#DIV/0!"}},{"$f":"($G$6/$G$4)","v":{"$error":"#DIV/0!"}},{"$f":"($H$6/$H$4)","v":{"$error":"#DIV/0!"}},{"$f":"($I$6/$I$4)","v":{"$error":"#DIV/0!"}},{"$f":"($J$6/$J$4)","v":{"$error":"#DIV/0!"}},{"$f":"SUM($B$9:$J$9)","v":{"$error":"#DIV/0!"}}]
["sn-1,2,3-FA:",{"$f":"($B$9/$K$9*100)","v":{"$error":"#DIV/0!"}},{"$f":"($C$9/$K$9*100)","v":{"$error":"#DIV/0!"}},{"$f":"($D$9/$K$9*100)","v":{"$error":"#DIV/0!"}},{"$f":"($E$9/$K$9*100)","v":{"$error":"#DIV/0!"}},{"$f":"($F$9/$K$9*100)","v":{"$error":"#DIV/0!"}},{"$f":"($G$9/$K$9*100)","v":{"$error":"#DIV/0!"}},{"$f":"($H$9/$K$9*100)","v":{"$error":"#DIV/0!"}},{"$f":"($I$9/$K$9*100)","v":{"$error":"#DIV/0!"}},{"$f":"($J$9/$K$9*100)","v":{"$error":"#DIV/0!"}},{"$f":"(SUM($B$10:$J$10))-($B$10+$C$10+$H$10)","v":{"$error":"#DIV/0!"}}]
["sn-2-FA:",{"$f":"$B$10*0.06","v":{"$error":"#DIV/0!"}},{"$f":"$C$10*0.06","v":{"$error":"#DIV/0!"}},{"$f":"$D$10/$K$10*(100-$B$11-$C$11-$H$11-$J$11)","v":{"$error":"#DIV/0!"}},{"$f":"$E$10/$K$10*(100-$B$11-$C$11-$H$11-$J$11)","v":{"$error":"#DIV/0!"}},{"$f":"$F$10/$K$10*(100-$B$11-$C$11-$H$11-$J$11)","v":{"$error":"#DIV/0!"}},{"$f":"$G$10/$K$10*(100-$B$11-$C$11-$H$11-$J$11)","v":{"$error":"#DIV/0!"}},{"$f":"($H$10*0.06)","v":{"$error":"#DIV/0!"}},{"$f":"$I$10/$K$10*(100-$B$11-$C$11-$H$11-$J$11)","v":{"$error":"#DIV/0!"}},{"$f":"($J$10*0.06)","v":{"$error":"#DIV/0!"}},{"$f":"SUM($B$11:$J$11)","v":{"$error":"#DIV/0!"}}]
["sn-1,3-FA:",{"$f":"($B$10-$B$11)/2+$B$10","v":{"$error":"#DIV/0!"}},{"$f":"($C$10-$C$11)/2+$C$10","v":{"$error":"#DIV/0!"}},{"$f":"($D$10-$D$11)/2+$D$10","v":{"$error":"#DIV/0!"}},{"$f":"($E$10-$E$11)/2+$E$10","v":{"$error":"#DIV/0!"}},{"$f":"($F$10-$F$11)/2+$F$10","v":{"$error":"#DIV/0!"}},{"$f":"($G$10-$G$11)/2+$G$10","v":{"$error":"#DIV/0!"}},{"$f":"($H$10-$H$11)/2+$H$10","v":{"$error":"#DIV/0!"}},{"$f":"($I$10-$I$11)/2+$I$10","v":{"$error":"#DIV/0!"}},{"$f":"($J$10-$J$11)/2+$J$10","v":{"$error":"#DIV/0!"}},{"$f":"SUM($B$12:$J$12)","v":{"$error":"#DIV/0!"}}]
[]
[]
["ECN42teor (10 TAG) =",{"$f":"D33+D35+D37","v":{"$error":"#DIV/0!"}},"            ","TRIGLICERIDES OF ECN 38"]
["ECN42exp =",{"$f":"ROUND(SUM('Experimental Data'!E27:G27),2)","v":0},null,"LLnLn",null,null,null,null,"[a]=",{"$f":"B21-(B25-D35)","v":{"$error":"#DIV/0!"}}]
["DECN42 =",{"$f":"ABS(ROUND(B16-B15,3))","v":{"$error":"#DIV/0!"}},null,{"$f":"ROUND($H107, 3)","v":{"$error":"#DIV/0!"}},null,null,null,null,"[b]=",{"$f":"B37-B50","v":{"$error":"#DIV/0!"}}]
["R1teor (LLL/OLLn) =",{"$f":"ROUND(D33/D35,2)","v":{"$error":"#DIV/0!"}},null,"PoLnLn"]
["R1exp (LLL/OLLn) =",{"$f":"ROUND('Experimental Data'!E38/'Experimental Data'!F38,2)","v":{"$error":"#DIV/0!"}},null,{"$f":"ROUND($H106, 3)","v":{"$error":"#DIV/0!"}},null,null,null,null,"L3",{"$f":"ROUND(J16/D35,2)","v":{"$error":"#DIV/0!"}},"L1",{"$f":"ROUND(J17/D40,3)","v":{"$error":"#DIV/0!"}}]
["DR1  =",{"$f":"ROUND(B19-B18,2)","v":{"$error":"#DIV/0!"}},null,null,null,null,null,null,null,null,"L5",{"$f":"ROUND(J17/D42,3)","v":{"$error":"#DIV/0!"}}]
["DLLL =",{"$f":"B23-D33","v":{"$error":"#DIV/0!"}},null,"TRIGLICERIDES OF ECN 40"]
["L2 (DLLL/LLLteor) =",{"$f":"ROUND((IF(B21=0,0.001,B21)/D33),3)","v":{"$error":"#DIV/0!"}},null,"LLLn",null,null,null,null,"L4",{"$f":"ROUND(J16/D33,2)","v":{"$error":"#DIV/0!"}}]
["LLLexp =",{"$f":"ROUND('Experimental Data'!E38,2)","v":0},null,{"$f":"ROUND($H112, 3)","v":{"$error":"#DIV/0!"}}]
["L1 (DOLLn/OLLnteor) =",{"$f":"ROUND(((B25-D35)/D35),3)","v":{"$error":"#DIV/0!"}},null,"PoLLn+OLnLn",null,null,null,null,"K =",{"$f":"ROUND(((B23+B25)*(D40+D42))/((D33+D35)*(B36+B51)),2)","v":{"$error":"#DIV/0!"}}]
["OLLnexp =",{"$f":"ROUND('Experimental Data'!F38,2)","v":0},null,{"$f":"ROUND($H110+$H109, 3)","v":{"$error":"#DIV/0!"}}]
["C2 (DECN42/ECN42teor) =",{"$f":"ROUND((ABS(B17/B15)),3)","v":{"$error":"#DIV/0!"}},null,"LnPoPo",null,null,null,null,"F =",{"$f":"ROUND(B31/J27,3)","v":{"$error":"#DIV/0!"}}]
[null,null,null,{"$f":"ROUND($H111, 3)","v":{"$error":"#DIV/0!"}},null,null,null,null,"L2 (a/LLLteor) =",{"$f":"ROUND((ABS(J16)/D33),3)","v":{"$error":"#DIV/0!"}}]
["ECN44teor (10 TAG) =",{"$f":"ROUND(D40+D42+D46+D44,3)","v":{"$error":"#DIV/0!"}},null,"PLnLn"]
["ECN44exp =",{"$f":"ROUND(SUM('Experimental Data'!I38:L38),2)","v":0},null,{"$f":"ROUND($H108, 3)","v":{"$error":"#DIV/0!"}}]
["DECN44 =",{"$f":"ROUND(B29-B28,3)","v":{"$error":"#DIV/0!"}}]
["L4 (DOLL/OLLteor) =",{"$f":"ROUND(((B37/D40)),3)","v":{"$error":"#DIV/0!"}},null,"TRIGLICERIDES OF ECN 42"]
["R2 =",{"$f":"ROUND(ABS(B31/B22),3)","v":{"$error":"#DIV/0!"}},null,"LLL ",null,null,null,"LLL","OLLn","PLLn","OLL","OOLn","PLL","SLLn","OOL"]
["ECN44pteor =",{"$f":"ROUND(D42+D44+D46,3)","v":{"$error":"#DIV/0!"}},null,{"$f":"ROUND($H113, 3)","v":{"$error":"#DIV/0!"}},null,null,null,{"$f":"D33","v":{"$error":"#DIV/0!"}},{"$f":"D35","v":{"$error":"#DIV/0!"}},{"$f":"D37","v":{"$error":"#DIV/0!"}},{"$f":"D40","v":{"$error":"#DIV/0!"}},{"$f":"D42","v":{"$error":"#DIV/0!"}},{"$f":"D44","v":{"$error":"#DIV/0!"}},{"$f":"D46","v":{"$error":"#DIV/0!"}},{"$f":"D55","v":{"$error":"#DIV/0!"}}]
["ECN44pexp =",{"$f":"ROUND(SUM('Experimental Data'!J38+'Experimental Data'!K38+'Experimental Data'!L38),2)","v":0},null,"PoLL+OLLn+GoLnLn+PoOLn+LPoPo"]
["DECN44p =",{"$f":"ROUND(B34-B33,3)","v":{"$error":"#DIV/0!"}},null,{"$f":"SUM(H114:H118)","v":{"$error":"#DIV/0!"}},null,null,null,"MW",256.39999999999998,284.5,254.4,282.5,280.39999999999998,278.39999999999998,"MW"]
["OLLexp =",{"$f":"ROUND('Experimental Data'!I38,2)","v":0},null,"PLLn+PoPoPo+SLnLn+PPoLn",null,null,null,"Area % (GLC)","Palmitic","Stearic","Palmitoleic","Oleic","Linoleic","Linolenic","Sum"]
["DOLL =",{"$f":"ABS(ROUND(B36-D40,3))","v":{"$error":"#DIV/0!"}},null,{"$f":"SUM(H119:H122)","v":{"$error":"#DIV/0!"}},null,null,null,"FA-Comp. Corr.",{"$f":"ROUND((100*$I$38)/$O$38,2)","v":{"$error":"#DIV/0!"}},{"$f":"ROUND((100*$J$38)/$O$38,2)","v":{"$error":"#DIV/0!"}},{"$f":"ROUND((100*$K$38)/$O$38,2)","v":{"$error":"#DIV/0!"}},{"$f":"ROUND((100*$L$38)/$O$38,2)","v":{"$error":"#DIV/0!"}},{"$f":"ROUND((100*$M$38)/O38,2)","v":{"$error":"#DIV/0!"}},{"$f":"ROUND((100*$N$38)/$O$38,2)","v":{"$error":"#DIV/0!"}},{"$f":"ROUND(SUM(I37:N37),0)","v":{"$error":"#DIV/0!"}}]
["DECN44p2 =",{"$f":"ROUND(B40-B39,3)","v":{"$error":"#DIV/0!"}},null,"TRIGLICERIDES OF ECN 44",null,null,null,"Input FA-Comp.",{"$f":"B7","v":0},0,0,0,0,0,{"$f":"ROUND(SUM($I$38:$N$38),2)","v":0}]
["ECN44p2teor =",{"$f":"ROUND(D44+D46,3)","v":{"$error":"#DIV/0!"}},null,"OLL+LLnGo"]
["ECN44p2exp =",{"$f":"ROUND(SUM('Experimental Data'!K38:L38),2)","v":0},null,{"$f":"ROUND(SUM(H124:H125),3)","v":{"$error":"#DIV/0!"}}]
["R3teor =",{"$f":"D40/D42","v":{"$error":"#DIV/0!"}},null,"OOLn+PoOL+GoPoLn",null,null,null,"Mol sn-1,2,3-FA:",{"$f":"ROUND(($I$37/$I$35),5)","v":{"$error":"#DIV/0!"}},{"$f":"ROUND(($J$37/$J$35),5)","v":{"$error":"#DIV/0!"}},{"$f":"ROUND(($K$37/$K$35),5)","v":{"$error":"#DIV/0!"}},{"$f":"ROUND(($L$37/$L$35),5)","v":{"$error":"#DIV/0!"}},{"$f":"ROUND(($M$37/$M$35),5)","v":{"$error":"#DIV/0!"}},{"$f":"ROUND(($N$37/$N$35),5)","v":{"$error":"#DIV/0!"}},{"$f":"ROUND(SUM($I$41:$N$41),5)","v":{"$error":"#DIV/0!"}}]
["R3exp =",{"$f":"ROUND('Experimental Data'!I38/'Experimental Data'!J38,2)","v":{"$error":"#DIV/0!"}},null,{"$f":"ROUND(SUM(H126:H128),3)","v":{"$error":"#DIV/0!"}},null,null,null,"sn-1,2,3-FA:",{"$f":"ROUND(($I$41/$O$41*100),3)","v":{"$error":"#DIV/0!"}},{"$f":"ROUND(($J$41/$O$41*100),3)","v":{"$error":"#DIV/0!"}},{"$f":"ROUND(($K$41/$O$41*100),3)","v":{"$error":"#DIV/0!"}},{"$f":"ROUND(($L$41/$O$41*100),3)","v":{"$error":"#DIV/0!"}},{"$f":"ROUND(($M$41/$O$41*100),3)","v":{"$error":"#DIV/0!"}},{"$f":"ROUND(($N$41/$O$41*100),3)","v":{"$error":"#DIV/0!"}},{"$f":"ROUND((SUM($I$42:$N$42))-($I$42+$J$42),3)","v":{"$error":"#DIV/0!"}}]
["DR3 =",{"$f":"ROUND(B42-B41,2)","v":{"$error":"#DIV/0!"}},null,"PLL+PoPoO",null,null,null,"sn-2-FA:",{"$f":"ROUND($I$42*0.06,3)","v":{"$error":"#DIV/0!"}},{"$f":"ROUND($J$42*0.06,3)","v":{"$error":"#DIV/0!"}},{"$f":"ROUND($K$42/$O$42*(100-$I$43-$J$43),3)","v":{"$error":"#DIV/0!"}},{"$f":"ROUND($L$42/$O$42*(100-$I$43-$J$43),3)","v":{"$error":"#DIV/0!"}},{"$f":"ROUND($M$42/$O$42*(100-$I$43-$J$43),3)","v":{"$error":"#DIV/0!"}},{"$f":"ROUND($N$42/$O$42*(100-$I$43-$J$43),3)","v":{"$error":"#DIV/0!"}},{"$f":"ROUND(SUM($I$43:$N$43),0)","v":{"$error":"#DIV/0!"}}]
["R4teor =",{"$f":"D40/D46","v":{"$error":"#DIV/0!"}},null,{"$f":"ROUND(SUM(H129:H130),3)","v":{"$error":"#DIV/0!"}},null,null,null,"sn-1,3-FA:",{"$f":"ROUND(($I$42-$I$43)/2+$I$42,3)","v":{"$error":"#DIV/0!"}},{"$f":"ROUND(($J$42-$J$43)/2+$J$42,3)","v":{"$error":"#DIV/0!"}},{"$f":"ROUND(($K$42-$K$43)/2+$K$42,3)","v":{"$error":"#DIV/0!"}},{"$f":"ROUND(($L$42-$L$43)/2+$L$42,3)","v":{"$error":"#DIV/0!"}},{"$f":"ROUND(($M$42-$M$43)/2+$M$42,3)","v":{"$error":"#DIV/0!"}},{"$f":"ROUND(($N$42-$N$43)/2+$N$42,3)","v":{"$error":"#DIV/0!"}},{"$f":"ROUND(SUM($I$44:$N$44),0)","v":{"$error":"#DIV/0!"}}]
["R4exp =",{"$f":"ROUND('Experimental Data'!I38/'Experimental Data'!L38,2)","v":{"$error":"#DIV/0!"}},null,"SLLn+POLn+PPoL"]
["DR4 =",{"$f":"B45-B44","v":{"$error":"#DIV/0!"}},null,{"$f":"ROUND(SUM(H131:H133),3)","v":{"$error":"#DIV/0!"}}]
["R5teor =",{"$f":"D40/(D42+D46)","v":{"$error":"#DIV/0!"}},null,null,null,null,null,"OLnL","LnLO","LnOL",{"$f":"ROUND($L$44*$N$43*$M$44*2/10000,5)","v":{"$error":"#DIV/0!"}},{"$f":"ROUND($N$44*$M$43*$L$44*2/10000,5)","v":{"$error":"#DIV/0!"}},{"$f":"ROUND($N$44*$L$43*$M$44*2/10000,5)","v":{"$error":"#DIV/0!"}},{"$f":"ROUND(SUM($K$47:$M$47),5)","v":{"$error":"#DIV/0!"}}]
["R5exp =",{"$f":"ROUND('Experimental Data'!I38/('Experimental Data'!J38+'Experimental Data'!L387),2)","v":{"$error":"#DIV/0!"}},null,null,null,null,null,"LLL",null,null,{"$f":"ROUND($M$44*$M$43*$M$44/10000,5)","v":{"$error":"#DIV/0!"}},null,null,{"$f":"ROUND(SUM($K$48:$M$48),5)","v":{"$error":"#DIV/0!"}}]
["DR5 =",{"$f":"B48-B47","v":{"$error":"#DIV/0!"}},null,null,null,null,null,"PLnL","LnLP","LnPL",{"$f":"ROUND($I$44*$N$43*$M$44*2/10000,5)","v":{"$error":"#DIV/0!"}},{"$f":"ROUND($N$44*$M$43*$I$44*2/10000,5)","v":{"$error":"#DIV/0!"}},{"$f":"ROUND($N$44*$I$43*$M$44*2/10000,5)","v":{"$error":"#DIV/0!"}},{"$f":"ROUND(SUM($K$49:$M$49),5)","v":{"$error":"#DIV/0!"}}]
["DOOLn =",{"$f":"ROUND(B51-D42,3)","v":{"$error":"#DIV/0!"}},null,null,null,null,null,"PoOLn","OPoLn","OLnPo",{"$f":"ROUND($K$44*$L$43*$N$44*2/10000,5)","v":{"$error":"#DIV/0!"}},{"$f":"ROUND($L$44*$K$43*$N$44*2/10000,5)","v":{"$error":"#DIV/0!"}},{"$f":"ROUND($L$44*$N$43*$K$44*2/10000,5)","v":{"$error":"#DIV/0!"}},{"$f":"ROUND(SUM($K$50:$M$50),5)","v":{"$error":"#DIV/0!"}}]
["OOLnexp",{"$f":"ROUND('Experimental Data'!J38,2)","v":0},null,null,null,null,null,"PoLL","LPoL",null,{"$f":"ROUND($K$44*$M$43*$M$44*2/10000,5)","v":{"$error":"#DIV/0!"}},{"$f":"ROUND($M$44*$K$43*$M$44/10000,5)","v":{"$error":"#DIV/0!"}},null,{"$f":"ROUND(SUM($K$51:$M$51),5)","v":{"$error":"#DIV/0!"}}]
["CR2  =",{"$f":"(ROUND((B30/B28),3))/B26","v":{"$error":"#DIV/0!"}},null,null,null,null,null,"PPoLn","PoPLn","PLnPo",{"$f":"ROUND($I$44*$K$43*$N$44*2/10000,5)","v":{"$error":"#DIV/0!"}},{"$f":"ROUND($K$44*$I$43*$N$44*2/10000,5)","v":{"$error":"#DIV/0!"}},{"$f":"ROUND($I$44*$N$43*$K$44*2/10000,5)","v":{"$error":"#DIV/0!"}},{"$f":"ROUND(SUM($K$52:$M$52),5)","v":{"$error":"#DIV/0!"}}]
[null,null,null,"TRIGLICERIDES OF ECN 46",null,null,null,"PoPoL","PoLPo",null,{"$f":"ROUND($K$44*$K$43*$M$44*2/10000,5)","v":{"$error":"#DIV/0!"}},{"$f":"ROUND($K$44*$M$43*$K$44/10000,5)","v":{"$error":"#DIV/0!"}},null,{"$f":"ROUND(SUM($K$53:$M$53),5)","v":{"$error":"#DIV/0!"}}]
["ECN46teor (20 TAG) =",{"$f":"ROUND(D55+D57+D59+D61,3)","v":{"$error":"#DIV/0!"}},null,"ALnLn+SPoLn+GoLL+PPoPo+OOL+PoLGo+OLnGo",null,null,null,"SLnLn","LnSLn"," ",{"$f":"ROUND($J$44*$N$43*$N$44*2/10000,5)","v":{"$error":"#DIV/0!"}},{"$f":"ROUND($N$44*$J$43*$N$44/10000,5)","v":{"$error":"#DIV/0!"}},null,{"$f":"ROUND(SUM($K$54:$M$54),5)","v":{"$error":"#DIV/0!"}}]
["ECN46exp =",null,null,{"$f":"ROUND(SUM(H135:H141),3)","v":{"$error":"#DIV/0!"}},null,null,null,"PoPoPo"," "," ",{"$f":"ROUND($K$44*$K$43*$K$44/10000,5)","v":{"$error":"#DIV/0!"}},null,null,{"$f":"ROUND(SUM($K$55:$M$55),5)","v":{"$error":"#DIV/0!"}}]
["DECN46 =",{"$f":"ROUND(B55-B54,2)","v":{"$error":"#DIV/0!"}},null,"PoOO+PoPoGo+LnPP",null,null,null,null,null,null,null,null,null,{"$f":"SUM(N47:N55)","v":{"$error":"#DIV/0!"}}]
["OOLexp =",{"$f":"ROUND('Experimental Data'!N38,3)","v":0},null,{"$f":"ROUND(SUM(H142:H144),3)","v":{"$error":"#DIV/0!"}},null,null,null,null,null,null,null,null,null,{"$f":"N56","v":{"$error":"#DIV/0!"}}]
["DOOL =",{"$f":"(B57-D55)*(-1)","v":{"$error":"#DIV/0!"}},null,"SLL+PLO+PLnGo+ALLn",null,null,null,null,null,null,null,"DECN42 =",{"$f":"ABS(B16-N57)","v":{"$error":"#DIV/0!"}}]
["L6 (DPLO/PLOteor) =",{"$f":"ROUND((B60-D59)/D59,3)","v":{"$error":"#DIV/0!"}},null,{"$f":"ROUND(SUM(H145:H148),3)","v":{"$error":"#DIV/0!"}}]
["PLOexp =",null,null,"SPoL+SOLn+PPoO+APoLn+SPoPo+GoOL"]
[null,null,null,{"$f":"ROUND(SUM(H149:H154),3)","v":{"$error":"#DIV/0!"}}]
[]
[]
[null,null,null,"TRIGLICERIDES OF ECN 48"]
["ECN48 (11 TAG) =",{"$f":"ROUND(D66+D68+D70,3)","v":{"$error":"#DIV/0!"}},null,"PLP+OOO+PLnS+PoPP"]
["DPOP =",null,null,{"$f":"ROUND(SUM(H156:H159),3)","v":{"$error":"#DIV/0!"}}]
[null,null,null,"ALL+SOL+POO+SPoO"]
[null,null,null,{"$f":"ROUND(SUM(H161:H164),3)","v":{"$error":"#DIV/0!"}}]
[null,null,null,"PLS+GoOO+POP+PPoS"]
[null,null,null,{"$f":"ROUND(SUM(H165:H168),3)","v":{"$error":"#DIV/0!"}}]
[]
[null,null,null,"TRIGLICRIDES OF ECN 50"]
["ECN50 (5 TAG) =",{"$f":"ROUND(D74+D76+D78+D80,3)","v":{"$error":"#DIV/0!"}},null,"AOL"]
[null,null,null,{"$f":"ROUND(H170,3)","v":{"$error":"#DIV/0!"}}]
[null,null,null,"SOO"]
[null,null,null,{"$f":"ROUND(H171,3)","v":{"$error":"#DIV/0!"}}]
[null,null,null,"SLS"]
[null,null,null,{"$f":"ROUND(SUM(H173),3)","v":{"$error":"#DIV/0!"}}]
[null,null,null,"POS"]
[null,null,null,{"$f":"ROUND(SUM(H172),3)","v":{"$error":"#DIV/0!"}}]
[null,null,null,"TRIGLICRIDES OF ECN 52"]
["ECN52 (1 TAG) =",{"$f":"ROUND(D83,3)","v":{"$error":"#DIV/0!"}},null,"AOO"]
[null,null,null,{"$f":"ROUND(H176,3)","v":{"$error":"#DIV/0!"}}]
[]
[null,null,null,"TRIGLICRIDES OF ECN 54"]
[]
[null,null,null,"TRIGLICRIDES OF ECN 56"]
[]
[null,null,null,"TRIGLICRIDES OF ECN 58"]
[null,null,null,"BOO","BOL","BLL","BOS"]
[null,null,null,{"$f":"D182+E182","v":{"$error":"#DIV/0!"}},{"$f":"SUM(E184:G184)","v":{"$error":"#DIV/0!"}},{"$f":"D183+E183","v":{"$error":"#DIV/0!"}},{"$f":"SUM(E185:G185)","v":{"$error":"#DIV/0!"}}]
[]
[]
[]
[]
[]
[]
[]
[]
[]
[]
[]
[]
[]
["TAG 36","LnLnLn",null,null,null,null,null,{"$f":"SUM(C105)","v":0}]
["TAG 38","PoLnLn","LnPoLn",{"$f":"G12*G11*D12*2/10000","v":{"$error":"#DIV/0!"}},{"$f":"G12*D11*G12/10000","v":{"$error":"#DIV/0!"}},null,null,{"$f":"SUM(D106:E106)","v":{"$error":"#DIV/0!"}}]
["TAG 38","LLnLn","LnLLn",{"$f":"G12*G11*F12*2/10000","v":{"$error":"#DIV/0!"}},{"$f":"G12*F11*G12/10000","v":{"$error":"#DIV/0!"}},null,null,{"$f":"SUM(D107:E107)","v":{"$error":"#DIV/0!"}}]
["TAG 40","PLnLn","LnPLn",{"$f":"G12*G11*B12*2/10000","v":{"$error":"#DIV/0!"}},{"$f":"G12*B11*G12/10000","v":{"$error":"#DIV/0!"}},null,null,{"$f":"SUM(D108:E108)","v":{"$error":"#DIV/0!"}}]
["TAG 40","OLnLn","LnOLn",{"$f":"G12*G11*E12*2/10000","v":{"$error":"#DIV/0!"}},{"$f":"G12*E11*G12/10000","v":{"$error":"#DIV/0!"}},null,null,{"$f":"SUM(D109:E109)","v":{"$error":"#DIV/0!"}}]
["TAG 40","PoLLn","LLnPo","LnPoL",{"$f":"D12*F11*G12*2/10000","v":{"$error":"#DIV/0!"}},{"$f":"F12*G11*D12*2/10000","v":{"$error":"#DIV/0!"}},{"$f":"G12*D11*F12*2/10000","v":{"$error":"#DIV/0!"}},{"$f":"SUM(E110:G110)","v":{"$error":"#DIV/0!"}}]
["TAG 40","LnPoPo","PoLnPo",{"$f":"D12*D11*G12*2/10000","v":{"$error":"#DIV/0!"}},{"$f":"D12*G11*D12/10000","v":{"$error":"#DIV/0!"}},null,null,{"$f":"SUM(D111:E111)","v":{"$error":"#DIV/0!"}}]
["TAG 40","LLLn","LLnL",{"$f":"F12*F11*G12*2/10000","v":{"$error":"#DIV/0!"}},{"$f":"F12*G11*F12/10000","v":{"$error":"#DIV/0!"}},null,null,{"$f":"SUM(D112:E112)","v":{"$error":"#DIV/0!"}}]
["TAG 42","LLL",{"$f":"$F12*$F11*$F12/10000","v":{"$error":"#DIV/0!"}},null,null,null,null,{"$f":"SUM(C113)","v":{"$error":"#DIV/0!"}}]
["TAG 42","PoLL","LPoL",{"$f":"$D12*$F11*$F12*2/10000","v":{"$error":"#DIV/0!"}},{"$f":"$F12*$D11*$F12/10000","v":{"$error":"#DIV/0!"}},null,null,{"$f":"SUM(D114:E114)","v":{"$error":"#DIV/0!"}}]
["TAG 42","OLLn","LnOL","LLnO",{"$f":"$E12*$F11*$G12*2/10000","v":{"$error":"#DIV/0!"}},{"$f":"$G12*$E11*$F12*2/10000","v":{"$error":"#DIV/0!"}},{"$f":"$F12*$G11*$E12*2/10000","v":{"$error":"#DIV/0!"}},{"$f":"SUM(E115:G115)","v":{"$error":"#DIV/0!"}}]
["TAG 42","GoLnLn","LnGoLn",{"$f":"$G12*$G11*$I12*2/10000","v":{"$error":"#DIV/0!"}},{"$f":"$G12*$I11*$G12/10000","v":{"$error":"#DIV/0!"}},null,null,{"$f":"SUM(D116:E116)","v":{"$error":"#DIV/0!"}}]
["TAG 42","PoOLn","LnPoO","OLnPo",{"$f":"$D12*$E11*$G12*2/10000","v":{"$error":"#DIV/0!"}},{"$f":"$G12*$D11*$E12*2/10000","v":{"$error":"#DIV/0!"}},{"$f":"$E12*$G11*$D12*2/10000","v":{"$error":"#DIV/0!"}},{"$f":"SUM(E117:G117)","v":{"$error":"#DIV/0!"}}]
["TAG 42","LPoPo","PoLPo",{"$f":"$D12*$D11*$F12*2/10000","v":{"$error":"#DIV/0!"}},{"$f":"$D12*$F11*$D12/10000","v":{"$error":"#DIV/0!"}},null,null,{"$f":"SUM(D118:E118)","v":{"$error":"#DIV/0!"}}]
["TAG 42","PoPoPo",{"$f":"$D12*$D11*$D12/10000","v":{"$error":"#DIV/0!"}},null,null,null,null,{"$f":"SUM(C119)","v":{"$error":"#DIV/0!"}}]
["TAG 42","PLLn","LnPL","LLnP",{"$f":"$B12*$F11*$G12*2/10000","v":{"$error":"#DIV/0!"}},{"$f":"$G12*$B11*$F12*2/10000","v":{"$error":"#DIV/0!"}},{"$f":"$F12*$G11*$B12*2/10000","v":{"$error":"#DIV/0!"}},{"$f":"SUM(E120:G120)","v":{"$error":"#DIV/0!"}}]
["TAG 42","SLnLn","LnSLn",{"$f":"$C12*$G11*$G12*2/10000","v":{"$error":"#DIV/0!"}},{"$f":"$G12*$C11*$G12/10000","v":{"$error":"#DIV/0!"}},null,null,{"$f":"SUM(D121:E121)","v":{"$error":"#DIV/0!"}}]
["TAG 42","PPoLn","LnPPo","PoLnP",{"$f":"$B12*$D11*$G12*2/10000","v":{"$error":"#DIV/0!"}},{"$f":"$G12*$B11*$D12*2/10000","v":{"$error":"#DIV/0!"}},{"$f":"$D12*$G11*$B12*2/10000","v":{"$error":"#DIV/0!"}},{"$f":"SUM(E122:G122)","v":{"$error":"#DIV/0!"}}]
[]
["TAG 44","OLL","LOL",{"$f":"$F12*$F11*$E12*2/10000","v":{"$error":"#DIV/0!"}},{"$f":"$F12*$E11*$F12/10000","v":{"$error":"#DIV/0!"}},null,null,{"$f":"SUM(D124:E124)","v":{"$error":"#DIV/0!"}}]
["TAG 44","LLnGo","GoLLn","LnGoL",{"$f":"$F12*$G11*$I12*2/10000","v":{"$error":"#DIV/0!"}},{"$f":"$I12*$F11*$G12*2/10000","v":{"$error":"#DIV/0!"}},{"$f":"$G12*$I11*$F12*2/10000","v":{"$error":"#DIV/0!"}},{"$f":"SUM(E125:G125)","v":{"$error":"#DIV/0!"}}]
["TAG 44","OOLn","OLnO",{"$f":"$E12*$E11*$G12*2/10000","v":{"$error":"#DIV/0!"}},{"$f":"$E12*$G11*$E12/10000","v":{"$error":"#DIV/0!"}},null,null,{"$f":"SUM(D126:E126)","v":{"$error":"#DIV/0!"}}]
["TAG 44","PoOL","LPoO","OLPo",{"$f":"$D12*$E11*$F12*2/10000","v":{"$error":"#DIV/0!"}},{"$f":"$F12*$D11*$E12*2/10000","v":{"$error":"#DIV/0!"}},{"$f":"$E12*$F11*$D12*2/10000","v":{"$error":"#DIV/0!"}},{"$f":"SUM(E127:G127)","v":{"$error":"#DIV/0!"}}]
["TAG 44","PoLnGo","GoPoLn","LnGoPo",{"$f":"$D12*$G11*$I12*2/10000","v":{"$error":"#DIV/0!"}},{"$f":"$I12*$D11*$G12*2/10000","v":{"$error":"#DIV/0!"}},{"$f":"$G12*$I11*$D12*2/10000","v":{"$error":"#DIV/0!"}},{"$f":"SUM(E128:G128)","v":{"$error":"#DIV/0!"}}]
["TAG 44","OPoPo","PoOPo",{"$f":"$D12*$D11*$E12*2/10000","v":{"$error":"#DIV/0!"}},{"$f":"$D12*$E11*$D12/10000","v":{"$error":"#DIV/0!"}},null,null,{"$f":"SUM(D129:E129)","v":{"$error":"#DIV/0!"}}]
["TAG 44","PLL","LPL",{"$f":"$F12*$F11*$B12*2/10000","v":{"$error":"#DIV/0!"}},{"$f":"$F12*$B11*$F12/10000","v":{"$error":"#DIV/0!"}},null,null,{"$f":"SUM(D130:E130)","v":{"$error":"#DIV/0!"}}]
["TAG 44","SLLn","LnSL","LLnS",{"$f":"$C12*$F11*$G12*2/10000","v":{"$error":"#DIV/0!"}},{"$f":"$G12*$C11*$F12*2/10000","v":{"$error":"#DIV/0!"}},{"$f":"$F12*$G11*$C12*2/10000","v":{"$error":"#DIV/0!"}},{"$f":"SUM(E131:G131)","v":{"$error":"#DIV/0!"}}]
["TAG 44","POLn","LnPO","OLnP",{"$f":"$B12*$E11*$G12*2/10000","v":{"$error":"#DIV/0!"}},{"$f":"$G12*$B11*$E12*2/10000","v":{"$error":"#DIV/0!"}},{"$f":"$E12*$G11*$B12*2/10000","v":{"$error":"#DIV/0!"}},{"$f":"SUM(E132:G132)","v":{"$error":"#DIV/0!"}}]
["TAG 44","PPoL","LPPo","PoLP",{"$f":"$B12*$D11*$F12*2/10000","v":{"$error":"#DIV/0!"}},{"$f":"$F12*$B11*$D12*2/10000","v":{"$error":"#DIV/0!"}},{"$f":"$D12*$F11*$B12*2/10000","v":{"$error":"#DIV/0!"}},{"$f":"SUM(E133:G133)","v":{"$error":"#DIV/0!"}}]
[]
["TAG 46","ArLnLn","LnArLn",{"$f":"$G12*$G11*$H12*2/10000","v":{"$error":"#DIV/0!"}},{"$f":"$G12*$H11*$G12/10000","v":{"$error":"#DIV/0!"}},null,null,{"$f":"SUM(D135:E135)","v":{"$error":"#DIV/0!"}}]
["TAG 46","SPoLn","LnSPo","PoLnS",{"$f":"$C12*$D11*$G12*2/10000","v":{"$error":"#DIV/0!"}},{"$f":"$G12*$C11*$D12*2/10000","v":{"$error":"#DIV/0!"}},{"$f":"$D12*$G11*$C12*2/10000","v":{"$error":"#DIV/0!"}},{"$f":"SUM(E136:G136)","v":{"$error":"#DIV/0!"}}]
["TAG 46","GoLL","LGoL",{"$f":"$F12*$F11*$I12*2/10000","v":{"$error":"#DIV/0!"}},{"$f":"$F12*$I11*$F12/10000","v":{"$error":"#DIV/0!"}},null,null,{"$f":"SUM(D137:E137)","v":{"$error":"#DIV/0!"}}]
["TAG 46","PPoPo","PoPPo",{"$f":"$D12*$D11*$B12*2/10000","v":{"$error":"#DIV/0!"}},{"$f":"$D12*$B11*$D12/10000","v":{"$error":"#DIV/0!"}},null,null,{"$f":"SUM(D138:E138)","v":{"$error":"#DIV/0!"}}]
["TAG 46","LOO","OLO",{"$f":"$E12*$E11*$F12*2/10000","v":{"$error":"#DIV/0!"}},{"$f":"$E12*$F11*$E12/10000","v":{"$error":"#DIV/0!"}},null,null,{"$f":"SUM(D139:E139)","v":{"$error":"#DIV/0!"}}]
["TAG 46","PoLGo","GoPoL","LGoPo",{"$f":"$D12*$F11*$I12*2/10000","v":{"$error":"#DIV/0!"}},{"$f":"$I12*$D11*$F12*2/10000","v":{"$error":"#DIV/0!"}},{"$f":"$F12*$I11*$D12*2/10000","v":{"$error":"#DIV/0!"}},{"$f":"SUM(E140:G140)","v":{"$error":"#DIV/0!"}}]
["TAG 46","OLnGo","GoOLn","LnGoO",{"$f":"$E12*$G11*$I12*2/10000","v":{"$error":"#DIV/0!"}},{"$f":"$I12*$E11*$G12*2/10000","v":{"$error":"#DIV/0!"}},{"$f":"$G12*$I11*$E12*2/10000","v":{"$error":"#DIV/0!"}},{"$f":"SUM(E141:G141)","v":{"$error":"#DIV/0!"}}]
["TAG 46","PoOO","OPoO",{"$f":"$E12*$E11*$D12*2/10000","v":{"$error":"#DIV/0!"}},{"$f":"$E12*$D11*$E12/10000","v":{"$error":"#DIV/0!"}},null,null,{"$f":"SUM(D142:E142)","v":{"$error":"#DIV/0!"}}]
["TAG 46","GoPoPo","PoGoPo",{"$f":"$D12*$D11*$I12*2/10000","v":{"$error":"#DIV/0!"}},{"$f":"$D12*$I11*$D12/10000","v":{"$error":"#DIV/0!"}},null,null,{"$f":"SUM(D143:E143)","v":{"$error":"#DIV/0!"}}]
["TAG 46","LnPP","PLnP",{"$f":"$B12*$B11*$G12*2/10000","v":{"$error":"#DIV/0!"}},{"$f":"$B12*$G11*$B12/10000","v":{"$error":"#DIV/0!"}},null,null,{"$f":"SUM(D144:E144)","v":{"$error":"#DIV/0!"}}]
["TAG 46","SLL","LSL",{"$f":"$F12*$F11*$C12*2/10000","v":{"$error":"#DIV/0!"}},{"$f":"$F12*$C11*$F12/10000","v":{"$error":"#DIV/0!"}},null,null,{"$f":"SUM(D145:E145)","v":{"$error":"#DIV/0!"}}]
["TAG 46","PLO","OPL","LOP",{"$f":"$B12*$F11*$E12*2/10000","v":{"$error":"#DIV/0!"}},{"$f":"$E12*$B11*$F12*2/10000","v":{"$error":"#DIV/0!"}},{"$f":"$F12*$E11*$B12*2/10000","v":{"$error":"#DIV/0!"}},{"$f":"SUM($E$146:$G$146)","v":{"$error":"#DIV/0!"}}]
["TAG 46","PLnGo","GoPLn","LnGoP",{"$f":"$B12*$G11*$I12*2/10000","v":{"$error":"#DIV/0!"}},{"$f":"$I12*$B11*$G12*2/10000","v":{"$error":"#DIV/0!"}},{"$f":"$G12*$I11*$B12*2/10000","v":{"$error":"#DIV/0!"}},{"$f":"SUM($E$147:$G$147)","v":{"$error":"#DIV/0!"}}]
["TAG 46","ArLLn","LnArL","LLnAr",{"$f":"$H12*$F11*$G12*2/10000","v":{"$error":"#DIV/0!"}},{"$f":"$G12*$H11*$F12*2/10000","v":{"$error":"#DIV/0!"}},{"$f":"$F12*$G11*$H12*2/10000","v":{"$error":"#DIV/0!"}},{"$f":"SUM($E$148:$G$148)","v":{"$error":"#DIV/0!"}}]
["TAG 46","SPoL","LSPo","PoLS",{"$f":"$C12*$D11*$F12*2/10000","v":{"$error":"#DIV/0!"}},{"$f":"$F12*$C11*$D12*2/10000","v":{"$error":"#DIV/0!"}},{"$f":"$D12*$F11*$C12*2/10000","v":{"$error":"#DIV/0!"}},{"$f":"SUM($E$149:$G$149)","v":{"$error":"#DIV/0!"}}]
["TAG 46","SOLn","LnSO","OLnS",{"$f":"$C12*$E11*$G12*2/10000","v":{"$error":"#DIV/0!"}},{"$f":"$G12*$C11*$E12*2/10000","v":{"$error":"#DIV/0!"}},{"$f":"$E12*$G11*$C12*2/10000","v":{"$error":"#DIV/0!"}},{"$f":"SUM($E$150:$G$150)","v":{"$error":"#DIV/0!"}}]
["TAG 46","PPoO","OPPo","PoOP",{"$f":"$B12*$D11*$E12*2/10000","v":{"$error":"#DIV/0!"}},{"$f":"$E12*$B11*$D12*2/10000","v":{"$error":"#DIV/0!"}},{"$f":"$D12*$E11*$B12*2/10000","v":{"$error":"#DIV/0!"}},{"$f":"SUM($E$151:$G$151)","v":{"$error":"#DIV/0!"}}]
["TAG 46","ArPoLn","LnArPo","PoLnAr",{"$f":"$H12*$D11*$G12*2/10000","v":{"$error":"#DIV/0!"}},{"$f":"$G12*$H11*$D12*2/10000","v":{"$error":"#DIV/0!"}},{"$f":"$D12*$G11*$H12*2/10000","v":{"$error":"#DIV/0!"}},{"$f":"SUM($E$152:$G$152)","v":{"$error":"#DIV/0!"}}]
["TAG 46","SPoPo","PoSPo",{"$f":"$D12*$D11*$C12*2/10000","v":{"$error":"#DIV/0!"}},{"$f":"$D12*$C11*$D12/10000","v":{"$error":"#DIV/0!"}},null,null,{"$f":"SUM(D153:E153)","v":{"$error":"#DIV/0!"}}]
["TAG 46","OLGo","GoOL","LGoO",{"$f":"$E12*$F11*$I12*2/10000","v":{"$error":"#DIV/0!"}},{"$f":"$I12*$E11*$F12*2/10000","v":{"$error":"#DIV/0!"}},{"$f":"$F12*$I11*$E12*2/10000","v":{"$error":"#DIV/0!"}},{"$f":"SUM(E154:G154)","v":{"$error":"#DIV/0!"}}]
[]
["TAG 48","PPL","PLP",{"$f":"$B12*$B11*$F12*2/10000","v":{"$error":"#DIV/0!"}},{"$f":"$B12*$F11*$B12/10000","v":{"$error":"#DIV/0!"}},null,null,{"$f":"SUM(D156:E156)","v":{"$error":"#DIV/0!"}}]
["TAG 48","OOO",{"$f":"$E12*$E11*$E12/10000","v":{"$error":"#DIV/0!"}},null,null,null,null,{"$f":"SUM(C157)","v":{"$error":"#DIV/0!"}}]
["TAG 48","PLnS","SPLn","LnSP",{"$f":"$B12*$G11*$C12*2/10000","v":{"$error":"#DIV/0!"}},{"$f":"$C12*$B11*$G12*2/10000","v":{"$error":"#DIV/0!"}},{"$f":"$G12*$C11*$B12*2/10000","v":{"$error":"#DIV/0!"}},{"$f":"SUM(E158:G158)","v":{"$error":"#DIV/0!"}}]
["TAG 48","PoPP","PPoP",{"$f":"$B12*$B11*$D12*2/10000","v":{"$error":"#DIV/0!"}},{"$f":"$B12*$D11*$B12/10000","v":{"$error":"#DIV/0!"}},null,null,{"$f":"SUM(D159:E159)","v":{"$error":"#DIV/0!"}}]
["TAG 48","SSPo","SPoS",{"$f":"$C12*$C11*$D12*2/10000","v":{"$error":"#DIV/0!"}},{"$f":"$C12*$D11*$C12/10000","v":{"$error":"#DIV/0!"}},null,null,{"$f":"SUM(D160:E160)","v":{"$error":"#DIV/0!"}}]
["TAG 48","ALL","LAL",{"$f":"$H12*$F11*$F12*2/10000","v":{"$error":"#DIV/0!"}},{"$f":"$F12*$H11*$F12/10000","v":{"$error":"#DIV/0!"}},null,null,{"$f":"SUM(D161:E161)","v":{"$error":"#DIV/0!"}}]
["TAG 48","SOL","LSO","OLS",{"$f":"$C12*$E11*$F12*2/10000","v":{"$error":"#DIV/0!"}},{"$f":"$F12*$C11*$E12*2/10000","v":{"$error":"#DIV/0!"}},{"$f":"$E12*$F11*$C12*2/10000","v":{"$error":"#DIV/0!"}},{"$f":"SUM(E162:G162)","v":{"$error":"#DIV/0!"}}]
["TAG 48","POO","OPO",{"$f":"$B12*$E11*$E12*2/10000","v":{"$error":"#DIV/0!"}},{"$f":"$E12*$B11*$E12/10000","v":{"$error":"#DIV/0!"}},null,null,{"$f":"SUM(D163:E163)","v":{"$error":"#DIV/0!"}}]
["TAG 48","SPoO","OSPo","PoOS",{"$f":"$C12*$D11*$E12*2/10000","v":{"$error":"#DIV/0!"}},{"$f":"$E12*$C11*$D12*2/10000","v":{"$error":"#DIV/0!"}},{"$f":"$D12*$E11*$C12*2/10000","v":{"$error":"#DIV/0!"}},{"$f":"SUM(E164:G164)","v":{"$error":"#DIV/0!"}}]
["TAG 48","PLS","SPL","LSP",{"$f":"$B12*$F11*$C12*2/10000","v":{"$error":"#DIV/0!"}},{"$f":"$C12*$B11*$F12*2/10000","v":{"$error":"#DIV/0!"}},{"$f":"$F12*$C11*$B12*2/10000","v":{"$error":"#DIV/0!"}},{"$f":"SUM(E165:G165)","v":{"$error":"#DIV/0!"}}]
["TAG 48","OOGo","OGoO",{"$f":"$E12*$E11*$I12*2/10000","v":{"$error":"#DIV/0!"}},{"$f":"$E12*$I11*$E12/10000","v":{"$error":"#DIV/0!"}},null,null,{"$f":"SUM(D166:E166)","v":{"$error":"#DIV/0!"}}]
["TAG 48","PPO","POP",{"$f":"$B12*$B11*$E12*2/10000","v":{"$error":"#DIV/0!"}},{"$f":"$B12*$E11*$B12/10000","v":{"$error":"#DIV/0!"}},null,null,{"$f":"SUM(D167:E167)","v":{"$error":"#DIV/0!"}}]
["TAG 48","PPoS","SPPo","PoSP",{"$f":"B12*D11*C12*2/10000","v":{"$error":"#DIV/0!"}},{"$f":"C12*B11*D12*2/10000","v":{"$error":"#DIV/0!"}},{"$f":"D12*C11*B12*2/10000","v":{"$error":"#DIV/0!"}},{"$f":"SUM(E168:G168)","v":{"$error":"#DIV/0!"}}]
[]
["TAG 50","AOL","LAO","OLA",{"$f":"$H12*$E11*$F12*2/10000","v":{"$error":"#DIV/0!"}},{"$f":"$F12*$H11*$E12*2/10000","v":{"$error":"#DIV/0!"}},{"$f":"$E12*$F11*$H12*2/10000","v":{"$error":"#DIV/0!"}},{"$f":"SUM(E170:G170)","v":{"$error":"#DIV/0!"}}]
["TAG 50","OOS","OSO",{"$f":"$C12*$E11*$E12*2/10000","v":{"$error":"#DIV/0!"}},{"$f":"$E12*$C11*$E12/10000","v":{"$error":"#DIV/0!"}},null,null,{"$f":"SUM(D171:E171)","v":{"$error":"#DIV/0!"}}]
["TAG 50","POS","OSP","SPO",{"$f":"$B12*$E11*$C12*2/10000","v":{"$error":"#DIV/0!"}},{"$f":"$E12*$C11*$B12*2/10000","v":{"$error":"#DIV/0!"}},{"$f":"$C12*$B11*$E12*2/10000","v":{"$error":"#DIV/0!"}},{"$f":"SUM(E172:G172)","v":{"$error":"#DIV/0!"}}]
["TAG 50","SSL","SLS",{"$f":"$C12*$C11*$F12*2/10000","v":{"$error":"#DIV/0!"}},{"$f":"$C12*$F11*$C12/10000","v":{"$error":"#DIV/0!"}},null,null,{"$f":"SUM(D173:E173)","v":{"$error":"#DIV/0!"}}]
["TAG 50","SSPo","SPoS",{"$f":"$C12*$C11*$D12*2/10000","v":{"$error":"#DIV/0!"}},{"$f":"$C12*$D11*$C12/10000","v":{"$error":"#DIV/0!"}},null,null,{"$f":"SUM(D174:E174)","v":{"$error":"#DIV/0!"}}]
[]
["TAG 52","AOO","OAO",{"$f":"$H12*$E11*$E12*2/10000","v":{"$error":"#DIV/0!"}},{"$f":"$E12*$H11*$E12/10000","v":{"$error":"#DIV/0!"}},null,null,{"$f":"SUM(D176:E176)","v":{"$error":"#DIV/0!"}}]
[]
[]
[]
[]
[]
["TAG 58","BOO","OBO",{"$f":"J12*E11*E12*2/10000","v":{"$error":"#DIV/0!"}},{"$f":"E12*J11*E12/10000","v":{"$error":"#DIV/0!"}}]
["TAG 58","BLL","LBL",{"$f":"J12*F11*F12*2/10000","v":{"$error":"#DIV/0!"}},{"$f":"F12*J11*F12/10000","v":{"$error":"#DIV/0!"}}]
["TAG 58","BOL","LBO","OLB",{"$f":"J12*E11*F12*2/10000","v":{"$error":"#DIV/0!"}},{"$f":"F12*J11*E12*2/10000","v":{"$error":"#DIV/0!"}},{"$f":"E12*F11*J12*2/10000","v":{"$error":"#DIV/0!"}}]
["TAG 58","BOS","SBO","OSB",{"$f":"J12*E11*C12*2/10000","v":{"$error":"#DIV/0!"}},{"$f":"C12*J11*E12*2/10000","v":{"$error":"#DIV/0!"}},{"$f":"E12*C11*J12*2/10000","v":{"$error":"#DIV/0!"}}]
[]
[]
[]
["TAG 48","LnGoGo","GoLnGo",{"$f":"G12*I11*I12*2/10000","v":{"$error":"#DIV/0!"}},{"$f":"I12*G11*I12/10000","v":{"$error":"#DIV/0!"}}]